Workbook

Sheet DATA ENTRY PAGE
C4: WETLAND AND SURACE WATER IMPACTS SUMMARY
F5: WETLAND IMPACTS | K5: SURFACE WATER IMPACTS
J6: Hand | M6: Existing | N6: Existing
F7: Permanent | G7: Temp. | H7: Excavation | I7: Mechanized | J7: Clearing | K7: Permanent | L7: Temp. | M7: Channel | N7: Channel | O7: Natural
C8: Site | D8: Station | E8: Structure | F8: Fill In | G8: Excavation | H8: in | I8: Clearing | J8: in | K8: SW | L8: SW | M8: Impacts | N8: Impacts | O8: Stream
C9: No. | D9: (From/To) | E9: Size / Type | F9: Wetlands | G9: In Wetlands | H9: Wetlands | I9: in Wetlands | J9: Wetlands | K9: impacts | L9: impacts | M9: Permanent | N9: Temp. | O9: Design
F10: (ac) | G10: (ac) | H10: (ac) | I10: (ac) | J10: (ac) | K10: (ac) | L10: (ac) | M10: (ft) | N10: (ft) | O10: (ft)
C11: 1 | D11: 19+20 to 19+73 -L1-LT | E11: CULVERT | K11: 0.0059 | M11: 10
E12: BANK STABILIZATION | K12: 0.0092 | L12: 0.0025 | M12: 33 | N12: 13
C14: 3 | D14: 15+18 to 15+46-LREV-LT | E14: 15" PIPE/ 24"CSP | F14: 0.0049 | H14: 0.002 | I14: 0.0047
C15: 4 | D15: 40+78 to 41+92-LREV-RT | E15: ROADWAY FILL | F15: 0.0198
E16: POND | K16: 0.2077
C17: 5 | D17: 48+91 to 49+79-LREV-RT | E17: ROADWAY FILL | F17: 0.0065 | H17: 0.0062 | I17: 0.0859 | J17: 0.0308
C18: 6 | D18: 51+87 to 57+80 -LREV- | E18: 48" RCP | F18: 1.5726 | H18: 0.0301 | I18: 0.0677 | J18: 0.18 | K18: 0.021 | L18: 0.0009 | M18: 463 | N18: 10
C19: 7 | D19: 59+46 to 60+07-LREV- | E19: 30" RCP | K19: 0.009 | L19: 0.001 | M19: 372 | N19: 16
C20: 8 | D20: 66+34 to 79+65-LREV- | E20: ROADWAY FILL | K20: 0.202 | L20: 0.0462 | M20: 1945 | N20: 514
E21: STABILIZATION | K21: 0.0084 | L21: 0.0058 | M21: 64 | N21: 37
C22: 9 | D22: 67+37 to 70+18-LREV-LT | E22: ROADWAY FILL | F22: 0.2815
C23: 10 | D23: 70+17 to 71+41-LREV- | E23: 30" RCP | K23: 0.006 | L23: 0.001 | M23: 250 | N23: 10
E24: STABILIZATION | K24: 0.0002 | M24: 9
C25: 11 | D25: 72+71 to 73+27-LREV-LT | E25: ROADWAY FILL | F25: 0.0792 | H25: 0.0302
C26: 12 | D26: 78+80 to 81+30-LREV- | E26: ROADWAY FILL | F26: 0.474 | I26: 0.0254
C27: 13 | D27: 81+19 to 82+63-L-LT | E27: ROADWAY FILL | F27: 0.1734 | I27: 0.028
C28: 14 | D28: 83+13 to 83+46-LREV- | E28: BANK STABILIZATION | K28: 0.006 | L28: 0.009 | M28: 57 | N28: 10
C29: 14A | D29: 84+63 to 85+49-LREV-LT | E29: ROADWAY FILL | K29: 0.0109 | L29: 0.0014 | M29: 237 | N29: 29
C30: 15 | D30: 85+31 to 90+05-L- | E30: ROADWAY FILL | F30: 1.797 | H30: 0.0047 | I30: 0.1573
C31: 16 | D31: 108+15 to 110+35-L- | E31: ROADWAY FILL | H31: 0.5138 | I31: 0.1534
C32: 17 | D32: 115+52 to 116+14 -L-RT | E32: ROADWAY FILL | F32: 0.1042 | H32: 0.0013 | I32: 0.0174
C33: 18 | D33: 125+08 to 127+71L-L | E33: 1@6'x8' RCBC | F33: 0.8775 | G33: 0.0112 | I33: 0.1513 | K33: 0.012 | M33: 271
E34: STABILIZATION | K34: 0.0037 | L34: 0.0038 | M34: 81 | N34: 82
C35: TOTALS*: | F35: =SUM(F11:F34) -> 5.3906 | G35: =SUM(G11:G34) -> 0.0112 | H35: =SUM(H11:H34) -> 0.5883 | I35: =SUM(I11:I34) -> 0.6911 | J35: =SUM(J11:J34) -> 0.2108 | K35: =SUM(K11:K34) -> 0.502 | L35: =SUM(L11:L34) -> 0.0716 | M35: =SUM(M11:M34) -> 3792 | ... O35: =SUM(O11:O34) -> 0
C38: *Rounded totals are sum of actual impacts
C39: NOTES:
C40: Site 2: Removed | L40: NC DEPARTMENT OF TRANSPORTATION
C41: Site 4: Wetland considered Isolated | L41: DIVISION OF HIGHWAYS
C42: Site 5: Wetland Total Take | L42: 12/3/2019
C43: Site 9: Wetland Total Take | L43: WAKE COUNTY
C44: Site 16: Wetland Total Take | L44: R-2721
L45: 6.401078
B46: Revised 2018 Feb | L46: SHEET | M46: 115 | N46: OF | O46: 119
...

Sheet DATA ENTRY PAGE (2)
C4: WETLAND AND SURACE WATER IMPACTS SUMMARY
F5: WETLAND IMPACTS | K5: SURFACE WATER IMPACTS
J6: Hand | M6: Existing | N6: Existing
F7: Permanent | G7: Temp. | H7: Excavation | I7: Mechanized | J7: Clearing | K7: Permanent | L7: Temp. | M7: Channel | N7: Channel | O7: Natural
C8: Site | D8: Station | E8: Structure | F8: Fill In | G8: Excavation | H8: in | I8: Clearing | J8: in | K8: SW | L8: SW | M8: Impacts | N8: Impacts | O8: Stream
C9: No. | D9: (From/To) | E9: Size / Type | F9: Wetlands | G9: In Wetlands | H9: Wetlands | I9: in Wetlands | J9: Wetlands | K9: impacts | L9: impacts | M9: Permanent | N9: Temp. | O9: Design
F10: (ac) | G10: (ac) | H10: (ac) | I10: (ac) | J10: (ac) | K10: (ac) | L10: (ac) | M10: (ft) | N10: (ft) | O10: (ft)
C11: 18a | D11: 125+31 to 125+85-L- | E11: ROADWAY FILL | K11: 0.004 | M11: 91
C12: 19 | D12: 140+59 to 142+46 -L- | E12: 1@6'x8' RCBC | F12: 0.0158 | G12: 0.0075 | H12: 0.008 | I12: 0.1213 | K12: 0.0365 | M12: 331
E13: STABILIZATION | K13: 0.012 | L13: 0.0089 | M13: 121 | N13: 93
C14: 20 | D14: 146+70 to 147+85-L- | E14: 1@6'x8' RCBC | F14: 0.099 | G14: 0.0214 | I14: 0.0795 | K14: 0.011 | M14: 249
E15: STABILIZATION | K15: 0.004 | L15: 0.003 | M15: 92 | N15: 65
C16: 21 | D16: 146+88 to 147+06-L-LT | E16: ROADWAY FILL | G16: 0.0011 | H16: 0 | I16: 0.0152
C17: 22 | D17: 148+36 to 149+02-L-RT | E17: 30" RCP | K17: 0.002 | L17: 0.001 | M17: 70 | N17: 15
C18: 23 | D18: 148+41 to 149+02-L-RT | E18: ROADWAY FILL | I18: 0.0134
C19: 24 | D19: 149+09 to 155+85-L- | E19: ROADWAY FILL | F19: 1.251 | H19: 0.045 | I19: 0.0777
C20: 25 | D20: 162+84 to 164+50-L-RT | E20: POND | K20: 0.399
C21: 26 | D21: 165+94 to 168+54 -L- | E21: ROADWAY FILL | F21: 1.2546 | I21: 0.0873
C22: 27 | D22: 168+51 to 169+40-L- | E22: 2@9'x8' RCBC | I22: 0.0705 | K22: 0.055 | M22: 311
E23: STABILIZATION | K23: 0.018 | L23: 0.0063 | M23: 120 | N23: 37
C24: 28 | D24: 172+97 to 173+41-L-RT | E24: ROADWAY FILL | I24: 0.0024
C25: 29 | D25: 173+60 to 176+39-L-LT | E25: POND | K25: 1.534
C26: 30 | D26: 174+63 to 181+12-L- | E26: ROADWAY FILL | F26: 1.317 | I26: 0.1215 | K26: 0.012 | L26: 0.001 | M26: 257 | N26: 4
C27: 31 | D27: 193+15 to 197+24-L- | E27: ROADWAY FILL | F27: 0.196 | K27: 0.04 | M27: 871
C28: 32 | D28: 199+29 to 199+93-L-LT | E28: ROADWAY FILL | F28: 0.027 | I28: 0.014
C29: 33 | D29: 47+12 to 48+74 -Y5-LT(SAA) | E29: 66" RCP | F29: 0.248 | H29: 0.047 | I29: 0.0726 | K29: 0.007 | L29: 0.001 | M29: 251 | N29: 9
C30: 34 | D30: 23+30 to 24+76-Y5RPB-LT | E30: 24" RCP | F30: 0.1061 | H30: 0.0144 | I30: 0.068 | K30: 0.0013 | L30: 0.001
C31: 35 | D31: 47+58 to 49+64-Y5-RT(SAA,SAB) | E31: ROADWAY FILL | K31: 0.0397 | M31: 304 | R31: 0.00234 | S31: 104
E32: STABILIZATION | K32: 0.004 | L32: 0.0026 | M32: 35 | N32: 24
C33: 35 | D33: 197+97 to 200+02-L-LT(SAA) | E33: ROADWAY FILL | K33: 0.0394 | L33: 0.0051 | M33: 226 | N33: 40
C35: TOTALS*: | F35: =SUM(F11:F34) -> 4.5145 | G35: =SUM(G11:G34) -> 0.03 | H35: =SUM(H11:H34) -> 0.1144 | I35: =SUM(I11:I34) -> 0.7434 | J35: =SUM(J11:J34) -> 0 | K35: =SUM(K11:K34) -> 2.2189 | L35: =SUM(L11:L34) -> 0.0299 | M35: =SUM(M11:M34) -> 3329 | ... O35: =SUM(O11:O34) -> 0
C38: *Rounded totals are sum of actual impacts
C39: NOTES:
L40: NC DEPARTMENT OF TRANSPORTATION
C41: Site 23: Wetland no longer impacted. | L41: DIVISION OF HIGHWAYS
L42: ='DATA ENTRY PAGE'!L42:P42 -> 12/3/2019
L43: WAKE COUNTY
L44: R-2721
L45: 6.401078
B46: Revised 2018 Feb | L46: SHEET | M46: ='DATA ENTRY PAGE'!M46+1 -> 116 | N46: OF | O46: ='DATA ENTRY PAGE'!O46 -> 119
...

Sheet DATA ENTRY PAGE (3)
C4: WETLAND AND SURACE WATER IMPACTS SUMMARY
F5: WETLAND IMPACTS | K5: SURFACE WATER IMPACTS
J6: Hand | M6: Existing | N6: Existing
F7: Permanent | G7: Temp. | H7: Excavation | I7: Mechanized | J7: Clearing | K7: Permanent | L7: Temp. | M7: Channel | N7: Channel | O7: Natural
C8: Site | D8: Station | E8: Structure | F8: Fill In | G8: Excavation | H8: in | I8: Clearing | J8: in | K8: SW | L8: SW | M8: Impacts | N8: Impacts | O8: Stream
C9: No. | D9: (From/To) | E9: Size / Type | F9: Wetlands | G9: In Wetlands | H9: Wetlands | I9: in Wetlands | J9: Wetlands | K9: impacts | L9: impacts | M9: Permanent | N9: Temp. | O9: Design
F10: (ac) | G10: (ac) | H10: (ac) | I10: (ac) | J10: (ac) | K10: (ac) | L10: (ac) | M10: (ft) | N10: (ft) | O10: (ft)
C11: 35 | D11: 201+82 to 202+45-L-LT(SAA) | E11: ROADWAY FILL | K11: 0.005 | L11: 0.002 | M11: 62 | N11: 12
C12: 35 | D12: 50+01-Y5- to 15+32-Y5A-(SAB) | E12: ROADWAY FILL/48" RCP | F12: 0.01 | H12: 0.001 | I12: 0.0089 | K12: 0.043 | M12: 941
E13: STABILIZATION | K13: 0.0252 | L13: 0.0251 | M13: 89 | N13: 104
C14: 36 | D14: 202+26 to 206+22-L- | E14: 3@9'x8' RCBC | K14: 0.2199 | M14: 954
E15: STABILIZATION | K15: 0.025 | L15: 0.007 | M15: 94 | N15: 31
C16: 37 | D16: 202+42 to 205+59-L-RT | E16: ROADWAY FILL | F16: 0.204 | G16: 0.014 | H16: 0.0329 | I16: 0.076
C17: 38 | D17: 209+59 to 211+77-L- | E17: 42" RCP | F17: 0.3053 | H17: 0.0091 | I17: 0.0531 | K17: 0.011 | M17: 239
E18: STABILIZATION | K18: 0.0012 | L18: 0.001 | M18: 26 | N18: 10
C19: 39 | D19: 225+15 to 226+55-L- | E19: 42" RCP | F19: 0.188 | H19: 0.0038 | I19: 0.0899 | K19: 0.009 | M19: 358
E20: STABILIZATION | K20: 0.001 | L20: 0.001 | M20: 18 | N20: 11
C21: 40 | D21: 225+72 to 227+98-L- | E21: ROADWAY FILL | F21: 0.243 | H21: 0.0073 | I21: 0.0611
C22: 41 | D22: 29+93 to 30+17-Y1-RT | E22: 48" RCP | K22: 0.005 | L22: 0.001 | M22: 56 | N22: 10
C23: 42 | D23: 12+90 to15+00-Y3-LT | E23: ROADWAY FILL | F23: 0.025 | I23: 0.13 | J23: 0.1496
C24: 43 | D24: 11+86 to 15+02-Y3-RT | E24: ROADWAY FILL | F24: 0.175 | I24: 0.0644
C25: 44 | D25: 15+00 to 15+88-Y3- | E25: 4@12'x8' RCBC | K25: 0.0294 | M25: 58
E26: STABILIZATION | I26: 0.023 | K26: 0.0663 | L26: 0.0344 | M26: 123 | N26: 60
C27: 45 | D27: 15+60 to 16+27-Y5- | E27: 2@9'x8' RCBC | K27: 0.0415 | M27: 211
E28: STABILIZATION | K28: 0.0277 | L28: 0.0096 | M28: 100 | N28: 34
C29: 46 | D29: 16+20 to 18+23-Y5-LT | E29: ROADWAY FILL | F29: 0.0712 | I29: 0.0745
C30: 47 | D30: 17+25 to 18+39-Y5-RT | E30: ROADWAY FILL | F30: 0.0568 | I30: 0.0313
C31: 48 | D31: 50+12 to 51+25-Y5-LT | E31: ROADWAY FILL | F31: 0.0842
C32: 49 | D32: 68+06 to 68+58-Y5- | E32: 2@7'x8' RCBC | K32: 0.0052 | M32: 20
E33: STABILIZATION | K33: 0.016 | L33: 0.004 | M33: 81 | N33: 20
C35: TOTALS*: | F35: =SUM(F11:F34) -> 1.3625 | G35: =SUM(G11:G34) -> 0.014 | H35: =SUM(H11:H34) -> 0.0541 | I35: =SUM(I11:I34) -> 0.6122 | J35: =SUM(J11:J34) -> 0.1496 | K35: =SUM(K11:K34) -> 0.5314 | L35: =SUM(L11:L34) -> 0.0851 | M35: =SUM(M11:M34) -> 3430 | ... O35: =SUM(O11:O34) -> 0
C38: *Rounded totals are sum of actual impacts
C39: NOTES:
L40: NC DEPARTMENT OF TRANSPORTATION
L41: DIVISION OF HIGHWAYS
L42: ='DATA ENTRY PAGE'!L42:P42 -> 12/3/2019
L43: WAKE COUNTY
L44: R-2721
L45: 6.401078
B46: Revised 2018 Feb | L46: SHEET | M46: ='DATA ENTRY PAGE (2)'!M46+1 -> 117 | N46: OF | O46: ='DATA ENTRY PAGE'!O46 -> 119
...

Sheet DATA ENTRY PAGE (4)
C4: WETLAND AND SURACE WATER IMPACTS SUMMARY
F5: WETLAND IMPACTS | K5: SURFACE WATER IMPACTS
J6: Hand | M6: Existing | N6: Existing
F7: Permanent | G7: Temp. | H7: Excavation | I7: Mechanized | J7: Clearing | K7: Permanent | L7: Temp. | M7: Channel | N7: Channel | O7: Natural
C8: Site | D8: Station | E8: Structure | F8: Fill In | G8: Fill In | H8: in | I8: Clearing | J8: in | K8: SW | L8: SW | M8: Impacts | N8: Impacts | O8: Stream
C9: No. | D9: (From/To) | E9: Size / Type | F9: Wetlands | G9: Wetlands | H9: Wetlands | I9: in Wetlands | J9: Wetlands | K9: impacts | L9: impacts | M9: Permanent | N9: Temp. | O9: Design
F10: (ac) | G10: (ac) | H10: (ac) | I10: (ac) | J10: (ac) | K10: (ac) | L10: (ac) | M10: (ft) | N10: (ft) | O10: (ft)
C11: 50 | D11: 68+54 to 69+62-Y5-LT | E11: ROADWAY FILL | K11: 0.0138 | L11: 0.0013 | M11: 128 | N11: 6
C12: 51 | D12: 29+06 to 29+15-Y1-LT | E12: RIP RAP | K12: 0.0014 | M12: 13
C13: 52 | D13: 47+74 to 47+85-Y1-RT | E13: STABILIZATION | K13: 0.001 | L13: 0.001 | M13: 20 | N13: 12
D24: ="TOTAL PAGE " & $M$46-0 -> TOTAL PAGE 118 | F24: =SUM(F11:F19) -> 0 | G24: =SUM(G11:G19) -> 0 | H24: =SUM(H11:H19) -> 0 | I24: =SUM(I11:I19) -> 0 | J24: =SUM(J11:J19) -> 0 | K24: =SUM(K11:K19) -> 0.0162 | L24: =SUM(L11:L19) -> 0.0023 | M24: =SUM(M11:M19) -> 161 | ... O24: =SUM(O11:O19) -> 0
D26: ="TOTAL PAGE " & $M$46-3 -> TOTAL PAGE 115 | F26: ='DATA ENTRY PAGE'!F35 -> 5.3906 | G26: ='DATA ENTRY PAGE'!G35 -> 0.0112 | H26: ='DATA ENTRY PAGE'!H35 -> 0.5883 | I26: ='DATA ENTRY PAGE'!I35 -> 0.6911 | J26: ='DATA ENTRY PAGE'!J35 -> 0.2108 | K26: ='DATA ENTRY PAGE'!K35 -> 0.502 | L26: ='DATA ENTRY PAGE'!L35 -> 0.0716 | M26: ='DATA ENTRY PAGE'!M35 -> 3792 | ... O26: ='DATA ENTRY PAGE'!O35 -> 0
D28: ="TOTAL PAGE " & $M$46-2 -> TOTAL PAGE 116 | F28: ='DATA ENTRY PAGE (2)'!F35 -> 4.5145 | G28: ='DATA ENTRY PAGE (2)'!G35 -> 0.03 | H28: ='DATA ENTRY PAGE (2)'!H35 -> 0.1144 | I28: ='DATA ENTRY PAGE (2)'!I35 -> 0.7434 | J28: ='DATA ENTRY PAGE (2)'!J35 -> 0 | K28: ='DATA ENTRY PAGE (2)'!K35 -> 2.2189 | L28: ='DATA ENTRY PAGE (2)'!L35 -> 0.0299 | M28: ='DATA ENTRY PAGE (2)'!M35 -> 3329 | ... O28: ='DATA ENTRY PAGE (2)'!O35 -> 0
D30: ="TOTAL PAGE " & $M$46-1 -> TOTAL PAGE 117 | F30: ='DATA ENTRY PAGE (3)'!F35 -> 1.3625 | G30: ='DATA ENTRY PAGE (3)'!G35 -> 0.014 | H30: ='DATA ENTRY PAGE (3)'!H35 -> 0.0541 | I30: ='DATA ENTRY PAGE (3)'!I35 -> 0.6122 | J30: ='DATA ENTRY PAGE (3)'!J35 -> 0.1496 | K30: ='DATA ENTRY PAGE (3)'!K35 -> 0.5314 | L30: ='DATA ENTRY PAGE (3)'!L35 -> 0.0851 | M30: ='DATA ENTRY PAGE (3)'!M35 -> 3430 | ... O30: ='DATA ENTRY PAGE (3)'!O35 -> 0
C35: TOTALS*: | F35: =SUM(F24:F34) -> 11.2676 | G35: =SUM(G24:G34) -> 0.0552 | H35: =SUM(H24:H34) -> 0.7568 | I35: =SUM(I24:I34) -> 2.0467 | J35: =SUM(J24:J34) -> 0.3604 | K35: =SUM(K24:K34) -> 3.2685 | L35: =SUM(L24:L34) -> 0.1889 | M35: =SUM(M24:M34) -> 10712 | ... O35: =SUM(O24:O34) -> 0
C38: *Rounded totals are sum of actual impacts
C39: NOTES:
L40: NC DEPARTMENT OF TRANSPORTATION
L41: DIVISION OF HIGHWAYS
L42: ='DATA ENTRY PAGE'!L42:P42 -> 12/3/2019
L43: WAKE COUNTY
L44: R-2721
L45: 6.401078
B46: Revised 2018 Feb | L46: SHEET | M46: ='DATA ENTRY PAGE (3)'!M46+1 -> 118 | N46: OF | O46: ='DATA ENTRY PAGE'!O46 -> 119
E51: ENTER DATA ON THIS TAB AND PRINT FROM THE PRINT PAGE TAB

Sheet PRINT PAGE
C4: WETLAND AND SURACE WATER IMPACTS SUMMARY
F5: WETLAND IMPACTS | K5: SURFACE WATER IMPACTS
J6: Hand | M6: Existing | N6: Existing
F7: Permanent | G7: ='DATA ENTRY PAGE'!G7 -> Temp. | H7: Excavation | I7: Mechanized | J7: Clearing | K7: Permanent | L7: Temp. | M7: Channel | N7: Channel | O7: Natural
C8: Site | D8: Station | E8: Structure | F8: Fill In | G8: ='DATA ENTRY PAGE'!G8 -> Excavation | H8: in | I8: Clearing | J8: in | K8: SW | L8: SW | M8: Impacts | N8: Impacts | O8: Stream
C9: No. | D9: (From/To) | E9: Size / Type | F9: Wetlands | G9: ='DATA ENTRY PAGE'!G9 -> In Wetlands | H9: Wetlands | I9: in Wetlands | J9: Wetlands | K9: impacts | L9: impacts | M9: Permanent | N9: Temp. | O9: Design
C10: =IF('DATA ENTRY PAGE'!C10=0," ",'DATA ENTRY PAGE'!C10) | D10: =IF('DATA ENTRY PAGE'!D10=0," ",'DATA ENTRY PAGE'!D10) | E10: =IF('DATA ENTRY PAGE'!E10=0," ",'DATA ENTRY PAGE'!E10) | F10: (ac) | G10: (ac) | H10: (ac) | I10: (ac) | J10: (ac) | K10: (ac) | L10: (ac) | M10: (ft) | N10: (ft) | O10: (ft)
C11: =IF('DATA ENTRY PAGE'!C11=0," ",'DATA ENTRY PAGE'!C11) -> 1 | D11: =IF('DATA ENTRY PAGE'!D11=0," ",'DATA ENTRY PAGE'!D11) -> 19+20 to 19+73 -L1-LT | E11: =IF('DATA ENTRY PAGE'!E11=0," ",'DATA ENTRY PAGE'!E11) -> CULVERT | F11: =IF('DATA ENTRY PAGE'!F11=0," ",IF('DATA ENTRY PAGE'!F11>=0.01, ROUND('DATA ENTRY PAGE'!F11,2),("< " &ROUNDUP('DATA ENTRY PAGE'!F11,2)))) | G11: =IF('DATA ENTRY PAGE'!G11=0," ",IF('DATA ENTRY PAGE'!G11>=0.01, ROUND('DATA ENTRY PAGE'!G11,2),("< " &ROUNDUP('DATA ENTRY PAGE'!G11,2)))) | H11: =IF('DATA ENTRY PAGE'!H11=0," ",IF('DATA ENTRY PAGE'!H11>=0.01, ROUND('DATA ENTRY PAGE'!H11,2),("< " &ROUNDUP('DATA ENTRY PAGE'!H11,2)))) | I11: =IF('DATA ENTRY PAGE'!I11=0," ",IF('DATA ENTRY PAGE'!I11>=0.01, ROUND('DATA ENTRY PAGE'!I11,2),("< " &ROUNDUP('DATA ENTRY PAGE'!I11,2)))) | J11: =IF('DATA ENTRY PAGE'!J11=0," ",IF('DATA ENTRY PAGE'!J11>=0.01, ROUND('DATA ENTRY PAGE'!J11,2),("< " &ROUNDUP('DATA ENTRY PAGE'!J11,2)))) | K11: =IF('DATA ENTRY PAGE'!K11=0," ",IF('DATA ENTRY PAGE'!K11>=0.01, ROUND('DATA ENTRY PAGE'!K11,2),("< " &ROUNDUP('DATA ENTRY PAGE'!K11,2)))) -> < 0.01 | L11: =IF('DATA ENTRY PAGE'!L11=0," ",IF('DATA ENTRY PAGE'!L11>=0.01, ROUND('DATA ENTRY PAGE'!L11,2),("< " &ROUNDUP('DATA ENTRY PAGE'!L11,2)))) | M11: =IF('DATA ENTRY PAGE'!M11=0," ",'DATA ENTRY PAGE'!M11) -> 10 | N11: =IF('DATA ENTRY PAGE'!N11=0," ",'DATA ENTRY PAGE'!N11) | O11: =IF('DATA ENTRY PAGE'!O11=0," ",'DATA ENTRY PAGE'!O11)
C12: =IF('DATA ENTRY PAGE'!C12=0," ",'DATA ENTRY PAGE'!C12) | D12: =IF('DATA ENTRY PAGE'!D12=0," ",'DATA ENTRY PAGE'!D12) | E12: =IF('DATA ENTRY PAGE'!E12=0," ",'DATA ENTRY PAGE'!E12) -> BANK STABILIZATION | F12: =IF('DATA ENTRY PAGE'!F12=0," ",IF('DATA ENTRY PAGE'!F12>=0.01, ROUND('DATA ENTRY PAGE'!F12,2),("< " &ROUNDUP('DATA ENTRY PAGE'!F12,2)))) | G12: =IF('DATA ENTRY PAGE'!G12=0," ",IF('DATA ENTRY PAGE'!G12>=0.01, ROUND('DATA ENTRY PAGE'!G12,2),("< " &ROUNDUP('DATA ENTRY PAGE'!G12,2)))) | H12: =IF('DATA ENTRY PAGE'!H12=0," ",IF('DATA ENTRY PAGE'!H12>=0.01, ROUND('DATA ENTRY PAGE'!H12,2),("< " &ROUNDUP('DATA ENTRY PAGE'!H12,2)))) | I12: =IF('DATA ENTRY PAGE'!I12=0," ",IF('DATA ENTRY PAGE'!I12>=0.01, ROUND('DATA ENTRY PAGE'!I12,2),("< " &ROUNDUP('DATA ENTRY PAGE'!I12,2)))) | J12: =IF('DATA ENTRY PAGE'!J12=0," ",IF('DATA ENTRY PAGE'!J12>=0.01, ROUND('DATA ENTRY PAGE'!J12,2),("< " &ROUNDUP('DATA ENTRY PAGE'!J12,2)))) | K12: =IF('DATA ENTRY PAGE'!K12=0," ",IF('DATA ENTRY PAGE'!K12>=0.01, ROUND('DATA ENTRY PAGE'!K12,2),("< " &ROUNDUP('DATA ENTRY PAGE'!K12,2)))) -> < 0.01 | L12: =IF('DATA ENTRY PAGE'!L12=0," ",IF('DATA ENTRY PAGE'!L12>=0.01, ROUND('DATA ENTRY PAGE'!L12,2),("< " &ROUNDUP('DATA ENTRY PAGE'!L12,2)))) -> < 0.01 | M12: =IF('DATA ENTRY PAGE'!M12=0," ",'DATA ENTRY PAGE'!M12) -> 33 | N12: =IF('DATA ENTRY PAGE'!N12=0," ",'DATA ENTRY PAGE'!N12) -> 13 | O12: =IF('DATA ENTRY PAGE'!O12=0," ",'DATA ENTRY PAGE'!O12)
C13: =IF('DATA ENTRY PAGE'!C13=0," ",'DATA ENTRY PAGE'!C13) | D13: =IF('DATA ENTRY PAGE'!D13=0," ",'DATA ENTRY PAGE'!D13) | E13: =IF('DATA ENTRY PAGE'!E13=0," ",'DATA ENTRY PAGE'!E13) | F13: =IF('DATA ENTRY PAGE'!F13=0," ",IF('DATA ENTRY PAGE'!F13>=0.01, ROUND('DATA ENTRY PAGE'!F13,2),("< " &ROUNDUP('DATA ENTRY PAGE'!F13,2)))) | G13: =IF('DATA ENTRY PAGE'!G13=0," ",IF('DATA ENTRY PAGE'!G13>=0.01, ROUND('DATA ENTRY PAGE'!G13,2),("< " &ROUNDUP('DATA ENTRY PAGE'!G13,2)))) | H13: =IF('DATA ENTRY PAGE'!H13=0," ",IF('DATA ENTRY PAGE'!H13>=0.01, ROUND('DATA ENTRY PAGE'!H13,2),("< " &ROUNDUP('DATA ENTRY PAGE'!H13,2)))) | I13: =IF('DATA ENTRY PAGE'!I13=0," ",IF('DATA ENTRY PAGE'!I13>=0.01, ROUND('DATA ENTRY PAGE'!I13,2),("< " &ROUNDUP('DATA ENTRY PAGE'!I13,2)))) | J13: =IF('DATA ENTRY PAGE'!J13=0," ",IF('DATA ENTRY PAGE'!J13>=0.01, ROUND('DATA ENTRY PAGE'!J13,2),("< " &ROUNDUP('DATA ENTRY PAGE'!J13,2)))) | K13: =IF('DATA ENTRY PAGE'!K13=0," ",IF('DATA ENTRY PAGE'!K13>=0.01, ROUND('DATA ENTRY PAGE'!K13,2),("< " &ROUNDUP('DATA ENTRY PAGE'!K13,2)))) | L13: =IF('DATA ENTRY PAGE'!L13=0," ",IF('DATA ENTRY PAGE'!L13>=0.01, ROUND('DATA ENTRY PAGE'!L13,2),("< " &ROUNDUP('DATA ENTRY PAGE'!L13,2)))) | M13: =IF('DATA ENTRY PAGE'!M13=0," ",'DATA ENTRY PAGE'!M13) | N13: =IF('DATA ENTRY PAGE'!N13=0," ",'DATA ENTRY PAGE'!N13) | O13: =IF('DATA ENTRY PAGE'!O13=0," ",'DATA ENTRY PAGE'!O13)
C14: =IF('DATA ENTRY PAGE'!C14=0," ",'DATA ENTRY PAGE'!C14) -> 3 | D14: =IF('DATA ENTRY PAGE'!D14=0," ",'DATA ENTRY PAGE'!D14) -> 15+18 to 15+46-LREV-LT | E14: =IF('DATA ENTRY PAGE'!E14=0," ",'DATA ENTRY PAGE'!E14) -> 15" PIPE/ 24"CSP | F14: =IF('DATA ENTRY PAGE'!F14=0," ",IF('DATA ENTRY PAGE'!F14>=0.01, ROUND('DATA ENTRY PAGE'!F14,2),("< " &ROUNDUP('DATA ENTRY PAGE'!F14,2)))) -> < 0.01 | G14: =IF('DATA ENTRY PAGE'!G14=0," ",IF('DATA ENTRY PAGE'!G14>=0.01, ROUND('DATA ENTRY PAGE'!G14,2),("< " &ROUNDUP('DATA ENTRY PAGE'!G14,2)))) | H14: =IF('DATA ENTRY PAGE'!H14=0," ",IF('DATA ENTRY PAGE'!H14>=0.01, ROUND('DATA ENTRY PAGE'!H14,2),("< " &ROUNDUP('DATA ENTRY PAGE'!H14,2)))) -> < 0.01 | I14: =IF('DATA ENTRY PAGE'!I14=0," ",IF('DATA ENTRY PAGE'!I14>=0.01, ROUND('DATA ENTRY PAGE'!I14,2),("< " &ROUNDUP('DATA ENTRY PAGE'!I14,2)))) -> < 0.01 | J14: =IF('DATA ENTRY PAGE'!J14=0," ",IF('DATA ENTRY PAGE'!J14>=0.01, ROUND('DATA ENTRY PAGE'!J14,2),("< " &ROUNDUP('DATA ENTRY PAGE'!J14,2)))) | K14: =IF('DATA ENTRY PAGE'!K14=0," ",IF('DATA ENTRY PAGE'!K14>=0.01, ROUND('DATA ENTRY PAGE'!K14,2),("< " &ROUNDUP('DATA ENTRY PAGE'!K14,2)))) | L14: =IF('DATA ENTRY PAGE'!L14=0," ",IF('DATA ENTRY PAGE'!L14>=0.01, ROUND('DATA ENTRY PAGE'!L14,2),("< " &ROUNDUP('DATA ENTRY PAGE'!L14,2)))) | M14: =IF('DATA ENTRY PAGE'!M14=0," ",'DATA ENTRY PAGE'!M14) | N14: =IF('DATA ENTRY PAGE'!N14=0," ",'DATA ENTRY PAGE'!N14) | O14: =IF('DATA ENTRY PAGE'!O14=0," ",'DATA ENTRY PAGE'!O14)
C15: =IF('DATA ENTRY PAGE'!C15=0," ",'DATA ENTRY PAGE'!C15) -> 4 | D15: =IF('DATA ENTRY PAGE'!D15=0," ",'DATA ENTRY PAGE'!D15) -> 40+78 to 41+92-LREV-RT | E15: =IF('DATA ENTRY PAGE'!E15=0," ",'DATA ENTRY PAGE'!E15) -> ROADWAY FILL | F15: =IF('DATA ENTRY PAGE'!F15=0," ",IF('DATA ENTRY PAGE'!F15>=0.01, ROUND('DATA ENTRY PAGE'!F15,2),("< " &ROUNDUP('DATA ENTRY PAGE'!F15,2)))) -> 0.02 | G15: =IF('DATA ENTRY PAGE'!G15=0," ",IF('DATA ENTRY PAGE'!G15>=0.01, ROUND('DATA ENTRY PAGE'!G15,2),("< " &ROUNDUP('DATA ENTRY PAGE'!G15,2)))) | H15: =IF('DATA ENTRY PAGE'!H15=0," ",IF('DATA ENTRY PAGE'!H15>=0.01, ROUND('DATA ENTRY PAGE'!H15,2),("< " &ROUNDUP('DATA ENTRY PAGE'!H15,2)))) | I15: =IF('DATA ENTRY PAGE'!I15=0," ",IF('DATA ENTRY PAGE'!I15>=0.01, ROUND('DATA ENTRY PAGE'!I15,2),("< " &ROUNDUP('DATA ENTRY PAGE'!I15,2)))) | J15: =IF('DATA ENTRY PAGE'!J15=0," ",IF('DATA ENTRY PAGE'!J15>=0.01, ROUND('DATA ENTRY PAGE'!J15,2),("< " &ROUNDUP('DATA ENTRY PAGE'!J15,2)))) | K15: =IF('DATA ENTRY PAGE'!K15=0," ",IF('DATA ENTRY PAGE'!K15>=0.01, ROUND('DATA ENTRY PAGE'!K15,2),("< " &ROUNDUP('DATA ENTRY PAGE'!K15,2)))) | L15: =IF('DATA ENTRY PAGE'!L15=0," ",IF('DATA ENTRY PAGE'!L15>=0.01, ROUND('DATA ENTRY PAGE'!L15,2),("< " &ROUNDUP('DATA ENTRY PAGE'!L15,2)))) | M15: =IF('DATA ENTRY PAGE'!M15=0," ",'DATA ENTRY PAGE'!M15) | N15: =IF('DATA ENTRY PAGE'!N15=0," ",'DATA ENTRY PAGE'!N15) | O15: =IF('DATA ENTRY PAGE'!O15=0," ",'DATA ENTRY PAGE'!O15)
C16: =IF('DATA ENTRY PAGE'!C16=0," ",'DATA ENTRY PAGE'!C16) | D16: =IF('DATA ENTRY PAGE'!D16=0," ",'DATA ENTRY PAGE'!D16) | E16: =IF('DATA ENTRY PAGE'!E16=0," ",'DATA ENTRY PAGE'!E16) -> POND | F16: =IF('DATA ENTRY PAGE'!F16=0," ",IF('DATA ENTRY PAGE'!F16>=0.01, ROUND('DATA ENTRY PAGE'!F16,2),("< " &ROUNDUP('DATA ENTRY PAGE'!F16,2)))) | G16: =IF('DATA ENTRY PAGE'!G16=0," ",IF('DATA ENTRY PAGE'!G16>=0.01, ROUND('DATA ENTRY PAGE'!G16,2),("< " &ROUNDUP('DATA ENTRY PAGE'!G16,2)))) | H16: =IF('DATA ENTRY PAGE'!H16=0," ",IF('DATA ENTRY PAGE'!H16>=0.01, ROUND('DATA ENTRY PAGE'!H16,2),("< " &ROUNDUP('DATA ENTRY PAGE'!H16,2)))) | I16: =IF('DATA ENTRY PAGE'!I16=0," ",IF('DATA ENTRY PAGE'!I16>=0.01, ROUND('DATA ENTRY PAGE'!I16,2),("< " &ROUNDUP('DATA ENTRY PAGE'!I16,2)))) | J16: =IF('DATA ENTRY PAGE'!J16=0," ",IF('DATA ENTRY PAGE'!J16>=0.01, ROUND('DATA ENTRY PAGE'!J16,2),("< " &ROUNDUP('DATA ENTRY PAGE'!J16,2)))) | K16: =IF('DATA ENTRY PAGE'!K16=0," ",IF('DATA ENTRY PAGE'!K16>=0.01, ROUND('DATA ENTRY PAGE'!K16,2),("< " &ROUNDUP('DATA ENTRY PAGE'!K16,2)))) -> 0.21 | L16: =IF('DATA ENTRY PAGE'!L16=0," ",IF('DATA ENTRY PAGE'!L16>=0.01, ROUND('DATA ENTRY PAGE'!L16,2),("< " &ROUNDUP('DATA ENTRY PAGE'!L16,2)))) | M16: =IF('DATA ENTRY PAGE'!M16=0," ",'DATA ENTRY PAGE'!M16) | N16: =IF('DATA ENTRY PAGE'!N16=0," ",'DATA ENTRY PAGE'!N16) | O16: =IF('DATA ENTRY PAGE'!O16=0," ",'DATA ENTRY PAGE'!O16)
C17: =IF('DATA ENTRY PAGE'!C17=0," ",'DATA ENTRY PAGE'!C17) -> 5 | D17: =IF('DATA ENTRY PAGE'!D17=0," ",'DATA ENTRY PAGE'!D17) -> 48+91 to 49+79-LREV-RT | E17: =IF('DATA ENTRY PAGE'!E17=0," ",'DATA ENTRY PAGE'!E17) -> ROADWAY FILL | F17: =IF('DATA ENTRY PAGE'!F17=0," ",IF('DATA ENTRY PAGE'!F17>=0.01, ROUND('DATA ENTRY PAGE'!F17,2),("< " &ROUNDUP('DATA ENTRY PAGE'!F17,2)))) -> < 0.01 | G17: =IF('DATA ENTRY PAGE'!G17=0," ",IF('DATA ENTRY PAGE'!G17>=0.01, ROUND('DATA ENTRY PAGE'!G17,2),("< " &ROUNDUP('DATA ENTRY PAGE'!G17,2)))) | H17: =IF('DATA ENTRY PAGE'!H17=0," ",IF('DATA ENTRY PAGE'!H17>=0.01, ROUND('DATA ENTRY PAGE'!H17,2),("< " &ROUNDUP('DATA ENTRY PAGE'!H17,2)))) -> < 0.01 | I17: =IF('DATA ENTRY PAGE'!I17=0," ",IF('DATA ENTRY PAGE'!I17>=0.01, ROUND('DATA ENTRY PAGE'!I17,2),("< " &ROUNDUP('DATA ENTRY PAGE'!I17,2)))) -> 0.09 | J17: =IF('DATA ENTRY PAGE'!J17=0," ",IF('DATA ENTRY PAGE'!J17>=0.01, ROUND('DATA ENTRY PAGE'!J17,2),("< " &ROUNDUP('DATA ENTRY PAGE'!J17,2)))) -> 0.03 | K17: =IF('DATA ENTRY PAGE'!K17=0," ",IF('DATA ENTRY PAGE'!K17>=0.01, ROUND('DATA ENTRY PAGE'!K17,2),("< " &ROUNDUP('DATA ENTRY PAGE'!K17,2)))) | L17: =IF('DATA ENTRY PAGE'!L17=0," ",IF('DATA ENTRY PAGE'!L17>=0.01, ROUND('DATA ENTRY PAGE'!L17,2),("< " &ROUNDUP('DATA ENTRY PAGE'!L17,2)))) | M17: =IF('DATA ENTRY PAGE'!M17=0," ",'DATA ENTRY PAGE'!M17) | N17: =IF('DATA ENTRY PAGE'!N17=0," ",'DATA ENTRY PAGE'!N17) | O17: =IF('DATA ENTRY PAGE'!O17=0," ",'DATA ENTRY PAGE'!O17)
C18: =IF('DATA ENTRY PAGE'!C18=0," ",'DATA ENTRY PAGE'!C18) -> 6 | D18: =IF('DATA ENTRY PAGE'!D18=0," ",'DATA ENTRY PAGE'!D18) -> 51+87 to 57+80 -LREV- | E18: =IF('DATA ENTRY PAGE'!E18=0," ",'DATA ENTRY PAGE'!E18) -> 48" RCP | F18: =IF('DATA ENTRY PAGE'!F18=0," ",IF('DATA ENTRY PAGE'!F18>=0.01, ROUND('DATA ENTRY PAGE'!F18,2),("< " &ROUNDUP('DATA ENTRY PAGE'!F18,2)))) -> 1.57 | G18: =IF('DATA ENTRY PAGE'!G18=0," ",IF('DATA ENTRY PAGE'!G18>=0.01, ROUND('DATA ENTRY PAGE'!G18,2),("< " &ROUNDUP('DATA ENTRY PAGE'!G18,2)))) | H18: =IF('DATA ENTRY PAGE'!H18=0," ",IF('DATA ENTRY PAGE'!H18>=0.01, ROUND('DATA ENTRY PAGE'!H18,2),("< " &ROUNDUP('DATA ENTRY PAGE'!H18,2)))) -> 0.03 | I18: =IF('DATA ENTRY PAGE'!I18=0," ",IF('DATA ENTRY PAGE'!I18>=0.01, ROUND('DATA ENTRY PAGE'!I18,2),("< " &ROUNDUP('DATA ENTRY PAGE'!I18,2)))) -> 0.07 | J18: =IF('DATA ENTRY PAGE'!J18=0," ",IF('DATA ENTRY PAGE'!J18>=0.01, ROUND('DATA ENTRY PAGE'!J18,2),("< " &ROUNDUP('DATA ENTRY PAGE'!J18,2)))) -> 0.18 | K18: =IF('DATA ENTRY PAGE'!K18=0," ",IF('DATA ENTRY PAGE'!K18>=0.01, ROUND('DATA ENTRY PAGE'!K18,2),("< " &ROUNDUP('DATA ENTRY PAGE'!K18,2)))) -> 0.02 | L18: =IF('DATA ENTRY PAGE'!L18=0," ",IF('DATA ENTRY PAGE'!L18>=0.01, ROUND('DATA ENTRY PAGE'!L18,2),("< " &ROUNDUP('DATA ENTRY PAGE'!L18,2)))) -> < 0.01 | M18: =IF('DATA ENTRY PAGE'!M18=0," ",'DATA ENTRY PAGE'!M18) -> 463 | N18: =IF('DATA ENTRY PAGE'!N18=0," ",'DATA ENTRY PAGE'!N18) -> 10 | O18: =IF('DATA ENTRY PAGE'!O18=0," ",'DATA ENTRY PAGE'!O18)
C19: =IF('DATA ENTRY PAGE'!C19=0," ",'DATA ENTRY PAGE'!C19) -> 7 | D19: =IF('DATA ENTRY PAGE'!D19=0," ",'DATA ENTRY PAGE'!D19) -> 59+46 to 60+07-LREV- | E19: =IF('DATA ENTRY PAGE'!E19=0," ",'DATA ENTRY PAGE'!E19) -> 30" RCP | F19: =IF('DATA ENTRY PAGE'!F19=0," ",IF('DATA ENTRY PAGE'!F19>=0.01, ROUND('DATA ENTRY PAGE'!F19,2),("< " &ROUNDUP('DATA ENTRY PAGE'!F19,2)))) | G19: =IF('DATA ENTRY PAGE'!G19=0," ",IF('DATA ENTRY PAGE'!G19>=0.01, ROUND('DATA ENTRY PAGE'!G19,2),("< " &ROUNDUP('DATA ENTRY PAGE'!G19,2)))) | H19: =IF('DATA ENTRY PAGE'!H19=0," ",IF('DATA ENTRY PAGE'!H19>=0.01, ROUND('DATA ENTRY PAGE'!H19,2),("< " &ROUNDUP('DATA ENTRY PAGE'!H19,2)))) | I19: =IF('DATA ENTRY PAGE'!I19=0," ",IF('DATA ENTRY PAGE'!I19>=0.01, ROUND('DATA ENTRY PAGE'!I19,2),("< " &ROUNDUP('DATA ENTRY PAGE'!I19,2)))) | J19: =IF('DATA ENTRY PAGE'!J19=0," ",IF('DATA ENTRY PAGE'!J19>=0.01, ROUND('DATA ENTRY PAGE'!J19,2),("< " &ROUNDUP('DATA ENTRY PAGE'!J19,2)))) | K19: =IF('DATA ENTRY PAGE'!K19=0," ",IF('DATA ENTRY PAGE'!K19>=0.01, ROUND('DATA ENTRY PAGE'!K19,2),("< " &ROUNDUP('DATA ENTRY PAGE'!K19,2)))) -> < 0.01 | L19: =IF('DATA ENTRY PAGE'!L19=0," ",IF('DATA ENTRY PAGE'!L19>=0.01, ROUND('DATA ENTRY PAGE'!L19,2),("< " &ROUNDUP('DATA ENTRY PAGE'!L19,2)))) -> < 0.01 | M19: =IF('DATA ENTRY PAGE'!M19=0," ",'DATA ENTRY PAGE'!M19) -> 372 | N19: =IF('DATA ENTRY PAGE'!N19=0," ",'DATA ENTRY PAGE'!N19) -> 16 | O19: =IF('DATA ENTRY PAGE'!O19=0," ",'DATA ENTRY PAGE'!O19)
C20: =IF('DATA ENTRY PAGE'!C20=0," ",'DATA ENTRY PAGE'!C20) -> 8 | D20: =IF('DATA ENTRY PAGE'!D20=0," ",'DATA ENTRY PAGE'!D20) -> 66+34 to 79+65-LREV- | E20: =IF('DATA ENTRY PAGE'!E20=0," ",'DATA ENTRY PAGE'!E20) -> ROADWAY FILL | F20: =IF('DATA ENTRY PAGE'!F20=0," ",IF('DATA ENTRY PAGE'!F20>=0.01, ROUND('DATA ENTRY PAGE'!F20,2),("< " &ROUNDUP('DATA ENTRY PAGE'!F20,2)))) | G20: =IF('DATA ENTRY PAGE'!G20=0," ",IF('DATA ENTRY PAGE'!G20>=0.01, ROUND('DATA ENTRY PAGE'!G20,2),("< " &ROUNDUP('DATA ENTRY PAGE'!G20,2)))) | H20: =IF('DATA ENTRY PAGE'!H20=0," ",IF('DATA ENTRY PAGE'!H20>=0.01, ROUND('DATA ENTRY PAGE'!H20,2),("< " &ROUNDUP('DATA ENTRY PAGE'!H20,2)))) | I20: =IF('DATA ENTRY PAGE'!I20=0," ",IF('DATA ENTRY PAGE'!I20>=0.01, ROUND('DATA ENTRY PAGE'!I20,2),("< " &ROUNDUP('DATA ENTRY PAGE'!I20,2)))) | J20: =IF('DATA ENTRY PAGE'!J20=0," ",IF('DATA ENTRY PAGE'!J20>=0.01, ROUND('DATA ENTRY PAGE'!J20,2),("< " &ROUNDUP('DATA ENTRY PAGE'!J20,2)))) | K20: =IF('DATA ENTRY PAGE'!K20=0," ",IF('DATA ENTRY PAGE'!K20>=0.01, ROUND('DATA ENTRY PAGE'!K20,2),("< " &ROUNDUP('DATA ENTRY PAGE'!K20,2)))) -> 0.2 | L20: =IF('DATA ENTRY PAGE'!L20=0," ",IF('DATA ENTRY PAGE'!L20>=0.01, ROUND('DATA ENTRY PAGE'!L20,2),("< " &ROUNDUP('DATA ENTRY PAGE'!L20,2)))) -> 0.05 | M20: =IF('DATA ENTRY PAGE'!M20=0," ",'DATA ENTRY PAGE'!M20) -> 1945 | N20: =IF('DATA ENTRY PAGE'!N20=0," ",'DATA ENTRY PAGE'!N20) -> 514 | O20: =IF('DATA ENTRY PAGE'!O20=0," ",'DATA ENTRY PAGE'!O20)
C21: =IF('DATA ENTRY PAGE'!C21=0," ",'DATA ENTRY PAGE'!C21) | D21: =IF('DATA ENTRY PAGE'!D21=0," ",'DATA ENTRY PAGE'!D21) | E21: =IF('DATA ENTRY PAGE'!E21=0," ",'DATA ENTRY PAGE'!E21) -> STABILIZATION | F21: =IF('DATA ENTRY PAGE'!F21=0," ",IF('DATA ENTRY PAGE'!F21>=0.01, ROUND('DATA ENTRY PAGE'!F21,2),("< " &ROUNDUP('DATA ENTRY PAGE'!F21,2)))) | G21: =IF('DATA ENTRY PAGE'!G21=0," ",IF('DATA ENTRY PAGE'!G21>=0.01, ROUND('DATA ENTRY PAGE'!G21,2),("< " &ROUNDUP('DATA ENTRY PAGE'!G21,2)))) | H21: =IF('DATA ENTRY PAGE'!H21=0," ",IF('DATA ENTRY PAGE'!H21>=0.01, ROUND('DATA ENTRY PAGE'!H21,2),("< " &ROUNDUP('DATA ENTRY PAGE'!H21,2)))) | I21: =IF('DATA ENTRY PAGE'!I21=0," ",IF('DATA ENTRY PAGE'!I21>=0.01, ROUND('DATA ENTRY PAGE'!I21,2),("< " &ROUNDUP('DATA ENTRY PAGE'!I21,2)))) | J21: =IF('DATA ENTRY PAGE'!J21=0," ",IF('DATA ENTRY PAGE'!J21>=0.01, ROUND('DATA ENTRY PAGE'!J21,2),("< " &ROUNDUP('DATA ENTRY PAGE'!J21,2)))) | K21: =IF('DATA ENTRY PAGE'!K21=0," ",IF('DATA ENTRY PAGE'!K21>=0.01, ROUND('DATA ENTRY PAGE'!K21,2),("< " &ROUNDUP('DATA ENTRY PAGE'!K21,2)))) -> < 0.01 | L21: =IF('DATA ENTRY PAGE'!L21=0," ",IF('DATA ENTRY PAGE'!L21>=0.01, ROUND('DATA ENTRY PAGE'!L21,2),("< " &ROUNDUP('DATA ENTRY PAGE'!L21,2)))) -> < 0.01 | M21: =IF('DATA ENTRY PAGE'!M21=0," ",'DATA ENTRY PAGE'!M21) -> 64 | N21: =IF('DATA ENTRY PAGE'!N21=0," ",'DATA ENTRY PAGE'!N21) -> 37 | O21: =IF('DATA ENTRY PAGE'!O21=0," ",'DATA ENTRY PAGE'!O21)
C22: =IF('DATA ENTRY PAGE'!C22=0," ",'DATA ENTRY PAGE'!C22) -> 9 | D22: =IF('DATA ENTRY PAGE'!D22=0," ",'DATA ENTRY PAGE'!D22) -> 67+37 to 70+18-LREV-LT | E22: =IF('DATA ENTRY PAGE'!E22=0," ",'DATA ENTRY PAGE'!E22) -> ROADWAY FILL | F22: =IF('DATA ENTRY PAGE'!F22=0," ",IF('DATA ENTRY PAGE'!F22>=0.01, ROUND('DATA ENTRY PAGE'!F22,2),("< " &ROUNDUP('DATA ENTRY PAGE'!F22,2)))) -> 0.28 | G22: =IF('DATA ENTRY PAGE'!G22=0," ",IF('DATA ENTRY PAGE'!G22>=0.01, ROUND('DATA ENTRY PAGE'!G22,2),("< " &ROUNDUP('DATA ENTRY PAGE'!G22,2)))) | H22: =IF('DATA ENTRY PAGE'!H22=0," ",IF('DATA ENTRY PAGE'!H22>=0.01, ROUND('DATA ENTRY PAGE'!H22,2),("< " &ROUNDUP('DATA ENTRY PAGE'!H22,2)))) | I22: =IF('DATA ENTRY PAGE'!I22=0," ",IF('DATA ENTRY PAGE'!I22>=0.01, ROUND('DATA ENTRY PAGE'!I22,2),("< " &ROUNDUP('DATA ENTRY PAGE'!I22,2)))) | J22: =IF('DATA ENTRY PAGE'!J22=0," ",IF('DATA ENTRY PAGE'!J22>=0.01, ROUND('DATA ENTRY PAGE'!J22,2),("< " &ROUNDUP('DATA ENTRY PAGE'!J22,2)))) | K22: =IF('DATA ENTRY PAGE'!K22=0," ",IF('DATA ENTRY PAGE'!K22>=0.01, ROUND('DATA ENTRY PAGE'!K22,2),("< " &ROUNDUP('DATA ENTRY PAGE'!K22,2)))) | L22: =IF('DATA ENTRY PAGE'!L22=0," ",IF('DATA ENTRY PAGE'!L22>=0.01, ROUND('DATA ENTRY PAGE'!L22,2),("< " &ROUNDUP('DATA ENTRY PAGE'!L22,2)))) | M22: =IF('DATA ENTRY PAGE'!M22=0," ",'DATA ENTRY PAGE'!M22) | N22: =IF('DATA ENTRY PAGE'!N22=0," ",'DATA ENTRY PAGE'!N22) | O22: =IF('DATA ENTRY PAGE'!O22=0," ",'DATA ENTRY PAGE'!O22)
... C34: =IF('DATA ENTRY PAGE'!C34=0," ",'DATA ENTRY PAGE'!C34) | D34: =IF('DATA ENTRY PAGE'!D34=0," ",'DATA ENTRY PAGE'!D34) | E34: =IF('DATA ENTRY PAGE'!E34=0," ",'DATA ENTRY PAGE'!E34) -> STABILIZATION | F34: =IF('DATA ENTRY PAGE'!F34=0," ",IF('DATA ENTRY PAGE'!F34>=0.01, ROUND('DATA ENTRY PAGE'!F34,2),("< " &ROUNDUP('DATA ENTRY PAGE'!F34,2)))) | G34: =IF('DATA ENTRY PAGE'!G34=0," ",IF('DATA ENTRY PAGE'!G34>=0.01, ROUND('DATA ENTRY PAGE'!G34,2),("< " &ROUNDUP('DATA ENTRY PAGE'!G34,2)))) | H34: =IF('DATA ENTRY PAGE'!H34=0," ",IF('DATA ENTRY PAGE'!H34>=0.01, ROUND('DATA ENTRY PAGE'!H34,2),("< " &ROUNDUP('DATA ENTRY PAGE'!H34,2)))) | I34: =IF('DATA ENTRY PAGE'!I34=0," ",IF('DATA ENTRY PAGE'!I34>=0.01, ROUND('DATA ENTRY PAGE'!I34,2),("< " &ROUNDUP('DATA ENTRY PAGE'!I34,2)))) | J34: =IF('DATA ENTRY PAGE'!J34=0," ",IF('DATA ENTRY PAGE'!J34>=0.01, ROUND('DATA ENTRY PAGE'!J34,2),("< " &ROUNDUP('DATA ENTRY PAGE'!J34,2)))) | K34: =IF('DATA ENTRY PAGE'!K34=0," ",IF('DATA ENTRY PAGE'!K34>=0.01, ROUND('DATA ENTRY PAGE'!K34,2),("< " &ROUNDUP('DATA ENTRY PAGE'!K34,2)))) -> < 0.01 | L34: =IF('DATA ENTRY PAGE'!L34=0," ",IF('DATA ENTRY PAGE'!L34>=0.01, ROUND('DATA ENTRY PAGE'!L34,2),("< " &ROUNDUP('DATA ENTRY PAGE'!L34,2)))) -> < 0.01 | M34: =IF('DATA ENTRY PAGE'!M34=0," ",'DATA ENTRY PAGE'!M34) -> 81 | N34: =IF('DATA ENTRY PAGE'!N34=0," ",'DATA ENTRY PAGE'!N34) -> 82 | O34: =IF('DATA ENTRY PAGE'!O34=0," ",'DATA ENTRY PAGE'!O34)
C35: TOTALS*: | F35: =IF(SUM('DATA ENTRY PAGE'!F11:'DATA ENTRY PAGE'!F34)=0," ",IF(SUM('DATA ENTRY PAGE'!F11:'DATA ENTRY PAGE'!F34)>=0.01, ROUND(SUM('DATA ENTRY PAGE'!F11:'DATA ENTRY PAGE'!F34),2),("< " &ROUNDUP(SUM('DATA ENTRY PAGE'!F11:'DATA ENTRY PAGE'!F34),2)))) -> 5.39 | G35: =IF(SUM('DATA ENTRY PAGE'!G11:'DATA ENTRY PAGE'!G34)=0," ",IF(SUM('DATA ENTRY PAGE'!G11:'DATA ENTRY PAGE'!G34)>=0.01, ROUND(SUM('DATA ENTRY PAGE'!G11:'DATA ENTRY PAGE'!G34),2),("< " &ROUNDUP(SUM('DATA ENTRY PAGE'!G11:'DATA ENTRY PAGE'!G34),2)))) -> 0.01 | H35: =IF(SUM('DATA ENTRY PAGE'!H11:'DATA ENTRY PAGE'!H34)=0," ",IF(SUM('DATA ENTRY PAGE'!H11:'DATA ENTRY PAGE'!H34)>=0.01, ROUND(SUM('DATA ENTRY PAGE'!H11:'DATA ENTRY PAGE'!H34),2),("< " &ROUNDUP(SUM('DATA ENTRY PAGE'!H11:'DATA ENTRY PAGE'!H34),2)))) -> 0.59 | I35: =IF(SUM('DATA ENTRY PAGE'!I11:'DATA ENTRY PAGE'!I34)=0," ",IF(SUM('DATA ENTRY PAGE'!I11:'DATA ENTRY PAGE'!I34)>=0.01, ROUND(SUM('DATA ENTRY PAGE'!I11:'DATA ENTRY PAGE'!I34),2),("< " &ROUNDUP(SUM('DATA ENTRY PAGE'!I11:'DATA ENTRY PAGE'!I34),2)))) -> 0.69 | J35: =IF(SUM('DATA ENTRY PAGE'!J11:'DATA ENTRY PAGE'!J34)=0," ",IF(SUM('DATA ENTRY PAGE'!J11:'DATA ENTRY PAGE'!J34)>=0.01, ROUND(SUM('DATA ENTRY PAGE'!J11:'DATA ENTRY PAGE'!J34),2),("< " &ROUNDUP(SUM('DATA ENTRY PAGE'!J11:'DATA ENTRY PAGE'!J34),2)))) -> 0.21 | K35: =IF(SUM('DATA ENTRY PAGE'!K11:'DATA ENTRY PAGE'!K34)=0," ",IF(SUM('DATA ENTRY PAGE'!K11:'DATA ENTRY PAGE'!K34)>=0.01, ROUND(SUM('DATA ENTRY PAGE'!K11:'DATA ENTRY PAGE'!K34),2),("< " &ROUNDUP(SUM('DATA ENTRY PAGE'!K11:'DATA ENTRY PAGE'!K34),2)))) -> 0.5 | L35: =IF(SUM('DATA ENTRY PAGE'!L11:'DATA ENTRY PAGE'!L34)=0," ",IF(SUM('DATA ENTRY PAGE'!L11:'DATA ENTRY PAGE'!L34)>=0.01, ROUND(SUM('DATA ENTRY PAGE'!L11:'DATA ENTRY PAGE'!L34),2),("< " &ROUNDUP(SUM('DATA ENTRY PAGE'!L11:'DATA ENTRY PAGE'!L34),2)))) -> 0.07 | M35: =SUM(M11:M34) -> 3792 | N35: =SUM(N11:N34) -> 721 | O35: =SUM(O11:O34) -> 0
C38: *Rounded totals are sum of actual impacts
C39: NOTES:
C40: =IF('DATA ENTRY PAGE'!C40:J40 = 0," ",'DATA ENTRY PAGE'!C40:J40) -> Site 2: Removed | L40: NC DEPARTMENT OF TRANSPORTATION
C41: =IF('DATA ENTRY PAGE'!C41:J41 = 0," ",'DATA ENTRY PAGE'!C41:J41) -> Site 4: Wetland considered Isolated | L41: DIVISION OF HIGHWAYS
C42: =IF('DATA ENTRY PAGE'!C42:J42 = 0," ",'DATA ENTRY PAGE'!C42:J42) -> Site 5: Wetland Total Take | L42: =IF('DATA ENTRY PAGE'!L42:P42 <> 0, 'DATA ENTRY PAGE'!L42:P42, " ") -> 12/3/2019
C43: =IF('DATA ENTRY PAGE'!C43:J43 = 0," ",'DATA ENTRY PAGE'!C43:J43) -> Site 9: Wetland Total Take | L43: =IF('DATA ENTRY PAGE'!L43:P43 <> 0, 'DATA ENTRY PAGE'!L43:P43, " ") -> WAKE COUNTY
C44: =IF('DATA ENTRY PAGE'!C44:J44 = 0," ",'DATA ENTRY PAGE'!C44:J44) -> Site 16: Wetland Total Take | L44: =IF('DATA ENTRY PAGE'!L44:P44 <> 0, 'DATA ENTRY PAGE'!L44:P44, " ") -> R-2721
C45: =IF('DATA ENTRY PAGE'!C45:J45 = 0," ",'DATA ENTRY PAGE'!C45:J45) | L45: =IF('DATA ENTRY PAGE'!L45:P45 <> 0, 'DATA ENTRY PAGE'!L45:P45, " ") -> 6.401078
B46: Revised 2018 Feb | L46: SHEET | M46: ='DATA ENTRY PAGE'!M46 -> 115 | N46: OF | O46: ='DATA ENTRY PAGE'!O46 -> 119
E50: THIS SHEET IS AUTOMATICALLY POPULATED FROM THE DATA ENTRY PAGE TAB
E52: WORKSHEET PASSWORD = NCDOT

Sheet PRINT PAGE (2)
C4: WETLAND AND SURACE WATER IMPACTS SUMMARY
F5: WETLAND IMPACTS | K5: SURFACE WATER IMPACTS
J6: Hand | M6: Existing | N6: Existing
F7: Permanent | G7: ='DATA ENTRY PAGE'!G7 -> Temp. | H7: Excavation | I7: Mechanized | J7: Clearing | K7: Permanent | L7: Temp. | M7: Channel | N7: Channel | O7: Natural
C8: Site | D8: Station | E8: Structure | F8: Fill In | G8: ='DATA ENTRY PAGE'!G8 -> Excavation | H8: in | I8: Clearing | J8: in | K8: SW | L8: SW | M8: Impacts | N8: Impacts | O8: Stream
C9: No. | D9: (From/To) | E9: Size / Type | F9: Wetlands | G9: ='DATA ENTRY PAGE'!G9 -> In Wetlands | H9: Wetlands | I9: in Wetlands | J9: Wetlands | K9: impacts | L9: impacts | M9: Permanent | N9: Temp. | O9: Design
C10: =IF('DATA ENTRY PAGE (2)'!C10=0," ",'DATA ENTRY PAGE (2)'!C10) | D10: =IF('DATA ENTRY PAGE (2)'!D10=0," ",'DATA ENTRY PAGE (2)'!D10) | E10: =IF('DATA ENTRY PAGE (2)'!E10=0," ",'DATA ENTRY PAGE (2)'!E10) | F10: (ac) | G10: (ac) | H10: (ac) | I10: (ac) | J10: (ac) | K10: (ac) | L10: (ac) | M10: (ft) | N10: (ft) | O10: (ft)
C11: =IF('DATA ENTRY PAGE (2)'!C11=0," ",'DATA ENTRY PAGE (2)'!C11) -> 18a | D11: =IF('DATA ENTRY PAGE (2)'!D11=0," ",'DATA ENTRY PAGE (2)'!D11) -> 125+31 to 125+85-L- | E11: =IF('DATA ENTRY PAGE (2)'!E11=0," ",'DATA ENTRY PAGE (2)'!E11) -> ROADWAY FILL | F11: =IF('DATA ENTRY PAGE (2)'!F11=0," ",IF('DATA ENTRY PAGE (2)'!F11>=0.01, ROUND('DATA ENTRY PAGE (2)'!F11,2),("< " &ROUNDUP('DATA ENTRY PAGE (2)'!F11,2)))) | G11: =IF('DATA ENTRY PAGE (2)'!G11=0," ",IF('DATA ENTRY PAGE (2)'!G11>=0.01, ROUND('DATA ENTRY PAGE (2)'!G11,2),("< " &ROUNDUP('DATA ENTRY PAGE (2)'!G11,2)))) | H11: =IF('DATA ENTRY PAGE (2)'!H11=0," ",IF('DATA ENTRY PAGE (2)'!H11>=0.01, ROUND('DATA ENTRY PAGE (2)'!H11,2),("< " &ROUNDUP('DATA ENTRY PAGE (2)'!H11,2)))) | I11: =IF('DATA ENTRY PAGE (2)'!I11=0," ",IF('DATA ENTRY PAGE (2)'!I11>=0.01, ROUND('DATA ENTRY PAGE (2)'!I11,2),("< " &ROUNDUP('DATA ENTRY PAGE (2)'!I11,2)))) | J11: =IF('DATA ENTRY PAGE (2)'!J11=0," ",IF('DATA ENTRY PAGE (2)'!J11>=0.01, ROUND('DATA ENTRY PAGE (2)'!J11,2),("< " &ROUNDUP('DATA ENTRY PAGE (2)'!J11,2)))) | K11: =IF('DATA ENTRY PAGE (2)'!K11=0," ",IF('DATA ENTRY PAGE (2)'!K11>=0.01, ROUND('DATA ENTRY PAGE (2)'!K11,2),("< " &ROUNDUP('DATA ENTRY PAGE (2)'!K11,2)))) -> < 0.01 | L11: =IF('DATA ENTRY PAGE (2)'!L11=0," ",IF('DATA ENTRY PAGE (2)'!L11>=0.01, ROUND('DATA ENTRY PAGE (2)'!L11,2),("< " &ROUNDUP('DATA ENTRY PAGE (2)'!L11,2)))) | M11: =IF('DATA ENTRY PAGE (2)'!M11=0," ",'DATA ENTRY PAGE (2)'!M11) -> 91 | N11: =IF('DATA ENTRY PAGE (2)'!N11=0," ",'DATA ENTRY PAGE (2)'!N11) | O11: =IF('DATA ENTRY PAGE (2)'!O11=0," ",'DATA ENTRY PAGE (2)'!O11)
C12: =IF('DATA ENTRY PAGE (2)'!C12=0," ",'DATA ENTRY PAGE (2)'!C12) -> 19 | D12: =IF('DATA ENTRY PAGE (2)'!D12=0," ",'DATA ENTRY PAGE (2)'!D12) -> 140+59 to 142+46 -L- | E12: =IF('DATA ENTRY PAGE (2)'!E12=0," ",'DATA ENTRY PAGE (2)'!E12) -> 1@6'x8' RCBC | F12: =IF('DATA ENTRY PAGE (2)'!F12=0," ",IF('DATA ENTRY PAGE (2)'!F12>=0.01, ROUND('DATA ENTRY PAGE (2)'!F12,2),("< " &ROUNDUP('DATA ENTRY PAGE (2)'!F12,2)))) -> 0.02 | G12: =IF('DATA ENTRY PAGE (2)'!G12=0," ",IF('DATA ENTRY PAGE (2)'!G12>=0.01, ROUND('DATA ENTRY PAGE (2)'!G12,2),("< " &ROUNDUP('DATA ENTRY PAGE (2)'!G12,2)))) -> < 0.01 | H12: =IF('DATA ENTRY PAGE (2)'!H12=0," ",IF('DATA ENTRY PAGE (2)'!H12>=0.01, ROUND('DATA ENTRY PAGE (2)'!H12,2),("< " &ROUNDUP('DATA ENTRY PAGE (2)'!H12,2)))) -> < 0.01 | I12: =IF('DATA ENTRY PAGE (2)'!I12=0," ",IF('DATA ENTRY PAGE (2)'!I12>=0.01, ROUND('DATA ENTRY PAGE (2)'!I12,2),("< " &ROUNDUP('DATA ENTRY PAGE (2)'!I12,2)))) -> 0.12 | J12: =IF('DATA ENTRY PAGE (2)'!J12=0," ",IF('DATA ENTRY PAGE (2)'!J12>=0.01, ROUND('DATA ENTRY PAGE (2)'!J12,2),("< " &ROUNDUP('DATA ENTRY PAGE (2)'!J12,2)))) | K12: =IF('DATA ENTRY PAGE (2)'!K12=0," ",IF('DATA ENTRY PAGE (2)'!K12>=0.01, ROUND('DATA ENTRY PAGE (2)'!K12,2),("< " &ROUNDUP('DATA ENTRY PAGE (2)'!K12,2)))) -> 0.04 | L12: =IF('DATA ENTRY PAGE (2)'!L12=0," ",IF('DATA ENTRY PAGE (2)'!L12>=0.01, ROUND('DATA ENTRY PAGE (2)'!L12,2),("< " &ROUNDUP('DATA ENTRY PAGE (2)'!L12,2)))) | M12: =IF('DATA ENTRY PAGE (2)'!M12=0," ",'DATA ENTRY PAGE (2)'!M12) -> 331 | N12: =IF('DATA ENTRY PAGE (2)'!N12=0," ",'DATA ENTRY PAGE (2)'!N12) | O12: =IF('DATA ENTRY PAGE (2)'!O12=0," ",'DATA ENTRY PAGE (2)'!O12)
C13: =IF('DATA ENTRY PAGE (2)'!C13=0," ",'DATA ENTRY PAGE (2)'!C13) | D13: =IF('DATA ENTRY PAGE (2)'!D13=0," ",'DATA ENTRY PAGE (2)'!D13) | E13: =IF('DATA ENTRY PAGE (2)'!E13=0," ",'DATA ENTRY PAGE (2)'!E13) -> STABILIZATION | F13: =IF('DATA ENTRY PAGE (2)'!F13=0," ",IF('DATA ENTRY PAGE (2)'!F13>=0.01, ROUND('DATA ENTRY PAGE (2)'!F13,2),("< " &ROUNDUP('DATA ENTRY PAGE (2)'!F13,2)))) | G13: =IF('DATA ENTRY PAGE (2)'!G13=0," ",IF('DATA ENTRY PAGE (2)'!G13>=0.01, ROUND('DATA ENTRY PAGE (2)'!G13,2),("< " &ROUNDUP('DATA ENTRY PAGE (2)'!G13,2)))) | H13: =IF('DATA ENTRY PAGE (2)'!H13=0," ",IF('DATA ENTRY PAGE (2)'!H13>=0.01, ROUND('DATA ENTRY PAGE (2)'!H13,2),("< " &ROUNDUP('DATA ENTRY PAGE (2)'!H13,2)))) | I13: =IF('DATA ENTRY PAGE (2)'!I13=0," ",IF('DATA ENTRY PAGE (2)'!I13>=0.01, ROUND('DATA ENTRY PAGE (2)'!I13,2),("< " &ROUNDUP('DATA ENTRY PAGE (2)'!I13,2)))) | J13: =IF('DATA ENTRY PAGE (2)'!J13=0," ",IF('DATA ENTRY PAGE (2)'!J13>=0.01, ROUND('DATA ENTRY PAGE (2)'!J13,2),("< " &ROUNDUP('DATA ENTRY PAGE (2)'!J13,2)))) | K13: =IF('DATA ENTRY PAGE (2)'!K13=0," ",IF('DATA ENTRY PAGE (2)'!K13>=0.01, ROUND('DATA ENTRY PAGE (2)'!K13,2),("< " &ROUNDUP('DATA ENTRY PAGE (2)'!K13,2)))) -> 0.01 | L13: =IF('DATA ENTRY PAGE (2)'!L13=0," ",IF('DATA ENTRY PAGE (2)'!L13>=0.01, ROUND('DATA ENTRY PAGE (2)'!L13,2),("< " &ROUNDUP('DATA ENTRY PAGE (2)'!L13,2)))) -> < 0.01 | M13: =IF('DATA ENTRY PAGE (2)'!M13=0," ",'DATA ENTRY PAGE (2)'!M13) -> 121 | N13: =IF('DATA ENTRY PAGE (2)'!N13=0," ",'DATA ENTRY PAGE (2)'!N13) -> 93 | O13: =IF('DATA ENTRY PAGE (2)'!O13=0," ",'DATA ENTRY PAGE (2)'!O13)
C14: =IF('DATA ENTRY PAGE (2)'!C14=0," ",'DATA ENTRY PAGE (2)'!C14) -> 20 | D14: =IF('DATA ENTRY PAGE (2)'!D14=0," ",'DATA ENTRY PAGE (2)'!D14) -> 146+70 to 147+85-L- | E14: =IF('DATA ENTRY PAGE (2)'!E14=0," ",'DATA ENTRY PAGE (2)'!E14) -> 1@6'x8' RCBC | F14: =IF('DATA ENTRY PAGE (2)'!F14=0," ",IF('DATA ENTRY PAGE (2)'!F14>=0.01, ROUND('DATA ENTRY PAGE (2)'!F14,2),("< " &ROUNDUP('DATA ENTRY PAGE (2)'!F14,2)))) -> 0.1 | G14: =IF('DATA ENTRY PAGE (2)'!G14=0," ",IF('DATA ENTRY PAGE (2)'!G14>=0.01, ROUND('DATA ENTRY PAGE (2)'!G14,2),("< " &ROUNDUP('DATA ENTRY PAGE (2)'!G14,2)))) -> 0.02 | H14: =IF('DATA ENTRY PAGE (2)'!H14=0," ",IF('DATA ENTRY PAGE (2)'!H14>=0.01, ROUND('DATA ENTRY PAGE (2)'!H14,2),("< " &ROUNDUP('DATA ENTRY PAGE (2)'!H14,2)))) | I14: =IF('DATA ENTRY PAGE (2)'!I14=0," ",IF('DATA ENTRY PAGE (2)'!I14>=0.01, ROUND('DATA ENTRY PAGE (2)'!I14,2),("< " &ROUNDUP('DATA ENTRY PAGE (2)'!I14,2)))) -> 0.08 | J14: =IF('DATA ENTRY PAGE (2)'!J14=0," ",IF('DATA ENTRY PAGE (2)'!J14>=0.01, ROUND('DATA ENTRY PAGE (2)'!J14,2),("< " &ROUNDUP('DATA ENTRY PAGE (2)'!J14,2)))) | K14: =IF('DATA ENTRY PAGE (2)'!K14=0," ",IF('DATA ENTRY PAGE (2)'!K14>=0.01, ROUND('DATA ENTRY PAGE (2)'!K14,2),("< " &ROUNDUP('DATA ENTRY PAGE (2)'!K14,2)))) -> 0.01 | L14: =IF('DATA ENTRY PAGE (2)'!L14=0," ",IF('DATA ENTRY PAGE (2)'!L14>=0.01, ROUND('DATA ENTRY PAGE (2)'!L14,2),("< " &ROUNDUP('DATA ENTRY PAGE (2)'!L14,2)))) | M14: =IF('DATA ENTRY PAGE (2)'!M14=0," ",'DATA ENTRY PAGE (2)'!M14) -> 249 | N14: =IF('DATA ENTRY PAGE (2)'!N14=0," ",'DATA ENTRY PAGE (2)'!N14) | O14: =IF('DATA ENTRY PAGE (2)'!O14=0," ",'DATA ENTRY PAGE (2)'!O14)
C15: =IF('DATA ENTRY PAGE (2)'!C15=0," ",'DATA ENTRY PAGE (2)'!C15) | D15: =IF('DATA ENTRY PAGE (2)'!D15=0," ",'DATA ENTRY PAGE (2)'!D15) | E15: =IF('DATA ENTRY PAGE (2)'!E15=0," ",'DATA ENTRY PAGE (2)'!E15) -> STABILIZATION | F15: =IF('DATA ENTRY PAGE (2)'!F15=0," ",IF('DATA ENTRY PAGE (2)'!F15>=0.01, ROUND('DATA ENTRY PAGE (2)'!F15,2),("< " &ROUNDUP('DATA ENTRY PAGE (2)'!F15,2)))) | G15: =IF('DATA ENTRY PAGE (2)'!G15=0," ",IF('DATA ENTRY PAGE (2)'!G15>=0.01, ROUND('DATA ENTRY PAGE (2)'!G15,2),("< " &ROUNDUP('DATA ENTRY PAGE (2)'!G15,2)))) | H15: =IF('DATA ENTRY PAGE (2)'!H15=0," ",IF('DATA ENTRY PAGE (2)'!H15>=0.01, ROUND('DATA ENTRY PAGE (2)'!H15,2),("< " &ROUNDUP('DATA ENTRY PAGE (2)'!H15,2)))) | I15: =IF('DATA ENTRY PAGE (2)'!I15=0," ",IF('DATA ENTRY PAGE (2)'!I15>=0.01, ROUND('DATA ENTRY PAGE (2)'!I15,2),("< " &ROUNDUP('DATA ENTRY PAGE (2)'!I15,2)))) | J15: =IF('DATA ENTRY PAGE (2)'!J15=0," ",IF('DATA ENTRY PAGE (2)'!J15>=0.01, ROUND('DATA ENTRY PAGE (2)'!J15,2),("< " &ROUNDUP('DATA ENTRY PAGE (2)'!J15,2)))) | K15: =IF('DATA ENTRY PAGE (2)'!K15=0," ",IF('DATA ENTRY PAGE (2)'!K15>=0.01, ROUND('DATA ENTRY PAGE (2)'!K15,2),("< " &ROUNDUP('DATA ENTRY PAGE (2)'!K15,2)))) -> < 0.01 | L15: =IF('DATA ENTRY PAGE (2)'!L15=0," ",IF('DATA ENTRY PAGE (2)'!L15>=0.01, ROUND('DATA ENTRY PAGE (2)'!L15,2),("< " &ROUNDUP('DATA ENTRY PAGE (2)'!L15,2)))) -> < 0.01 | M15: =IF('DATA ENTRY PAGE (2)'!M15=0," ",'DATA ENTRY PAGE (2)'!M15) -> 92 | N15: =IF('DATA ENTRY PAGE (2)'!N15=0," ",'DATA ENTRY PAGE (2)'!N15) -> 65 | O15: =IF('DATA ENTRY PAGE (2)'!O15=0," ",'DATA ENTRY PAGE (2)'!O15)
C16: =IF('DATA ENTRY PAGE (2)'!C16=0," ",'DATA ENTRY PAGE (2)'!C16) -> 21 | D16: =IF('DATA ENTRY PAGE (2)'!D16=0," ",'DATA ENTRY PAGE (2)'!D16) -> 146+88 to 147+06-L-LT | E16: =IF('DATA ENTRY PAGE (2)'!E16=0," ",'DATA ENTRY PAGE (2)'!E16) -> ROADWAY FILL | F16: =IF('DATA ENTRY PAGE (2)'!F16=0," ",IF('DATA ENTRY PAGE (2)'!F16>=0.01, ROUND('DATA ENTRY PAGE (2)'!F16,2),("< " &ROUNDUP('DATA ENTRY PAGE (2)'!F16,2)))) | G16: =IF('DATA ENTRY PAGE (2)'!G16=0," ",IF('DATA ENTRY PAGE (2)'!G16>=0.01, ROUND('DATA ENTRY PAGE (2)'!G16,2),("< " &ROUNDUP('DATA ENTRY PAGE (2)'!G16,2)))) -> < 0.01 | H16: =IF('DATA ENTRY PAGE (2)'!H16=0," ",IF('DATA ENTRY PAGE (2)'!H16>=0.01, ROUND('DATA ENTRY PAGE (2)'!H16,2),("< " &ROUNDUP('DATA ENTRY PAGE (2)'!H16,2)))) | I16: =IF('DATA ENTRY PAGE (2)'!I16=0," ",IF('DATA ENTRY PAGE (2)'!I16>=0.01, ROUND('DATA ENTRY PAGE (2)'!I16,2),("< " &ROUNDUP('DATA ENTRY PAGE (2)'!I16,2)))) -> 0.02 | J16: =IF('DATA ENTRY PAGE (2)'!J16=0," ",IF('DATA ENTRY PAGE (2)'!J16>=0.01, ROUND('DATA ENTRY PAGE (2)'!J16,2),("< " &ROUNDUP('DATA ENTRY PAGE (2)'!J16,2)))) | K16: =IF('DATA ENTRY PAGE (2)'!K16=0," ",IF('DATA ENTRY PAGE (2)'!K16>=0.01, ROUND('DATA ENTRY PAGE (2)'!K16,2),("< " &ROUNDUP('DATA ENTRY PAGE (2)'!K16,2)))) | L16: =IF('DATA ENTRY PAGE (2)'!L16=0," ",IF('DATA ENTRY PAGE (2)'!L16>=0.01, ROUND('DATA ENTRY PAGE (2)'!L16,2),("< " &ROUNDUP('DATA ENTRY PAGE (2)'!L16,2)))) | M16: =IF('DATA ENTRY PAGE (2)'!M16=0," ",'DATA ENTRY PAGE (2)'!M16) | N16: =IF('DATA ENTRY PAGE (2)'!N16=0," ",'DATA ENTRY PAGE (2)'!N16) | O16: =IF('DATA ENTRY PAGE (2)'!O16=0," ",'DATA ENTRY PAGE (2)'!O16)
C17: =IF('DATA ENTRY PAGE (2)'!C17=0," ",'DATA ENTRY PAGE (2)'!C17) -> 22 | D17: =IF('DATA ENTRY PAGE (2)'!D17=0," ",'DATA ENTRY PAGE (2)'!D17) -> 148+36 to 149+02-L-RT | E17: =IF('DATA ENTRY PAGE (2)'!E17=0," ",'DATA ENTRY PAGE (2)'!E17) -> 30" RCP | F17: =IF('DATA ENTRY PAGE (2)'!F17=0," ",IF('DATA ENTRY PAGE (2)'!F17>=0.01, ROUND('DATA ENTRY PAGE (2)'!F17,2),("< " &ROUNDUP('DATA ENTRY PAGE (2)'!F17,2)))) | G17: =IF('DATA ENTRY PAGE (2)'!G17=0," ",IF('DATA ENTRY PAGE (2)'!G17>=0.01, ROUND('DATA ENTRY PAGE (2)'!G17,2),("< " &ROUNDUP('DATA ENTRY PAGE (2)'!G17,2)))) | H17: =IF('DATA ENTRY PAGE (2)'!H17=0," ",IF('DATA ENTRY PAGE (2)'!H17>=0.01, ROUND('DATA ENTRY PAGE (2)'!H17,2),("< " &ROUNDUP('DATA ENTRY PAGE (2)'!H17,2)))) | I17: =IF('DATA ENTRY PAGE (2)'!I17=0," ",IF('DATA ENTRY PAGE (2)'!I17>=0.01, ROUND('DATA ENTRY PAGE (2)'!I17,2),("< " &ROUNDUP('DATA ENTRY PAGE (2)'!I17,2)))) | J17: =IF('DATA ENTRY PAGE (2)'!J17=0," ",IF('DATA ENTRY PAGE (2)'!J17>=0.01, ROUND('DATA ENTRY PAGE (2)'!J17,2),("< " &ROUNDUP('DATA ENTRY PAGE (2)'!J17,2)))) | K17: =IF('DATA ENTRY PAGE (2)'!K17=0," ",IF('DATA ENTRY PAGE (2)'!K17>=0.01, ROUND('DATA ENTRY PAGE (2)'!K17,2),("< " &ROUNDUP('DATA ENTRY PAGE (2)'!K17,2)))) -> < 0.01 | L17: =IF('DATA ENTRY PAGE (2)'!L17=0," ",IF('DATA ENTRY PAGE (2)'!L17>=0.01, ROUND('DATA ENTRY PAGE (2)'!L17,2),("< " &ROUNDUP('DATA ENTRY PAGE (2)'!L17,2)))) -> < 0.01 | M17: =IF('DATA ENTRY PAGE (2)'!M17=0," ",'DATA ENTRY PAGE (2)'!M17) -> 70 | N17: =IF('DATA ENTRY PAGE (2)'!N17=0," ",'DATA ENTRY PAGE (2)'!N17) -> 15 | O17: =IF('DATA ENTRY PAGE (2)'!O17=0," ",'DATA ENTRY PAGE (2)'!O17)
C18: =IF('DATA ENTRY PAGE (2)'!C18=0," ",'DATA ENTRY PAGE (2)'!C18) -> 23 | D18: =IF('DATA ENTRY PAGE (2)'!D18=0," ",'DATA ENTRY PAGE (2)'!D18) -> 148+41 to 149+02-L-RT | E18: =IF('DATA ENTRY PAGE (2)'!E18=0," ",'DATA ENTRY PAGE (2)'!E18) -> ROADWAY FILL | F18: =IF('DATA ENTRY PAGE (2)'!F18=0," ",IF('DATA ENTRY PAGE (2)'!F18>=0.01, ROUND('DATA ENTRY PAGE (2)'!F18,2),("< " &ROUNDUP('DATA ENTRY PAGE (2)'!F18,2)))) | G18: =IF('DATA ENTRY PAGE (2)'!G18=0," ",IF('DATA ENTRY PAGE (2)'!G18>=0.01, ROUND('DATA ENTRY PAGE (2)'!G18,2),("< " &ROUNDUP('DATA ENTRY PAGE (2)'!G18,2)))) | H18: =IF('DATA ENTRY PAGE (2)'!H18=0," ",IF('DATA ENTRY PAGE (2)'!H18>=0.01, ROUND('DATA ENTRY PAGE (2)'!H18,2),("< " &ROUNDUP('DATA ENTRY PAGE (2)'!H18,2)))) | I18: =IF('DATA ENTRY PAGE (2)'!I18=0," ",IF('DATA ENTRY PAGE (2)'!I18>=0.01, ROUND('DATA ENTRY PAGE (2)'!I18,2),("< " &ROUNDUP('DATA ENTRY PAGE (2)'!I18,2)))) -> 0.01 | J18: =IF('DATA ENTRY PAGE (2)'!J18=0," ",IF('DATA ENTRY PAGE (2)'!J18>=0.01, ROUND('DATA ENTRY PAGE (2)'!J18,2),("< " &ROUNDUP('DATA ENTRY PAGE (2)'!J18,2)))) | K18: =IF('DATA ENTRY PAGE (2)'!K18=0," ",IF('DATA ENTRY PAGE (2)'!K18>=0.01, ROUND('DATA ENTRY PAGE (2)'!K18,2),("< " &ROUNDUP('DATA ENTRY PAGE (2)'!K18,2)))) | L18: =IF('DATA ENTRY PAGE (2)'!L18=0," ",IF('DATA ENTRY PAGE (2)'!L18>=0.01, ROUND('DATA ENTRY PAGE (2)'!L18,2),("< " &ROUNDUP('DATA ENTRY PAGE (2)'!L18,2)))) | M18: =IF('DATA ENTRY PAGE (2)'!M18=0," ",'DATA ENTRY PAGE (2)'!M18) | N18: =IF('DATA ENTRY PAGE (2)'!N18=0," ",'DATA ENTRY PAGE (2)'!N18) | O18: =IF('DATA ENTRY PAGE (2)'!O18=0," ",'DATA ENTRY PAGE (2)'!O18)
C19: =IF('DATA ENTRY PAGE (2)'!C19=0," ",'DATA ENTRY PAGE (2)'!C19) -> 24 | D19: =IF('DATA ENTRY PAGE (2)'!D19=0," ",'DATA ENTRY PAGE (2)'!D19) -> 149+09 to 155+85-L- | E19: =IF('DATA ENTRY PAGE (2)'!E19=0," ",'DATA ENTRY PAGE (2)'!E19) -> ROADWAY FILL | F19: =IF('DATA ENTRY PAGE (2)'!F19=0," ",IF('DATA ENTRY PAGE (2)'!F19>=0.01, ROUND('DATA ENTRY PAGE (2)'!F19,2),("< " &ROUNDUP('DATA ENTRY PAGE (2)'!F19,2)))) -> 1.25 | G19: =IF('DATA ENTRY PAGE (2)'!G19=0," ",IF('DATA ENTRY PAGE (2)'!G19>=0.01, ROUND('DATA ENTRY PAGE (2)'!G19,2),("< " &ROUNDUP('DATA ENTRY PAGE (2)'!G19,2)))) | H19: =IF('DATA ENTRY PAGE (2)'!H19=0," ",IF('DATA ENTRY PAGE (2)'!H19>=0.01, ROUND('DATA ENTRY PAGE (2)'!H19,2),("< " &ROUNDUP('DATA ENTRY PAGE (2)'!H19,2)))) -> 0.05 | I19: =IF('DATA ENTRY PAGE (2)'!I19=0," ",IF('DATA ENTRY PAGE (2)'!I19>=0.01, ROUND('DATA ENTRY PAGE (2)'!I19,2),("< " &ROUNDUP('DATA ENTRY PAGE (2)'!I19,2)))) -> 0.08 | J19: =IF('DATA ENTRY PAGE (2)'!J19=0," ",IF('DATA ENTRY PAGE (2)'!J19>=0.01, ROUND('DATA ENTRY PAGE (2)'!J19,2),("< " &ROUNDUP('DATA ENTRY PAGE (2)'!J19,2)))) | K19: =IF('DATA ENTRY PAGE (2)'!K19=0," ",IF('DATA ENTRY PAGE (2)'!K19>=0.01, ROUND('DATA ENTRY PAGE (2)'!K19,2),("< " &ROUNDUP('DATA ENTRY PAGE (2)'!K19,2)))) | L19: =IF('DATA ENTRY PAGE (2)'!L19=0," ",IF('DATA ENTRY PAGE (2)'!L19>=0.01, ROUND('DATA ENTRY PAGE (2)'!L19,2),("< " &ROUNDUP('DATA ENTRY PAGE (2)'!L19,2)))) | M19: =IF('DATA ENTRY PAGE (2)'!M19=0," ",'DATA ENTRY PAGE (2)'!M19) | N19: =IF('DATA ENTRY PAGE (2)'!N19=0," ",'DATA ENTRY PAGE (2)'!N19) | O19: =IF('DATA ENTRY PAGE (2)'!O19=0," ",'DATA ENTRY PAGE (2)'!O19)
C20: =IF('DATA ENTRY PAGE (2)'!C20=0," ",'DATA ENTRY PAGE (2)'!C20) -> 25 | D20: =IF('DATA ENTRY PAGE (2)'!D20=0," ",'DATA ENTRY PAGE (2)'!D20) -> 162+84 to 164+50-L-RT | E20: =IF('DATA ENTRY PAGE (2)'!E20=0," ",'DATA ENTRY PAGE (2)'!E20) -> POND | F20: =IF('DATA ENTRY PAGE (2)'!F20=0," ",IF('DATA ENTRY PAGE (2)'!F20>=0.01, ROUND('DATA ENTRY PAGE (2)'!F20,2),("< " &ROUNDUP('DATA ENTRY PAGE (2)'!F20,2)))) | G20: =IF('DATA ENTRY PAGE (2)'!G20=0," ",IF('DATA ENTRY PAGE (2)'!G20>=0.01, ROUND('DATA ENTRY PAGE (2)'!G20,2),("< " &ROUNDUP('DATA ENTRY PAGE (2)'!G20,2)))) | H20: =IF('DATA ENTRY PAGE (2)'!H20=0," ",IF('DATA ENTRY PAGE (2)'!H20>=0.01, ROUND('DATA ENTRY PAGE (2)'!H20,2),("< " &ROUNDUP('DATA ENTRY PAGE (2)'!H20,2)))) | I20: =IF('DATA ENTRY PAGE (2)'!I20=0," ",IF('DATA ENTRY PAGE (2)'!I20>=0.01, ROUND('DATA ENTRY PAGE (2)'!I20,2),("< " &ROUNDUP('DATA ENTRY PAGE (2)'!I20,2)))) | J20: =IF('DATA ENTRY PAGE (2)'!J20=0," ",IF('DATA ENTRY PAGE (2)'!J20>=0.01, ROUND('DATA ENTRY PAGE (2)'!J20,2),("< " &ROUNDUP('DATA ENTRY PAGE (2)'!J20,2)))) | K20: =IF('DATA ENTRY PAGE (2)'!K20=0," ",IF('DATA ENTRY PAGE (2)'!K20>=0.01, ROUND('DATA ENTRY PAGE (2)'!K20,2),("< " &ROUNDUP('DATA ENTRY PAGE (2)'!K20,2)))) -> 0.4 | L20: =IF('DATA ENTRY PAGE (2)'!L20=0," ",IF('DATA ENTRY PAGE (2)'!L20>=0.01, ROUND('DATA ENTRY PAGE (2)'!L20,2),("< " &ROUNDUP('DATA ENTRY PAGE (2)'!L20,2)))) | M20: =IF('DATA ENTRY PAGE (2)'!M20=0," ",'DATA ENTRY PAGE (2)'!M20) | N20: =IF('DATA ENTRY PAGE (2)'!N20=0," ",'DATA ENTRY PAGE (2)'!N20) | O20: =IF('DATA ENTRY PAGE (2)'!O20=0," ",'DATA ENTRY PAGE (2)'!O20)
C21: =IF('DATA ENTRY PAGE (2)'!C21=0," ",'DATA ENTRY PAGE (2)'!C21) -> 26 | D21: =IF('DATA ENTRY PAGE (2)'!D21=0," ",'DATA ENTRY PAGE (2)'!D21) -> 165+94 to 168+54 -L- | E21: =IF('DATA ENTRY PAGE (2)'!E21=0," ",'DATA ENTRY PAGE (2)'!E21) -> ROADWAY FILL | F21: =IF('DATA ENTRY PAGE (2)'!F21=0," ",IF('DATA ENTRY PAGE (2)'!F21>=0.01, ROUND('DATA ENTRY PAGE (2)'!F21,2),("< " &ROUNDUP('DATA ENTRY PAGE (2)'!F21,2)))) -> 1.25 | G21: =IF('DATA ENTRY PAGE (2)'!G21=0," ",IF('DATA ENTRY PAGE (2)'!G21>=0.01, ROUND('DATA ENTRY PAGE (2)'!G21,2),("< " &ROUNDUP('DATA ENTRY PAGE (2)'!G21,2)))) | H21: =IF('DATA ENTRY PAGE (2)'!H21=0," ",IF('DATA ENTRY PAGE (2)'!H21>=0.01, ROUND('DATA ENTRY PAGE (2)'!H21,2),("< " &ROUNDUP('DATA ENTRY PAGE (2)'!H21,2)))) | I21: =IF('DATA ENTRY PAGE (2)'!I21=0," ",IF('DATA ENTRY PAGE (2)'!I21>=0.01, ROUND('DATA ENTRY PAGE (2)'!I21,2),("< " &ROUNDUP('DATA ENTRY PAGE (2)'!I21,2)))) -> 0.09 | J21: =IF('DATA ENTRY PAGE (2)'!J21=0," ",IF('DATA ENTRY PAGE (2)'!J21>=0.01, ROUND('DATA ENTRY PAGE (2)'!J21,2),("< " &ROUNDUP('DATA ENTRY PAGE (2)'!J21,2)))) | K21: =IF('DATA ENTRY PAGE (2)'!K21=0," ",IF('DATA ENTRY PAGE (2)'!K21>=0.01, ROUND('DATA ENTRY PAGE (2)'!K21,2),("< " &ROUNDUP('DATA ENTRY PAGE (2)'!K21,2)))) | L21: =IF('DATA ENTRY PAGE (2)'!L21=0," ",IF('DATA ENTRY PAGE (2)'!L21>=0.01, ROUND('DATA ENTRY PAGE (2)'!L21,2),("< " &ROUNDUP('DATA ENTRY PAGE (2)'!L21,2)))) | M21: =IF('DATA ENTRY PAGE (2)'!M21=0," ",'DATA ENTRY PAGE (2)'!M21) | N21: =IF('DATA ENTRY PAGE (2)'!N21=0," ",'DATA ENTRY PAGE (2)'!N21) | O21: =IF('DATA ENTRY PAGE (2)'!O21=0," ",'DATA ENTRY PAGE (2)'!O21)
C22: =IF('DATA ENTRY PAGE (2)'!C22=0," ",'DATA ENTRY PAGE (2)'!C22) -> 27 | D22: =IF('DATA ENTRY PAGE (2)'!D22=0," ",'DATA ENTRY PAGE (2)'!D22) -> 168+51 to 169+40-L- | E22: =IF('DATA ENTRY PAGE (2)'!E22=0," ",'DATA ENTRY PAGE (2)'!E22) -> 2@9'x8' RCBC | F22: =IF('DATA ENTRY PAGE (2)'!F22=0," ",IF('DATA ENTRY PAGE (2)'!F22>=0.01, ROUND('DATA ENTRY PAGE (2)'!F22,2),("< " &ROUNDUP('DATA ENTRY PAGE (2)'!F22,2)))) | G22: =IF('DATA ENTRY PAGE (2)'!G22=0," ",IF('DATA ENTRY PAGE (2)'!G22>=0.01, ROUND('DATA ENTRY PAGE (2)'!G22,2),("< " &ROUNDUP('DATA ENTRY PAGE (2)'!G22,2)))) | H22: =IF('DATA ENTRY PAGE (2)'!H22=0," ",IF('DATA ENTRY PAGE (2)'!H22>=0.01, ROUND('DATA ENTRY PAGE (2)'!H22,2),("< " &ROUNDUP('DATA ENTRY PAGE (2)'!H22,2)))) | I22: =IF('DATA ENTRY PAGE (2)'!I22=0," ",IF('DATA ENTRY PAGE (2)'!I22>=0.01, ROUND('DATA ENTRY PAGE (2)'!I22,2),("< " &ROUNDUP('DATA ENTRY PAGE (2)'!I22,2)))) -> 0.07 | J22: =IF('DATA ENTRY PAGE (2)'!J22=0," ",IF('DATA ENTRY PAGE (2)'!J22>=0.01, ROUND('DATA ENTRY PAGE (2)'!J22,2),("< " &ROUNDUP('DATA ENTRY PAGE (2)'!J22,2)))) | K22: =IF('DATA ENTRY PAGE (2)'!K22=0," ",IF('DATA ENTRY PAGE (2)'!K22>=0.01, ROUND('DATA ENTRY PAGE (2)'!K22,2),("< " &ROUNDUP('DATA ENTRY PAGE (2)'!K22,2)))) -> 0.06 | L22: =IF('DATA ENTRY PAGE (2)'!L22=0," ",IF('DATA ENTRY PAGE (2)'!L22>=0.01, ROUND('DATA ENTRY PAGE (2)'!L22,2),("< " &ROUNDUP('DATA ENTRY PAGE (2)'!L22,2)))) | M22: =IF('DATA ENTRY PAGE (2)'!M22=0," ",'DATA ENTRY PAGE (2)'!M22) -> 311 | N22: =IF('DATA ENTRY PAGE (2)'!N22=0," ",'DATA ENTRY PAGE (2)'!N22) | O22: =IF('DATA ENTRY PAGE (2)'!O22=0," ",'DATA ENTRY PAGE (2)'!O22)
... C34: =IF('DATA ENTRY PAGE (2)'!C34=0," ",'DATA ENTRY PAGE (2)'!C34) | D34: =IF('DATA ENTRY PAGE (2)'!D34=0," ",'DATA ENTRY PAGE (2)'!D34) | E34: =IF('DATA ENTRY PAGE (2)'!E34=0," ",'DATA ENTRY PAGE (2)'!E34) | F34: =IF('DATA ENTRY PAGE (2)'!F34=0," ",IF('DATA ENTRY PAGE (2)'!F34>=0.01, ROUND('DATA ENTRY PAGE (2)'!F34,2),("< " &ROUNDUP('DATA ENTRY PAGE (2)'!F34,2)))) | G34: =IF('DATA ENTRY PAGE (2)'!G34=0," ",IF('DATA ENTRY PAGE (2)'!G34>=0.01, ROUND('DATA ENTRY PAGE (2)'!G34,2),("< " &ROUNDUP('DATA ENTRY PAGE (2)'!G34,2)))) | H34: =IF('DATA ENTRY PAGE (2)'!H34=0," ",IF('DATA ENTRY PAGE (2)'!H34>=0.01, ROUND('DATA ENTRY PAGE (2)'!H34,2),("< " &ROUNDUP('DATA ENTRY PAGE (2)'!H34,2)))) | I34: =IF('DATA ENTRY PAGE (2)'!I34=0," ",IF('DATA ENTRY PAGE (2)'!I34>=0.01, ROUND('DATA ENTRY PAGE (2)'!I34,2),("< " &ROUNDUP('DATA ENTRY PAGE (2)'!I34,2)))) | J34: =IF('DATA ENTRY PAGE (2)'!J34=0," ",IF('DATA ENTRY PAGE (2)'!J34>=0.01, ROUND('DATA ENTRY PAGE (2)'!J34,2),("< " &ROUNDUP('DATA ENTRY PAGE (2)'!J34,2)))) | K34: =IF('DATA ENTRY PAGE (2)'!K34=0," ",IF('DATA ENTRY PAGE (2)'!K34>=0.01, ROUND('DATA ENTRY PAGE (2)'!K34,2),("< " &ROUNDUP('DATA ENTRY PAGE (2)'!K34,2)))) | L34: =IF('DATA ENTRY PAGE (2)'!L34=0," ",IF('DATA ENTRY PAGE (2)'!L34>=0.01, ROUND('DATA ENTRY PAGE (2)'!L34,2),("< " &ROUNDUP('DATA ENTRY PAGE (2)'!L34,2)))) | M34: =IF('DATA ENTRY PAGE (2)'!M34=0," ",'DATA ENTRY PAGE (2)'!M34) | N34: =IF('DATA ENTRY PAGE (2)'!N34=0," ",'DATA ENTRY PAGE (2)'!N34) | O34: =IF('DATA ENTRY PAGE (2)'!O34=0," ",'DATA ENTRY PAGE (2)'!O34)
