Workbook

Sheet RIPARIAN BUFFER IMPACTS SUMMARY
C4: RIPARIAN BUFFER IMPACTS SUMMARY
F5: IMPACTS | O5: BUFFER REPLACEMENT
F6: TYPE | I6: ALLOWABLE | L6: MITIGABLE
C8: Site | D8: Station | E8: Structure | F8: ROAD CROSSING | G8: BRIDGE | H8: PARALLEL IMPACT | I8: ZONE 1 (ft2) | J8: ZONE 2 (ft2) | K8: TOTAL (ft2) | L8: ZONE 1 (ft2) | M8: ZONE 2 (ft2) | N8: TOTAL (ft2) | O8: ZONE 1 (ft2) | P8: ZONE 2 (ft2)
C9: No. | D9: (From/To) | E9: Size / Type
C11: 1 | D11: 52+27 to 52+90-LREV-RT | E11: 48" RCP | H11: X | L11: 11887 | M11: 6469 | N11: =L11+M11 -> 18356
C12: 2 | D12: 52+98 to 58+31 -LREV-LT | E12: ROADWAY FILL | H12: X | L12: 30036 | M12: 20253 | N12: =L12+M12 -> 50289
C13: 3 | D13: 59+05 to 60+25-LREV- | E13: 30" RCP | F13: X | L13: 24234 | M13: 16102 | N13: =L13+M13 -> 40336
C14: 4 | D14: 65+01 to 84+43-LREV- | E14: ROADWAY FILL | H14: X | L14: 59975 | M14: 31004 | N14: =L14+M14 -> 90979
D15: 65+01 to 84+43-LREV- | E15: 1@6'x8' RCBC | F15: X | L15: 84394 | M15: 45535 | N15: =L15+M15 -> 129929
C16: 5 | D16: 69+55 to 71+59 -LREV- | E16: 36" RCP | F16: X | L16: 13310 | M16: 8641 | N16: =L16+M16 -> 21951
C17: 6 | D17: 81+45 to 87+64-LREV- | E17: BRIDGE | G17: X | I17: 27484 | J17: 17336 | K17: =I17+J17 -> 44820
D18: 81+45 to 87+64-LREV- | E18: ROADWAY FILL | F18: X | L18: 1035 | M18: 1518 | N18: =L18+M18 -> 2553
C19: 7 | D19: 84+38 to 85+96 -LREV-LT | E19: BRIDGE | G19: X | I19: 3126 | J19: 1011.37 | K19: =I19+J19 -> 4137.37
D20: 84+38 to 85+96 -LREV-LT | E20: ROADWAY FILL | F20: X | L20: 9984 | M20: 6085 | N20: =L20+M20 -> 16069
C21: 8 | D21: SITE | E21: REMOVED
C22: 9 | D22: 124+47 to 126+48 -L- | E22: 1@6'x8' RCBC | F22: X | L22: 25718 | M22: 16949 | N22: =L22+M22 -> 42667
C23: 10 | D23: 140+32 to 142+97-L- | E23: 1@6'x8' RCBC | F23: X | L23: 30892 | M23: 21347 | N23: =L23+M23 -> 52239
C24: 11 | D24: 146+80 to 148+37-L- | E24: 1@6'x8' RCBC | F24: X | L24: 21649 | M24: 15710 | N24: =L24+M24 -> 37359
C25: 12 | D25: 147+44 to 149+51-L-RT | E25: 30" RCP | H25: X | L25: 7006 | M25: 6475 | N25: =L25+M25 -> 13481
C26: 13 | D26: 168+13 to 169+95-L- | E26: 2@9'x8' RCBC | F26: X | L26: 26300 | M26: 17852 | N26: =L26+M26 -> 44152
C27: 14 | D27: 19+36 to 22+13-Y5RPC- | E27: ROADWAY FILL | F27: X | L27: 17040 | M27: 12724 | N27: =L27+M27 -> 29764
C28: 15 | D28: 192+63 to 197+32-L- | E28: ROADWAY FILL | F28: X | L28: 46768 | M28: 31001 | N28: =L28+M28 -> 77769
C29: 16 | D29: 46+92 to 49+14 -Y5-LT | E29: ROADWAY FILL | H29: X | L29: 16145 | M29: 10114 | N29: =L29+M29 -> 26259
C30: 16A | D30: 24+27 to 24+54 -Y5RPB- | E30: 24" RCP-IV | F30: X | L30: 3590 | M30: 4011 | N30: =L30+M30 -> 7601
C31: 17 | D31: 15+80-Y5A- to 48+68-Y5-(SAB) | E31: ROADWAY FILL | F31: X | H31: X | L31: 61126 | M31: 39512 | N31: 100638
D32: 48+68-Y5- to 202+41-L-(SAA) | E32: ROADWAY FILL | F32: X | H32: X | L32: 52559 | M32: 28321 | N32: 80880
C33: 18 | D33: 201+74 to 206+80-L- | E33: 3@9'x8' RCBC | F33: X | L33: 62659 | M33: 35870 | N33: 98529
C34: 19 | D34: 209+01 to 211.28 -L- | E34: 42" RCP | F34: X | L34: 17332 | M34: 12563 | N34: 29895
C35: TOTALS*: | I35: =SUM(I11:I34) -> 30610 | J35: =SUM(J11:J34) -> 18347.37 | K35: =SUM(K11:K34) -> 48957.37 | L35: =SUM(L11:L34) -> 623639 | M35: =SUM(M11:M34) -> 388056 | N35: =SUM(N11:N34) -> 1011695 | O35: =SUM(O11:O34) -> 0 | P35: =SUM(P11:P34) -> 0
C38: NOTES:
L39: NC DEPARTMENT OF TRANSPORTATION
L40: DIVISION OF HIGHWAYS
L41: 12/3/2019
L42: WAKE COUNTY
L43: R-2721
L44: 6.401078
B45: Revised 2018 Feb | M45: SHEET | N45: 19 | O45: OF | P45: 22

Sheet RIPARIAN BUFFER IMPACTS SUM (2)
C4: RIPARIAN BUFFER IMPACTS SUMMARY
F5: IMPACTS | O5: BUFFER REPLACEMENT
F6: TYPE | I6: ALLOWABLE | L6: MITIGABLE
C8: Site | D8: Station | E8: Structure | F8: ROAD CROSSING | G8: BRIDGE | H8: PARALLEL IMPACT | I8: ZONE 1 (ft2) | J8: ZONE 2 (ft2) | K8: TOTAL (ft2) | L8: ZONE 1 (ft2) | M8: ZONE 2 (ft2) | N8: TOTAL (ft2) | O8: ZONE 1 (ft2) | P8: ZONE 2 (ft2)
C9: No. | D9: (From/To) | E9: Size / Type
C11: 20 | D11: 224+83 to 226+97-L- | E11: 36" RCP | F11: X | L11: 22902 | M11: 13676 | N11: 36578
C12: 21 | D12: 225+70 to 226+35-L-LT | E12: 42" RCP | H12: X | L12: 1087 | M12: 1181 | N12: 2268
C13: 22 | D13: 14+60 to 16+35 -Y3- | E13: 4@12'x8' RCBC | F13: X | L13: 13000 | M13: 9300 | N13: 22300
C14: 23 | D14: 15+10 to 16+77-Y5- | E14: 2@9'x8' RCBC | F14: X | L14: 17568 | M14: 9279 | N14: 26847
C15: 24 | D15: 66+72 to 69+30 -Y5- | E15: 2@7'x8' RCBC | F15: X | L15: 8416 | M15: 5987 | N15: 14403
C16: 25 | D16: 69+01 to 69+70-Y5-LT | E16: ROADWAY FILL | H16: X | L16: 4877 | M16: 2282 | N16: 7159
C17: 26 | D17: SITE | E17: REMOVED
L19: =IF(J19+K19<=0,"",J19+K19)
K23: =IF(I23+J23<=0,"",I23+J23)
K24: =IF(I24+J24<=0,"",I24+J24)
K25: =IF(I25+J25<=0,"",I25+J25)
K26: =IF(I26+J26<=0,"",I26+J26)
K27: =IF(I27+J27<=0,"",I27+J27)
K28: =IF(I28+J28<=0,"",I28+J28)
K29: =IF(I29+J29<=0,"",I29+J29)
K30: =IF(I30+J30<=0,"",I30+J30)
E31: TOTALS FROM THIS SHEET | I31: =SUM(I11:I30) -> 0 | J31: =SUM(J11:J30) -> 0 | K31: =SUM(K11:K30) -> 0 | L31: =SUM(L1:L30) -> 67850 | M31: =SUM(M11:M30) -> 41705 | N31: =SUM(N11:N30) -> 109555 | O31: =SUM(O7:O30) -> 0 | P31: =SUM(P7:P30) -> 0
K32: =IF(I32+J32<=0,"",I32+J32)
E33: TOTALS FROM SHEET 19 | I33: ='RIPARIAN BUFFER IMPACTS SUMMARY'!I35 -> 30610 | J33: ='RIPARIAN BUFFER IMPACTS SUMMARY'!J35 -> 18347.37 | K33: ='RIPARIAN BUFFER IMPACTS SUMMARY'!K35 -> 48957.37 | L33: ='RIPARIAN BUFFER IMPACTS SUMMARY'!L35 -> 623639 | M33: ='RIPARIAN BUFFER IMPACTS SUMMARY'!M35 -> 388056 | N33: ='RIPARIAN BUFFER IMPACTS SUMMARY'!N35 -> 1011695 | O33: ='RIPARIAN BUFFER IMPACTS SUMMARY'!O35 -> 0 | P33: ='RIPARIAN BUFFER IMPACTS SUMMARY'!P35 -> 0
K34: =IF(I34+J34<=0,"",I34+J34)
C35: TOTALS*: | I35: =SUM(I31:I34) -> 30610 | J35: =SUM(J31:J34) -> 18347.37 | K35: =SUM(K31:K34) -> 48957.37 | L35: =SUM(L31:L34) -> 691489 | M35: =SUM(M31:M34) -> 429761 | N35: =SUM(N31:N34) -> 1121250 | O35: =SUM(O11:O34) -> 0 | P35: =SUM(P11:P34) -> 0
C38: NOTES:
C39: Site 26 Removed as drainage was rerouted to avoid impacts at that location. | L39: NC DEPARTMENT OF TRANSPORTATION
L40: DIVISION OF HIGHWAYS
L41: ='RIPARIAN BUFFER IMPACTS SUMMARY'!L41:Q41 -> 12/3/2019
L42: WAKE COUNTY
L43: R-2721
L44: 6.401078
B45: Revised 2018 Feb | M45: SHEET | N45: 20 | O45: OF | P45: 22

Sheet Wetlands In Buffers
B2: WETLANDS IN BUFFER IMPACTS SUMMARY
E3: WETLANDS IN BUFFERS
B4: SITE NO. | C4: STATION (FROM/TO) | D4: Structure Size/Type
E5: ZONE 1 (ft2) | F5: ZONE 2 (ft2)
B6: 1 | C6: =INDEX('RIPARIAN BUFFER IMPACTS SUMMARY'!$D$11:$D$34,MATCH(B6,'RIPARIAN BUFFER IMPACTS SUMMARY'!$C$11:$C$34,0)) -> 52+27 to 52+90-LREV-RT | D6: 48" RCP | E6: 8993 | F6: =1800+160 -> 1960
B7: 2 | C7: =INDEX('RIPARIAN BUFFER IMPACTS SUMMARY'!$D$11:$D$34,MATCH(B7,'RIPARIAN BUFFER IMPACTS SUMMARY'!$C$11:$C$34,0)) -> 52+98 to 58+31 -LREV-LT | D7: ROADWAY FILL | E7: 22034 | F7: 8886
B8: 4 | C8: =INDEX('RIPARIAN BUFFER IMPACTS SUMMARY'!$D$11:$D$34,MATCH(B8,'RIPARIAN BUFFER IMPACTS SUMMARY'!$C$11:$C$34,0)) -> 65+01 to 84+43-LREV- | D8: ROADWAY FILL | E8: =237+3772+287 -> 4296 | F8: =1499+963+5909 -> 8371
B9: 6 | C9: =INDEX('RIPARIAN BUFFER IMPACTS SUMMARY'!$D$11:$D$34,MATCH(B9,'RIPARIAN BUFFER IMPACTS SUMMARY'!$C$11:$C$34,0)) -> 81+45 to 87+64-LREV- | D9: BRIDGE | E9: 306 | F9: =4520+611 -> 5131
C10: 81+45 to 87+64-LREV- | D10: ROADWAY FILL | E10: 0 | F10: 717
B11: 7 | C11: =INDEX('RIPARIAN BUFFER IMPACTS SUMMARY'!$D$11:$D$34,MATCH(B11,'RIPARIAN BUFFER IMPACTS SUMMARY'!$C$11:$C$34,0)) -> 84+38 to 85+96 -LREV-LT | D11: BRIDGE | E11: 2 | F11: 225
C12: 84+38 to 85+96 -LREV-LT | D12: ROADWAY FILL | E12: =1561+49 -> 1610 | F12: 3472
B13: 8 | C13: SITE REMOVED
B14: 9 | C14: =INDEX('RIPARIAN BUFFER IMPACTS SUMMARY'!$D$11:$D$34,MATCH(B14,'RIPARIAN BUFFER IMPACTS SUMMARY'!$C$11:$C$34,0)) -> 124+47 to 126+48 -L- | D14: 1@6'x8' RCBC | E14: =8367.4+3559.4+5953.9 -> 17880.7 | F14: =4198.7+3615.2 -> 7813.9
B15: 10 | C15: =INDEX('RIPARIAN BUFFER IMPACTS SUMMARY'!$D$11:$D$34,MATCH(B15,'RIPARIAN BUFFER IMPACTS SUMMARY'!$C$11:$C$34,0)) -> 140+32 to 142+97-L- | D15: 1@6'x8' RCBC | E15: =735.7+3196.9 -> 3932.6 | F15: 2242
B16: 11 | C16: =INDEX('RIPARIAN BUFFER IMPACTS SUMMARY'!$D$11:$D$34,MATCH(B16,'RIPARIAN BUFFER IMPACTS SUMMARY'!$C$11:$C$34,0)) -> 146+80 to 148+37-L- | D16: 1@6'x8' RCBC | E16: =4821+299 -> 5120 | F16: =409.9+2370.7 -> 2780.6
B17: 12 | C17: =INDEX('RIPARIAN BUFFER IMPACTS SUMMARY'!$D$11:$D$34,MATCH(B17,'RIPARIAN BUFFER IMPACTS SUMMARY'!$C$11:$C$34,0)) -> 147+44 to 149+51-L-RT | D17: 30" RCP | E17: =891+256 -> 1147 | F17: =329+1459 -> 1788
B18: 13 | C18: =INDEX('RIPARIAN BUFFER IMPACTS SUMMARY'!$D$11:$D$34,MATCH(B18,'RIPARIAN BUFFER IMPACTS SUMMARY'!$C$11:$C$34,0)) -> 168+13 to 169+95-L- | D18: 2@9'x8' RCBC | E18: =206+3277 -> 3483 | F18: =111+3277 -> 3388
B19: 14 | C19: =INDEX('RIPARIAN BUFFER IMPACTS SUMMARY'!$D$11:$D$34,MATCH(B19,'RIPARIAN BUFFER IMPACTS SUMMARY'!$C$11:$C$34,0)) -> 19+36 to 22+13-Y5RPC- | D19: ROADWAY FILL | E19: 11351 | F19: 6545
B20: 15 | C20: =INDEX('RIPARIAN BUFFER IMPACTS SUMMARY'!$D$11:$D$34,MATCH(B20,'RIPARIAN BUFFER IMPACTS SUMMARY'!$C$11:$C$34,0)) -> 192+63 to 197+32-L- | D20: ROADWAY FILL | E20: 6717 | F20: 1278
B21: 16 | C21: =INDEX('RIPARIAN BUFFER IMPACTS SUMMARY'!$D$11:$D$34,MATCH(B21,'RIPARIAN BUFFER IMPACTS SUMMARY'!$C$11:$C$34,0)) -> 46+92 to 49+14 -Y5-LT | D21: ROADWAY FILL | E21: 12045 | F21: =3335+662 -> 3997
B22: 16A | C22: =INDEX('RIPARIAN BUFFER IMPACTS SUMMARY'!$D$11:$D$34,MATCH(B22,'RIPARIAN BUFFER IMPACTS SUMMARY'!$C$11:$C$34,0)) -> 24+27 to 24+54 -Y5RPB- | D22: 24" RCP-IV | E22: 3513 | F22: 3181
B23: 17 | C23: =INDEX('RIPARIAN BUFFER IMPACTS SUMMARY'!$D$11:$D$34,MATCH(B23,'RIPARIAN BUFFER IMPACTS SUMMARY'!$C$11:$C$34,0)) -> 15+80-Y5A- to 48+68-Y5-(SAB) | D23: ROADWAY FILL | E23: =1124+1694+588 -> 3406 | F23: =1528+524 -> 2052
B24: 18 | C24: =INDEX('RIPARIAN BUFFER IMPACTS SUMMARY'!$D$11:$D$34,MATCH(B24,'RIPARIAN BUFFER IMPACTS SUMMARY'!$C$11:$C$34,0)) -> 201+74 to 206+80-L- | D24: 3@9'x8' RCBC | E24: 3969 | F24: 6105
B25: 19 | C25: =INDEX('RIPARIAN BUFFER IMPACTS SUMMARY'!$D$11:$D$34,MATCH(B25,'RIPARIAN BUFFER IMPACTS SUMMARY'!$C$11:$C$34,0)) -> 209+01 to 211.28 -L- | D25: 42" RCP | E25: 8507 | F25: 741
B26: TOTAL: | E26: =SUM(E6:E24) -> 109805.3 | F26: =SUM(F6:F24) -> 69932.5
K31: NC DEPARTMENT OF TRANSPORTATION
K32: DIVISION OF HIGHWAYS
K33: ='RIPARIAN BUFFER IMPACTS SUMMARY'!L41 -> 12/3/2019
K34: WAKE COUNTY
K35: R-2721
K36: 6.401078
A37: Revised 2018 Feb | L37: SHEET | M37: 21 | N37: OF | O37: 22

Sheet Wetlands In Buffers (2)
B2: WETLANDS IN BUFFER IMPACTS SUMMARY
E3: WETLANDS IN BUFFERS
B4: SITE NO. | C4: STATION (FROM/TO) | D4: Structure Size/Type
E5: ZONE 1 (ft2) | F5: ZONE 2 (ft2)
B6: 20 | C6: 224+83 to 226+97-L- | D6: ROADWAY FILL | E6: =3442+3091+3124+1072 -> 10729 | F6: 109
B7: 21 | C7: 209+01 to 211.28 -L- | D7: ROADWAY FILL | E7: 576 | F7: 367
B8: 22 | C8: 224+83 to 226+97-L- | D8: 4@12'x8' RCBC | E8: 97 | F8: 1025
B9: 23 | C9: 225+70 to 226+35-L-LT | D9: 2@9'x8' RCBC | E9: 472 | F9: 594
C22: TOTAL FROM THIS SHEET | E22: =SUM(E2:E21) -> 11874 | F22: =SUM(F6:F21) -> 2095
C24: TOTAL FROM SHEET 21 | E24: ='Wetlands In Buffers'!E26 -> 109805.3 | F24: ='Wetlands In Buffers'!F26 -> 69932.5
B26: TOTAL: | E26: =SUM(E22:E25) -> 121679.3 | F26: =SUM(F22:F25) -> 72027.5
B29: Site 22 wetland boundary was clipped by the extent of the survey. Previous estimate left for zone 2 instead of 1,873 sf which was measure in file.
K31: NC DEPARTMENT OF TRANSPORTATION
K32: DIVISION OF HIGHWAYS
K33: ='RIPARIAN BUFFER IMPACTS SUMMARY'!L41 -> 12/3/2019
K34: WAKE COUNTY
K35: R-2721
K36: 6.401078
A37: Revised 2018 Feb | L37: SHEET | M37: 22 | N37: OF | O37: 22
