Workbook
Name _BMP2: Picklists!$J$4:$J$10
Name _BMP3: Picklists!$J$4:$J$11
Name _BMP4: [1]Picklists!$K$4:$K$6
Name _BMP4: Picklists!$K$4:$K$6
Name _BMP5: [1]Picklists!$L$4:$L$8
Name _BMP5: Picklists!$L$4:$L$9
Name AddSurWaterDes: [1]Picklists!$G$4:$G$10
Name AddSurWaterDes: Picklists!$G$4:$G$10
Name AEnvConcerns: Picklists!$G$4:$G$11
Name AllClass: Picklists!$AF$4:$AF$23
Name BMP: Picklists!$J$4:$J$8
Name BufferRules: [1]Picklists!$U$4:$U$11
Name BufferRules: Picklists!$U$4:$U$11
Name CAMA: Picklists!$D$4:$D$23
Name DAUnits: Picklists!$AE$4:$AE$5
Name Dissipator: [1]Picklists!$N$4:$N$6
Name Dissipator: Picklists!$N$4:$N$6
Name DitchGeometry: Picklists!$AC$4:$AC$5
Name HydStruc: Picklists!$X$4:$X$23
Name HydStrucBMP: Picklists!$Y$4:$Y$26
Name Imp303d: [1]Picklists!$H$4:$H$23
Name Imp303d: Picklists!$H$4:$H$22
Name Impact_Type: [1]Picklists!$AA$4:$AA$10
Name Impact_Type: Picklists!$AA$4:$AA$10
Name Median: Picklists!$AB$4:$AB$7
Name NC_CAMA_Counties: [1]Picklists!$D$4:$D$23
Name NC_CAMA_Counties: Picklists!$D$4:$D$23
Name NC_Counties: [1]Picklists!$B$4:$B$103
Name NC_Counties: Picklists!$B$4:$B$103
Name OpenWater: [1]Picklists!$T$4:$T$10
Name OpenWater: Picklists!$T$4:$T$10
Name PrimSurWatClass: [1]Picklists!$E$4:$E$16
Name PrimSurWatClass: Picklists!$E$4:$E$16
Name Project_Type: [1]Picklists!$A$4:$A$7
Name Project_Type: Picklists!$A$4:$A$9
Name Riprap: [1]Picklists!$Z$4:$Z$8
Name Riprap: Picklists!$Z$4:$Z$8
Name River_Basins: [1]Picklists!$C$4:$C$20
Name River_Basins: Picklists!$C$4:$C$20
Name RoadImpactType: Picklists!$W$4:$W$6
Name StateSW: Picklists!$Q$4:$Q$6
Name Stream: [1]Picklists!$O$4:$O$5
Name Stream: Picklists!$O$4:$O$5
Name StreamClass: Picklists!$I$4:$I$7
Name SuppClass: [1]Picklists!$F$4:$F$11
Name SuppClass: Picklists!$F$4:$F$11
Name SurfaceWater: Picklists!$AH$4:$AH$52
Name WaterType: Picklists!$R$4:$R$7
Name WetlandType: [1]Picklists!$S$4:$S$18
Name WetlandType: Picklists!$S$4:$S$18
Name YesNo: Picklists!$AG$4:$AG$5
Name YesNoNA: Picklists!$AI$4:$AI$6

Sheet Overview
A1: North Carolina Department of Transportation
A2: Highway Stormwater Program
A3: STORMWATER MANAGEMENT PLAN FOR NCDOT PROJECTS
A5: Overview
A6: Introduction The Stormwater Management Plan (SMP), is used to evaluate and present mitigation efforts for potential stormwater runoff impacts to surface waters. The SMP summarizes project stormwater management information including post-construction stormwater best management practices (BMPs) selected to mitigate stormwater impacts. This information is used to support compliance with the department’s NPDES permit as well as other federal and state environmental permit applications during the design stage of a project. This SMP form was developed for use on NCDOT roadway and bridge replacement projects and is being made available for non-road projects; however, some fields and sheets may not apply.
A7: Instructions Some general guidelines for filling out the SMP follow: The workbook has been distributed with some cells protected in order to preserve formatting and formulas. Cell protection may be removed from each tab by selecting "Unprotect Sheet" under the Excel "Review" ribbon or by clicking "File" on the Excel ribbon and deactivating the "Protect Current Sheet" button under the "Protect Workbook" dropdown. Fill out the applicable worksheets (not all sheets are required for all projects) with yellow tabs as completely as possible. The yellow cells within each worksheet should be filled in by the user. Some fields contain a pull-down list of options, but allow unique values to be entered. Further explanation of terms is provided in one of two ways: (1) click on the yellow cell of interest to display a message that describes what should be entered, or (2) click on the Guidance tab and scroll to the term and corresponding definition of interest for a more complete explanation.
A8: Space is provided at the bottom of each worksheet or at the end of each row to include any additional comments that apply to a given section of the SMP. If needed, additional space can be created by unprotecting the sheet as described above, or by simply attaching additional documentation to the SMP. The SMP should be saved using the following convention: [Project/TIP No.]_HYD_SMP_[YYYYMMDD]. Submittal of SMP To Hydraulics Unit The SMP should be completed and uploaded to the Project’s ‘Hydraulics’ discipline folder on the Preconstruction website: https://connect.ncdot.gov/site/preconstruction/SitePages/Home.aspx prior to the project being LET or awarded. Alternatively, in the event a project is not on the Preconstruction website, the Hydraulics Unit has set up an email service account for submissions and to answer SMP related questions. Please send SMP questions to the service account email: NCDOT_Hydraulics_SMP@ncdot.gov Submission of the SMP in the Microsoft Excel file format is preferred. *** Note that submittal of the SMP to the Hydraulics Unit is not part of any permit approval process.***
A9: Version Number | B9: Revision Date | C9: Revision Summary
A10: 2.0 | B10: 41911 | C10: Released for use.
A11: 2.01 | B11: 41974 | C11: Minor typographic corrections.
A12: 2.02 | B12: 42095 | C12: Clarified Swale and Filter Strip measurement instructions
A13: 2.03 | B13: 42284 | C13: Addition of Submittal Instructions on Overview Tab
A14: 2.04 | B14: 42331 | C14: Clarified fields and instructions on Bridge to Culvert Tab
A15: 2.05 | B15: 42464 | C15: Modified Dissipator Types on PSHs, Energy Diss. Tab
A16: 2.06 | B16: 42530 | C16: Updated Reference Website Links
A17: 2.07 | B17: 42648 | C17: Minor clarifications on Overview & Guidance Tabs, corrected conditional formatting for Forebay volumes
A18: 2.08 | B18: 43206 | C18: Updated Submittal Instructions to the Preconstruction website.
A20: ='General Project Information'!A6 -> (Version 2.08; Released April 2018)

Sheet Guidance
A1: Note: For more information or guidance on the definitions provided below, reference the NCDOT Hydraulics Unit website,
A2: https://connect.ncdot.gov/resources/hydro/Pages/default.aspx
A4: General Guidance
A5: Referenced Documents
A6: North Carolina Department of Transportation (NCDOT) Stormwater Best Management Practices (BMP) Toolbox (2014)
A7: https://connect.ncdot.gov/resources/hydro/Pages/HSPProgramPages.aspx?PGM=BMPT
A8: Federal Highway Administration (FHWA) Hydraulic Engineering Circular No. 14 (HEC-14), Third Edition, July 2006
A9: http://www.fhwa.dot.gov/engineering/hydraulics/pubs/06086/hec14.pdf
A10: General Project Information
A11: WBS Element: | B11: The Work Breakdown Structure (WBS) Element is a unique project identifying number used by NCDOT's SAP management system. All projects have a WBS element.
A12: TIP No.: | B12: If the project is a Transportation Improvement Program (TIP) project, provide the TIP Project Number. If the project is not part of a TIP project, leave the cell blank.
A13: Project Type: | B13: Provide type of project activity.
A14: NCDOT Contact: | B14: Provide contact information for the project NCDOT representative.
A15: Contractor/Designer: | B15: Provide contact information for the project contractor or designer.
A16: City/Town: | B16: Provide either the municipality where the project takes place, or the nearest municipality to the project.
A17: County(ies): | B17: Provide the county where the project takes place. Include more than one county if necessary.
A18: River Basin(s): | B18: Provide the river basin in which the project takes place, from the 17 major river basins identified in North Carolina. Provide more than one river basin if necessary. More information on river basins, including interactive mapping tools, can be found on the North Carolina Department of Environment and Natural Resources (NCDENR) website,
B19: http://www.ncwater.org/?page=4
A20: CAMA County: | B20: Indicates whether the project occurs in a county subject to the Coastal Area Management Act (CAMA), administered by the Coastal Resources Commission. Cell populates based on selection in "County(ies)" cell. The "CAMA Map" tab illustrates these counties. A list of CAMA counties is provided on the North Carolina Division of Coastal Management website,
B21: http://deq.nc.gov/about/divisions/coastal-management/about-coastal-management/cama-counties
A22: Wetlands within Project Limits? | B22: Using the dropdown menu, indicate whether wetlands are present within the project limits.
A23: Project Length: | B23: Provide linear length of entire project. Enter "N/A" for non-road projects.
A24: Surrounding Land Use: | B24: Provide general information on the project area surrounding land uses.
A25: Project Built-Upon Area (BUA): | B25: The portion of a project that is covered by impervious or partially impervious surface including, but not limited to buildings; pavement and gravel areas such as roads, parking lots and paths; and recreation facilities such as tennis courts. Refer to NC Session Law 2006-246 for full definition.
A26: Typical Cross Section: | B26: Provide a brief description of the design or existing typical cross section, including median types and dimensions, if applicable. Enter "N/A" for non-road projects.
A27: Annual Average Daily Traffic (design/future): | B27: Provide the estimated design Annual Average Daily Traffic (AADT) within the project area (20-yr projection, typ.). Provide the year for which this estimation was made. The proposed AADT may be found as part of preliminary roadway design documents. Enter "N/A" for non-road projects.
A28: General Project Information (Continued)
A29: Annual Average Daily Traffic (existing): | B29: Provide the existing Annual Average Daily Traffic (AADT) for the project area and the year in which the estimate was performed. Enter "N/A" for non-road projects. AADT for a roadway may be obtained from NCDOT's Traffic Survey Unit website,
B30: http://www.ncdot.gov/projects/trafficsurvey/
A31: General Project Narrative: (Description of Minimization of Water Quality Impacts) | B31: Provide a summary of the current project area, including reference to NCDOT and non-NCDOT roadways in the project area, and facility type. Describe proposed improvements. Provide a brief description of any stormwater and water quality impacts as well as minimization efforts or mitigation measures utilized as part of the project design. Such efforts may include maximizing vegetative conveyance, minimizing directly connected impervious area (DCIA), minimizing diversion of stormwater, etc. Pressing 'alt + enter' will create a carriage return within the cell and advance the cursor to the next line.
A32: Surface Water Body: | B32: Provide the first named surface water to which runoff from the project area drains. If runoff from the project area drains to an unnamed tributary, provide the first named stream downstream of the unnamed tributary. Surface waters within the project area can be found from 7.5-minute USGS Topographic Maps, among other resources. If there are multiple water bodies, they should each be documented in the additional spaces provided in order according to station.
A33: NCDWR Stream Index: | B33: Provide the North Carolina Division of Water Resources' (NCDWR) stream index number for the water body (previously identified). The stream index can be found in the NCDWR Waterbody Reports. To download Waterbody Reports, refer to the NCDWR Classifications and Standards Unit (CSU) website,
B34: https://deq.nc.gov/river-basin-classification-schedule
A35: NCDWR Surface Water Classification: | B35: Designations applied to surface water bodies by NCDWR which define the best uses to be protected within these waters and carry with them an associated set of water quality standards to protect those uses. Surface water classifications can be found through the environmental documents for the project, as well as from NCDWR's Classifications and Standards Unit (CSU) website,
B36: https://deq.nc.gov/about/divisions/water-resources/planning/classification-standards/classifications
A37: Primary (Surface Water Body Classification): | B37: Provide primary classifications for the water body (previously defined). For example, water bodies classified as WS-I are also protected as Class C. All classifications should be listed in the spaces provided. For more information on primary surface water classifications, refer to,
B38: https://deq.nc.gov/about/divisions/water-resources/planning/classification-standards/classifications
A39: Supplemental (Surface Water Body Classification): | B39: Provide any supplemental classifications for the water body (previously identified) per NCDWR's Classifications and Standards Unit (CSU). For more information on supplemental surface water classifications, refer to,
B40: https://deq.nc.gov/about/divisions/water-resources/planning/classification-standards/classifications
A41: Other Stream Classification: | B41: Provide any surface water classifications as determined by agencies other than NCDWR, including The NC Division of Parks and Recreation, NC Wildlife Resources Commission, the NC Division of Coastal Management, the NC Division of Environmental Health, and the Marine Fisheries Commission. Other surface water classifications are generally listed in the project's environmental documents.
A42: Impairment: | B42: If the water body is impaired, provide the type of water quality impairment. Provide all impairments if more than one exists. Impaired waters and associated type of water quality impairment(s) are listed in the North Carolina Integrated Report. For more information, refer to the following section of NCDWR's website,
B43: http://deq.nc.gov/about/divisions/water-resources/planning/modeling-assessment/water-quality-data-assessment/integrated-report-files
A44: General Project Information (Continued)
A45: Aquatic Threatened/Endangered Species: | B45: If threatened or endangered aquatic species (not terrestrial species) are present (indicate "Yes" or "No"), provide a brief description of the species and any related stormwater management measures used to protect the species of concern. Consult the project's Environmental Impact Statement (EIS) or Environmental Assessment (EA).
A46: NRTR Stream ID, if available: | B46: If available, provide the ID assigned to the water body in the Natural Resource Technical Report (NRTR). If the ID includes a superscript, denote it by selecting the character and checking the "Superscript" box in the "Font" dialogue box. Or, use the carat symbol (^). Note that NRTRs are not completed for all projects. "N/A" may be entered for such cases.
A47: Buffer Rules in Effect: | B47: Select the Riparian Area Buffer Rule that applies to your project, if applicable. Otherwise, select "N/A." For more information, refer to the following section of NCDWR's website,
B48: http://deq.nc.gov/about/divisions/water-resources/water-resources-permits/wastewater-branch/401-wetlands-buffer-permitting/riparian-buffers-protection
A49: Project Includes Bridge Spanning Water Body? | B49: Using the dropdown menu, indicate whether a bridge spanning the listed water body is included as part of the project. If "Yes," be sure to describe all bridge BMPs that were used in the General Project Narrative. Refer to Chapter 9 of the Toolbox for additional information.
A50: Deck Drains Discharge Over Water Body? | B50: Using the dropdown menu, indicate whether deck drains discharge over the listed water body. Note that this cell will automatically be populated with "N/A" if "No" was selected in the previous cell. If "Yes" is selected, provide justification in the General Project Narrative section. Specifically, indicate why direct discharge could not be avoided.
A51: Deck Drains Discharge Over Buffer? | B51: Using the dropdown menu, indicate whether deck drains discharge over the riparian buffer. Note that this cell will automatically be populated with "N/A" if "N/A" is selected for "Buffer Rules in Effect" or if "No" was selected under "Project Includes Bridge Spanning Water Body." If "Yes" is selected, provide justification in the General Project Narrative section and then indicate whether dissipator pads were used.
A52: Dissipator Pads Provided in Buffer? | B52: Using the dropdown menu, indicate whether dissipator pads were provided in the buffer underneath deck drains. Note that this cell will automatically be populated with "N/A" if "No" or "N/A" is contained in the previous cell. If "Yes" is selected, describe the dimensions and materials used for the pads. If "No" was selected, provide justification for why dissipator pads were not provided.
A53: Swales
A54: If a swale is designed for water quality treatment per the BMP Toolbox, it should be identified as a BMP on the Swales tab. Any swale that should be included in the I&M program should be identified on the Swales tab. Use of vegetated conveyance is also beneficial for water quality. Roadside channels that do not meet the aforementioned swale criteria should be described in the General Project Narrative area.
A55: Sheet No.: | B55: Provide the plan sheet number on which the applicable swale section begins.
A56: Station & Coordinates (Road and Non Road Projects): | B56: Road and Non Road Projects: provide the project station (i.e., alignment, station, and right or left; e.g., -L- 12+73 Rt.) and coordinates (latitude/longitude, decimal degrees) for the downslope end of the swale (e.g., 35.764498 / -78.578803).
A57: Surface Water Body: | B57: Select the water body that the swale eventually drains to. Refer to the water bodies listed on the General Project Information sheet (drop down values are based on these). If only one water body was listed, that water body will be entered automatically after a Sheet No. is entered (via the "IF" formula that resides in the cell unless it is replaced by the user with a value from the drop down list). Note that water body names do not automatically synchronize with those on the General Project Information sheet and that they will need to be updated if any revisions are made to the water body names on the General Project Information sheet.
A58: Base Width: | B58: Provide base width of swale. Base width is equal to zero for V-ditch geometry.
A59: Swales (Continued)
A60: Front Slope: | B60: Provide the front slope (nearest the road) of swale. Enter only the horizontal change as it relates to 1 unit of vertical change. For example, for a 3:1 slope, enter "3" into the cell.
A61: Back Slope: | B61: Provide the back slope (furthest from road) of swale. Enter only the horizontal change as it relates to 1 unit of vertical change. For example, for a 3:1 slope, enter "3" into the cell.
A62: Drainage Area: | B62: Provide the total drainage area flowing to the listed swale section in acres.
A63: Length Recommended for Treatment: | B63: A treatment length of 100 feet for every one acre of drainage area, as is recommended by the NCDOT Stormwater Best Management Practices Toolbox (2014), is automatically calculated.
A64: Actual Length: | B64: Input actual linear length of swale.
A65: Longitudinal Slope: | B65: Input longitudinal slope of swale.
A66: Q2: | B66: Provide the 2-year storm event peak flow rate (in cubic feet per second) through the swale section listed.
A67: V2: | B67: Provide the 2-year storm event velocity (in feet per second) through the swale section listed.
A68: Q10: | B68: Provide the 10-year storm event peak flow rate (in cubic feet per second) through the swale section listed.
A69: V10: | B69: Provide the 10-year storm event velocity (in feet per second) through the swale section listed.
A70: Rock Check Dams Used: | B70: Indicate if rock check dams are installed within swale channel.
A71: Swale Installed for Buffer Compliance? | B71: Use the dropdown menu to indicate whether the swale was used for buffer compliance. If "Yes," use the Additional Comments box to describe how the swale was used to meet buffer protection requirements.
A72: Filter Strip
A73: If a filter strip is designed for water quality treatment per the BMP Toolbox, it should be identified as a BMP on the Filter Strip tab. Any filter strip that should be included in the I&M program should be identified on the Filter Strip tab. Any filter strips not documented on the Filter Strip tab, should be described in the General Project Narrative area.
A74: Sheet No.: | B74: Provide the plan sheet number on which the applicable filter strip begins.
A75: Station & Coordinates (Road and Non Road Projects): | B75: Road and Non Road Projects: provide the project station (i.e., alignment, station, and right or left; e.g., -L- 12+73 Rt.) and coordinates (latitude/longitude, decimal degrees) for the downslope end mid-point of the filter strip (e.g., 35.764498 / -78.578803).
A76: Surface Water Body: | B76: Select the water body that the filter strip eventually drains to. Refer to the water bodies listed on the General Project Information sheet (drop down values are based on these). If only one water body was listed, that water body will be entered automatically after a Sheet No. is entered (via the "IF" formula that resides in the cell unless it is replaced by the user with a value from the drop down list). Note that water body names do not automatically synchronize with those on the General Project Information sheet and that they will need to be updated if any revisions are made to the water body names on the General Project Information sheet.
A77: Drainage Area: | B77: Provide the total drainage area flowing to the listed filter strip section in acres.
A78: Surface Area: | B78: Provide the estimated surface area of the filter strip section in acres.
A79: Filter Strip (Continued)
A80: Drainage Area: Surface Area Ratio | B80: The ratio of drainage area to surface area is automatically calculated and should be less than 10:1 as is recommended by the NCDOT Stormwater Best Management Practices Toolbox (2014).
A81: Actual Length: | B81: Input length of filter strip in feet.
A82: Longitudinal Slope: | B82: Input longitudinal slope of filter strip in percent.
A83: Filter Strip Installed for Buffer Compliance? | B83: Use the dropdown menu to indicate whether the filter strip was used for buffer compliance. If "Yes," use the Additional Comments box to describe how the filter strip was used to meet buffer protection requirements.
A84: Preformed Scour Holes and Energy Dissipators
A85: PSHs not used solely for energy dissipation (e.g., PSHs used in associated with buffer compliance) should be listed on this tab. PSHs used solely for energy dissipation may be described in the general project narrative. Any PSH that should be included in the I&M program should be identified on this tab. Any PSHs not documented on this tab, should be described in the General Project Narrative area. Preferably, energy dissipators should be entered on this tab; however, describing them in the general project narrative is also acceptable.
A86: Sheet No.: | B86: Provide the plan sheet number on which the applicable energy dissipator is shown.
A87: Station & Coordinates (Road and Non Road Projects): | B87: Road and Non Road Projects: provide the project station (i.e., alignment, station, and right or left; e.g., -L- 12+73 Rt.) and coordinates (latitude/longitude, decimal degrees) for the downslope end of the energy dissipator (e.g., 35.764498 / -78.578803).
A88: Surface Water Body: | B88: Select the water body that the energy dissipator eventually drains to. Refer to the water bodies listed on the General Project Information sheet (drop down values are based on these). If only one water body was listed, that water body will be entered automatically after a Sheet No. is entered (via the "IF" formula that resides in the cell unless it is replaced by the user with a value from the drop down list). Note that water body names do not automatically synchronize with those on the General Project Information sheet and that they will need to be updated if any revisions are made to the water body names on the General Project Information sheet.
A89: Energy Dissipator Type: | B89: Provide the energy dissipator type located at the listed station. Refer to FHWA HEC-14 for descriptions of types.
A90: Riprap Type: | B90: Provide riprap size used in energy dissipator. Refer to NCDOT Standard Specification 1042 for riprap sizes.
A91: Drainage Area: | B91: Provide the total drainage area flowing to the listed energy dissipator in acres.
A92: Conveyance Structure: | B92: List the hydraulic structure directly flowing to energy dissipator, including equalizer pipes.
A93: Pipe/Structure Dimensions: | B93: If conveyance structure is pipe, select the pipe diameter from the pull down list. If not listed, manually input the pipe diameter. For structures other than pipes, dimensions and standard acronyms are to be included, i.e., 2-8x8 RCBC
A94: Q10: | B94: Provide the 10-year storm event peak flow rate (in cubic feet per second) flowing to energy dissipator listed.
A95: V10: | B95: Provide the 10-year storm event velocity (in feet per second) exiting energy dissipator listed.
A96: PSH Installed for Buffer Compliance? | B96: Use the dropdown menu to indicate whether the PSH was used for buffer compliance. If "Yes," use the Additional Comments box to describe how the PSH was used to meet buffer protection requirements.
A97: Level Spreaders, Hazardous Spill Basins, and Forebays
A98: All level spreaders, hazardous spill basins, and forebays included in the project should be listed on this tab.
A99: Dual-purpose BMPs (such as hazardous spill basins that also function as dry detention basins) should be listed on both applicable worksheets. Fields documenting BMP type that utilize dropdown menus can be overwritten with manual entries. Users may enter "HSB/DDB," for example. Include any necessary notes in the comment boxes to cross-reference entries and define the BMP's configuration. Record only the portion of the BMP's volume that pertains to its function on the worksheet. Note that a HSB/DDB must be designed to capture the WQv plus the spill volume in the event that a spill occurs during or following a rain event. For example, consider a HSB/DDB with a drainage area of 0.75 ac that is entirely NBUA. The total volume of the HSB/DDB is 5,200 ft3, the required HSB volume is 2,360 ft3, the HSB volume provided is 2,500 ft3, and the dry detention portion (WQv) is 2,700 ft3. On the Level Spreaders, Hazardous Spill Basin, and Forebays tab, enter 2,360 for the Required/Minimum Treatment and 2,500 for the Treatment Achieved. Add notes in the Additional Comments field discussing the BMP's configuration, documenting the total BMP volume of 5,200 ft3, and referring to other applicable sheets (i.e., the Other BMPs sheet).
A100: Sheet No.: | B100: Provide the plan sheet number on which the applicable stormwater best management practice (BMP) is shown.
A101: Station & Coordinates (Road and Non Road Projects): | B101: Road and Non Road Projects: provide the project station (i.e., alignment, station, and right or left; e.g., -L- 12+73 Rt.) and coordinates (latitude/longitude, decimal degrees) for the downslope end* (e.g., 35.764498 / -78.578803). * LS = Center of Level Spreader Weir * HSB = On the Outlet Structure * Forebay = Center of the Forebay
...

Sheet General Project Information
A1: Please fill out all yellow cells as completely as possible. Use pick lists where provided. For more information on the NCDOT Stormwater Management Plan form, please refer to the document, NCDOT Stormwater Best Management Practices Toolbox (2014). | Z1: # pages previous sheets: | AA1: 0
A2: If the project drains to multiple water bodies, please drag the print area down such that Water Bodies 2 through 6 print on Page 2 | Z2: # pages this sheet: | AA2: =COUNT(M7,M37,M82,M127,M172,M217,M262,M307,M352,M397,M442,M487,M532) -> 2
Z3: # pages total: | AA3: =AA2+0 -> 2
A4: North Carolina Department of Transportation
A5: Highway Stormwater Program
A6: (Version 2.08; Released April 2018) | D6: STORMWATER MANAGEMENT PLAN FOR NCDOT PROJECTS
A7: WBS Element: | C7: =D9 -> 37673.3.GV3 | D7: TIP No.: | E7: R-2721 A | G7: County(ies): | H7: =$I$16&" "&$K$16&" "&$M$16&" " -> Wake | L7: Page | M7: 1 | N7: of | O7: 10
D8: General Project Information
A9: WBS Element: | D9: 37673.3.GV3 | F9: TIP Number: | G9: R-2721 A | I9: Project Type: | K9: New Location | M9: Date: | N9: 43803
A10: NCDOT Contact: | D10: Deanna Riffey | H10: Contractor / Designer: | J10: Jeffrey L. Reck, PE
C11: Address: | D11: NCDOT Hydraulics Unit | I11: Address: | J11: Moffatt & Nichol
D12: 1590 Mail Service Center | J12: 4700 Falls of Neuse Rd., Suite 300
D13: Raleigh, NC 27699-1590 | J13: Raleigh, NC 27609
C14: Phone: | D14: (919)707-6151 | I14: Phone: | J14: (919) 781-4626
C15: Email: | D15: driffey@ncdot.gov | I15: Email: | J15: jreck@moffattnichol.com
A16: City/Town: | D16: Holly Springs | H16: County(ies): | I16: Wake
A17: River Basin(s): | D17: Neuse | H17: CAMA County? | I17: =IF(I16="","",IF(ISNA(VLOOKUP(I16,NC_CAMA_Counties,1,FALSE)),"No","Yes")) -> No | K17: =IF(K16="","",IF(ISNA(VLOOKUP(K16,NC_CAMA_Counties,1,FALSE)),"No","Yes")) | M17: =IF(M16="","",IF(ISNA(VLOOKUP(M16,NC_CAMA_Counties,1,FALSE)),"No","Yes"))
A18: Wetlands within Project Limits? | D18: Yes
D19: Project Description
A20: Project Length (lin. miles or feet): | D20: 4.6 | F20: Surrounding Land Use: | H20: Residential
D21: Proposed Project | I21: Existing Site
A22: Project Built-Upon Area (ac.) | D22: 231.7 | G22: ac. | I22: 43.7 | L22: ac.
A23: Typical Cross Section Description: | D23: -L- (I-540) will have grassed median ditch with 8:1 sides slopes, 3 paved lanes with 12' paved shoulders (total width of pavement is 124 feet), outside grass roadway diches with 6:1 sides, and cut and fill slopes have a maximum 2:1 slope. -Y1- (NC 55 Bypass) will have and additional 18' lane and 12' paved shoulder added to the northbound side. Along -Y2- East Williams St. a 10' paved shoulder will be added on the southbound side. Along -Y3- and -Y4- (Sunset Lake Rd) there will be two lanes (11' and 14') in each direction with a center turn lane (16') with 2'-6" curb and gutter. -Y5- (Holly Springs Rd) will have three travel lanes (12', 12', and 11' ) in each direction with a bike lane (5') and 2'-6" curb and gutter. -Y6- (Pierce Olive Rd) will have a 12' lane in each direction with 4' paved shoulders. -Y1- (NC 55 Bypass) will have and additional 18' lane and 12' paved shoulder added to the northbound side. At the instersection of Holly Springs Rd and I-540 there will be a diverging diamond interchange. | I23: Along the existing -Y1- (NC 55 Bypass) there are two lanes witth an 11' and a 12' lane in each direction and paved shoulders. Along the exsiting -Y2- (E Williams St.) there is a lane in each direction each being 11.5' lanes and paved shoulders. -Y3- and -Y4- have a lane in each direction that are 11' with paved shoulders at some locations and curb and gutter at other locations. -Y5- (Holly Springs Rd.) has a 10.5' lane in each direction along with a paved median that varies in width. The proposed I-540 is new location.
A24: Annual Avg Daily Traffic (veh/hr/day): | D24: Design/Future: | E24: 66,400 | G24: Year: | H24: 2040 | I24: Existing: | J24: 20200 | M24: Year: | N24: 2018
A25: General Project Narrative: (Description of Minimization of Water Quality Impacts) | D25: The North Carolina Department of Transportation (NCDOT) has proposed to construct an extension of I-540 from NC 55 (Holly Springs) to US 401 (Fuquay-Varina). Below are a list of minimization efforts associated with water quality impacts. The interchange at NC 55 Bypass and I-540 will feature two additional ramps and relocate an exit loop. There will be a new diverging diamond interchange located at Holly Springs Rd and the new I-540 roadway. At East Williams St. the proposed I-540 will cross above grade. Sunset Lake Road, Holly Springs Rd, and Pierce-Olive road will cross the proposed I-540 above grade. Steps were taken to reduce wetland and stream impacts where possible. Within wetland areas 2:1 slopes are proposed where practical. For any fill slopes located in wetlands toe protection is being installed. Rip rap pads are being used near wetland and jurisdictional areas to minimize the potential for erosion. During the construction process, there will be no staging of construction equipment or storage of construction supplies in jurisdictional wetlands or streams. In addition, any borrow or waste sites will be located outside of jurisdictional areas. Any sediment and erosion control devices will follow the NCDOT procedure for Environmentally Sensitive Areas where required and will be installed as needed throughout the site to promote stability and minimize sedimentation. Grass swales and rip rap dissipate treatments have been designed and utilzed where practical to minimize the impacts to jurisdictional and wetland areas. NCDOT is proposing to bridge the stream at Middle Creek along the proposed I-540 to avoid and minimze impacts to jurisdictional features in the area.
D26: Waterbody Information
A27: Surface Water Body (1): | D27: Middle Creek | H27: NCDWR Stream Index No.: | J27: 27-43-15-(1)
A28: NCDWR Surface Water Classification for Water Body | F28: Primary Classification: | H28: Class C
F29: Supplemental Classification: | H29: Nutrient Sensitive Waters (NSW)
A30: Other Stream Classification:
A31: Impairments:
A32: Aquatic T&E Species? | E32: Comments:
A33: NRTR Stream ID: | D33: SPX | J33: Buffer Rules in Effect: | M33: Neuse
A34: Project Includes Bridge Spanning Water Body? | E34: Yes | F34: Deck Drains Discharge Over Buffer? | I34: No | J34: Dissipator Pads Provided in Buffer? | N34: No
A35: Deck Drains Discharge Over Water Body? | E35: No | F35: (If yes, provide justification in the General Project Narrative) | J35: (If yes, describe in the General Project Narrative; if no, justify in the General Project Narrative)
A36: (If yes, provide justification in the General Project Narrative)
A37: WBS Element: | C37: =$D$9&"" -> 37673.3.GV3 | D37: TIP No.: | E37: =$G$9&"" -> R-2721 A | G37: County(ies): | H37: =$I$16&" "&$K$16&" "&$M$16&" " -> Wake | L37: Page | M37: =IF(D39<>"",MAX('General Project Information'!$M$7)+1,"") -> 2 | N37: of | O37: ='General Project Information'!$O$7 -> 10
D38: Additional Waterbody Information
A39: Surface Water Body (2): | D39: Rocky Branch | H39: NCDWR Stream Index No.: | J39: 27-43-15-4.5
A40: NCDWR Surface Water Classification for Water Body | F40: Primary Classification: | H40: Class C
F41: Supplemental Classification: | H41: Nutrient Sensitive Waters (NSW)
A42: Other Stream Classification:
A43: Impairments:
A44: Aquatic T&E Species? | D44: No | E44: Comments:
A45: NRTR Stream ID: | D45: SAD | J45: Buffer Rules in Effect: | M45: Neuse
A46: Project Includes Bridge Spanning Water Body? | E46: No | F46: Deck Drains Discharge Over Buffer? | I46: =IF(OR(E46="No",M45="N/A"),"N/A","") -> N/A | J46: Dissipator Pads Provided in Buffer? | N46: Yes
A47: Deck Drains Discharge Over Water Body? | E47: =IF(E46="No","N/A","") -> N/A | F47: (If yes, provide justification in the General Project Narrative) | J47: (If yes, describe in the General Project Narrative; if no, justify in the General Project Narrative)
A48: (If yes, provide justification in the General Project Narrative)
A50: Surface Water Body (3): | H50: NCDWR Stream Index No.:
A51: NCDWR Surface Water Classification for Water Body | F51: Primary Classification:
F52: Supplemental Classification:
A53: Other Stream Classification:
A54: Impairments:
A55: Aquatic T&E Species? | E55: Comments:
A56: NRTR Stream ID: | J56: Buffer Rules in Effect:
A57: Project Includes Bridge Spanning Water Body? | F57: Deck Drains Discharge Over Buffer? | I57: =IF(OR(E57="No",M56="N/A"),"N/A","") | J57: Dissipator Pads Provided in Buffer? | N57: =IF(OR(I57="No",I57="N/A",),"N/A","")
A58: Deck Drains Discharge Over Water Body? | E58: =IF(E57="No","N/A","") | F58: (If yes, provide justification in the General Project Narrative) | J58: (If yes, describe in the General Project Narrative; if no, justify in the General Project Narrative)
A59: (If yes, provide justification in the General Project Narrative)
A61: Surface Water Body (4): | H61: NCDWR Stream Index No.:
A62: NCDWR Surface Water Classification for Water Body | F62: Primary Classification:
F63: Supplemental Classification:
A64: Other Stream Classification:
A65: Impairments:
A66: Aquatic T&E Species? | E66: Comments:
A67: NRTR Stream ID: | J67: Buffer Rules in Effect:
A68: Project Includes Bridge Spanning Water Body? | F68: Deck Drains Discharge Over Buffer? | I68: =IF(OR(E68="No",M67="N/A"),"N/A","") | J68: Dissipator Pads Provided in Buffer? | N68: =IF(OR(I68="No",I68="N/A",),"N/A","")
A69: Deck Drains Discharge Over Water Body? | E69: =IF(E68="No","N/A","") | F69: (If yes, provide justification in the General Project Narrative) | J69: (If yes, describe in the General Project Narrative; if no, justify in the General Project Narrative)
A70: (If yes, provide justification in the General Project Narrative)
A72: Surface Water Body (5): | H72: NCDWR Stream Index No.:
A73: NCDWR Surface Water Classification for Water Body | F73: Primary Classification:
F74: Supplemental Classification:
A75: Other Stream Classification:
A76: Impairments:
A77: Aquatic T&E Species? | E77: Comments:
A78: NRTR Stream ID: | J78: Buffer Rules in Effect:
A79: Project Includes Bridge Spanning Water Body? | F79: Deck Drains Discharge Over Buffer? | I79: =IF(OR(E79="No",M78="N/A"),"N/A","") | J79: Dissipator Pads Provided in Buffer? | N79: =IF(OR(I79="No",I79="N/A",),"N/A","")
A80: Deck Drains Discharge Over Water Body? | E80: =IF(E79="No","N/A","") | F80: (If yes, provide justification in the General Project Narrative) | J80: (If yes, describe in the General Project Narrative; if no, justify in the General Project Narrative)
A81: (If yes, provide justification in the General Project Narrative)
A82: WBS Element: | C82: =$D$9&"" -> 37673.3.GV3 | D82: TIP No.: | E82: =$G$9&"" -> R-2721 A | G82: County(ies): | H82: =$I$16&" "&$K$16&" "&$M$16&" " -> Wake | L82: Page | M82: =IF(D84<>"",MAX('General Project Information'!$M$37)+1,"") | N82: of | O82: ='General Project Information'!$O$7 -> 10
D83: Additional Waterbody Information
A84: Surface Water Body (6): | H84: NCDWR Stream Index No.:
A85: NCDWR Surface Water Classification for Water Body | F85: Primary Classification:
F86: Supplemental Classification:
A87: Other Stream Classification:
A88: Impairments:
A89: Aquatic T&E Species? | E89: Comments:
A90: NRTR Stream ID: | J90: Buffer Rules in Effect:
A91: Project Includes Bridge Spanning Water Body? | F91: Deck Drains Discharge Over Buffer? | I91: =IF(OR(E91="No",M90="N/A"),"N/A","") | J91: Dissipator Pads Provided in Buffer? | N91: =IF(OR(I91="No",I91="N/A",),"N/A","")
A92: Deck Drains Discharge Over Water Body? | E92: =IF(E91="No","N/A","") | F92: (If yes, provide justification in the General Project Narrative) | J92: (If yes, describe in the General Project Narrative; if no, justify in the General Project Narrative)
A93: (If yes, provide justification in the General Project Narrative)
A95: Surface Water Body (7): | H95: NCDWR Stream Index No.:
A96: NCDWR Surface Water Classification for Water Body | F96: Primary Classification:
A98: Other Stream Classification:
A100: Aquatic T&E Species? | E100: Comments:
A101: NRTR Stream ID: | J101: Buffer Rules in Effect:
A102: Project Includes Bridge Spanning Water Body? | E102: =IF(#REF!="No","N/A","") -> #REF! | F102: Deck Drains Discharge Over Buffer? | J102: Dissipator Pads Provided in Buffer?
A104: (If yes, provide justification in the General Project Narrative)
A106: Surface Water Body (8): | H106: NCDWR Stream Index No.:
A107: NCDWR Surface Water Classification for Water Body | F107: Primary Classification:
F108: Supplemental Classification:
...

Sheet Swales
A1: Swale Design Guidelines * | S1: # pages previous sheets: | T1: ='General Project Information'!AA3 -> 2
A2: Swale | C2: • Designed to treat Q2 and convey Q10 without erosion and with 6” freeboard | S2: # pages this sheet: | T2: =COUNT(N20,N71,N122,N173,N224,N275) -> 6
C3: • Side slopes 3:1 or flatter | S3: # pages total: | T3: =T2+T1 -> 8
C4: • Long. slope ≥ 0.3% and ≤ 4%
C5: • Q2 veloc ≤ 2 fps
C6: • Q10 veloc ≤ 4 fps
C7: • Base Width ≤ 6 ft
C8: • 100 ft of swale length per acre of DA
A9: Check Dams (Optional) | C9: • 1 ft high along wetted perimeter
C10: • 4.5 ft wide in the direction of flow
C11: • Toe of upstream = top elev. of downstream check
A13: * Design guidelines are outlined for various Best Management Practices (BMPs) as provided in the NCDOT BMP Toolbox (2014). The guidelines listed are intended to provide a general overview of key design elements, but do not include all design criteria, guidelines, or recommendations and are not intended to serve as the sole source of design criteria. The NCDOT BMP Toolbox, NCDOT Standard Details, the Federal Highway Administration (FHWA) Hydraulic Engineering Circular 14 (HEC-14) (July 2006), and any other applicable sources should be referenced for additional information.
A15: Print area may be adjusted to include sheets as needed.
E17: North Carolina Department of Transportation
E18: Highway Stormwater Program
A19: ='General Project Information'!$A$6 -> (Version 2.08; Released April 2018) | E19: STORMWATER MANAGEMENT PLAN FOR NCDOT PROJECTS
A20: WBS Element: | C20: ='General Project Information'!$C$7 -> 37673.3.GV3 | D20: TIP No.: | E20: ='General Project Information'!$E$7 -> R-2721 A | G20: County(ies): | H20: ='General Project Information'!$H$7 -> Wake | M20: Page | N20: 3 | O20: of | P20: ='General Project Information'!$O$7 -> 10
E21: Swales
A22: Sheet No. | B22: Station & Coordinates (Road and Non Road Projects) | C22: Surface Water Body | D22: Base Width (ft) | E22: Front Slope (H:1) | F22: Back Slope (H:1) | G22: Drainage Area (ac) | H22: Recommended Treatm't Length (ft) | I22: Actual Length (ft) | J22: Longitudinal Slope (%) | K22: Q2 (cfs) | L22: V2 (fps) | M22: Q10 (cfs) | N22: V10 (fps) | O22: Rock Checks Used | P22: BMP Associated w/ Buffer Rules?
A23: 5 | B23: -LREV- 18+50 MED | C23: (1)Middle Creek | D23: 0 | E23: 6.03 | F23: 6 | G23: 0.35 | H23: =IF(G23="","",G23*100) -> 35 | I23: 150 | J23: 0.0073 | K23: 1.16 | L23: 1.224 | M23: 1.5 | N23: 1.3 | O23: No | P23: Yes
B24: -LREV- 20+00 MED
A25: 5 | B25: -LREV- 12+00 - LT | C25: (1)Middle Creek | D25: 0 | E25: 4 | F25: 6 | G25: 0.16 | H25: =IF(G25="","",G25*100) -> 16 | I25: 150 | J25: 0.0359 | K25: 0.22 | L25: 1.531 | M25: 0.28 | N25: 1.6 | O25: No | P25: Yes
B26: -LREV- 13+50 - LT
A27: 6 | B27: -LREV- 33+50 MED | C27: (1)Middle Creek | D27: 0 | E27: 6.88 | F27: 4 | G27: 0.35 | H27: =IF(G27="","",G27*100) -> 35 | I27: 150 | J27: 0.0147 | K27: 1.16 | L27: 1.627 | M27: 1.5 | N27: 1.7 | O27: No | P27: Yes
B28: -LREV- 35+00 MED
A29: 6 | B29: -LREV- 38+00 MED | C29: (1)Middle Creek | D29: 0 | E29: 8 | F29: 6.83 | G29: 1.06 | H29: =IF(G29="","",G29*100) -> 106 | I29: 450 | J29: 0.0132 | K29: 3.52 | L29: 1.919 | M29: 4.5 | N29: 2.1 | O29: No | P29: Yes
B30: -LREV- 42+50 MED
A31: 6 | B31: -LREV- 42+50 MED | C31: (1)Middle Creek | D31: 0 | E31: 8 | F31: 7.49 | G31: 1.67 | H31: =IF(G31="","",G31*100) -> 167 | I31: 650 | J31: 0.0106 | K31: 5.62 | L31: 1.964 | M31: 7.1 | N31: 2.1 | O31: No | P31: Yes
B32: -LREV- 49+00 MED
A33: 6 | B33: -LREV- 38+50 RT | C33: (1)Middle Creek | D33: 0 | E33: 6 | F33: 4 | G33: 0.26 | H33: =IF(G33="","",G33*100) -> 26 | I33: 100 | J33: 0.0131 | K33: 0.69 | L33: 1.401 | M33: 0.88 | N33: 1.5 | O33: No | P33: Yes
B34: -LREV- 39+50 RT
A35: 6 | B35: -Y1- 39+00 MED | C35: (1)Middle Creek | D35: 0 | E35: 5 | F35: 3.5 | G35: 0.14 | H35: =IF(G35="","",G35*100) -> 14 | I35: 50 | J35: 0.0033 | K35: 0.51 | L35: 0.801 | M35: 0.6 | N35: 0.8 | O35: No | P35: Yes
B36: -Y1- 39+50 MED
A37: 6 | B37: -Y1- 39+50 MED | C37: (1)Middle Creek | D37: 0 | E37: 5 | F37: 3.6 | G37: 0.17 | H37: =IF(G37="","",G37*100) -> 17 | I37: 100 | J37: 0.0033 | K37: 0.6 | L37: 0.832 | M37: 0.74 | N37: 0.9 | O37: No | P37: Yes
B38: -Y1- 40+50 MED
A39: 6 | B39: -Y1- 40+50 MED | C39: (1)Middle Creek | D39: 0 | E39: 5 | F39: 4.5 | G39: 0.23 | H39: =IF(G39="","",G39*100) -> 23 | I39: 132 | J39: 0.0033 | K39: 0.81 | L39: 0.877 | M39: 1 | N39: 0.9 | O39: No | P39: Yes
B40: -Y1- 41+82 MED
A41: 6 | B41: -Y1- 41+82 MED | C41: (1)Middle Creek | D41: 0 | E41: 5 | F41: 3 | G41: 0.03 | H41: =IF(G41="","",G41*100) -> 3 | I41: 18 | J41: 0.0033 | K41: 0.11 | L41: 0.553 | M41: 0.16 | N41: 0.6 | O41: No | P41: Yes
B42: -Y1- 42+00 MED
A43: 6 | B43: -Y1- 42+00 M | C43: (1)Middle Creek | D43: 0 | E43: 5 | F43: 5 | G43: 0.53 | H43: =IF(G43="","",G43*100) -> 53 | I43: 150 | J43: 0.0047 | K43: 1.9 | L43: 1.225 | M43: 2.4 | N43: 1.3 | O43: No | P43: Yes
B44: -Y1- 43+50 M
A45: 6 | B45: -Y1- 43+88 MED | C45: (1)Middle Creek | D45: 0 | E45: 5 | F45: 17.26 | G45: 0.15 | H45: =IF(G45="","",G45*100) -> 15 | I45: 32 | J45: 0.005 | K45: 0.46 | L45: 0.725 | M45: 0.58 | N45: 0.768 | O45: No | P45: Yes
B46: -Y1- 44+20 MED
A47: 6 | B47: -Y1- 42+50 RT | C47: (1)Middle Creek | D47: 0 | E47: 6 | F47: 3 | G47: 0.77 | H47: =IF(G47="","",G47*100) -> 77 | I47: 138 | J47: 0.0112 | K47: 1.8 | L47: 1.736 | M47: 2.4 | N47: 1.8 | O47: No | P47: Yes
B48: -Y1- 43+88 RT
A49: 6 | B49: -Y1RPBREV- 18+50 LT | C49: (1)Middle Creek | D49: 0 | E49: 6 | F49: 4 | G49: 0.21 | H49: =IF(G49="","",G49*100) -> 21 | I49: 150 | J49: 0.0279 | K49: 0.29 | L49: 1.505 | M49: 0.37 | N49: 1.6 | O49: No | P49: Yes
B50: -Y1RPBREV- 20+00 LT
A51: 6 | B51: -Y1RPCREV- 17+00 LT | C51: (1)Middle Creek | D51: 0 | E51: 6 | F51: 4 | G51: 0.37 | H51: =IF(G51="","",G51*100) -> 37 | I51: 350 | J51: 0.0335 | K51: 0.51 | L51: 1.832 | M51: 0.65 | N51: 2 | O51: No | P51: Yes
B52: -Y1RPCREV- 20+50 LT
A53: 7 | B53: -LREV- 50+50 MED | C53: (1)Middle Creek | D53: 0 | E53: 7.32 | F53: 8 | G53: 0.52 | H53: =IF(G53="","",G53*100) -> 52 | I53: 200 | J53: 0.0045 | K53: 1.8 | L53: 1.075 | M53: 2.3 | N53: 1.1 | O53: No | P53: Yes
B54: -LREV- 52+50 MED
A55: 7 | B55: -LREV- 52+50 MED | C55: (1)Middle Creek | D55: 0 | E55: 7.32 | F55: 8 | G55: 0.63 | H55: =IF(G55="","",G55*100) -> 63 | I55: 270 | J55: 0.0117 | K55: 2.12 | L55: 1.603 | M55: 2.7 | N55: 1.7 | O55: No | P55: Yes
B56: -LREV- 55+20 MED
A57: 7 | B57: -LREV- 55+20 MED | C57: (1)Middle Creek | D57: 0 | E57: 8 | F57: 8 | G57: 0.74 | H57: =IF(G57="","",G57*100) -> 74 | I57: 330 | J57: 0.0192 | K57: 2.52 | L57: 1.993 | M57: 3.2 | N57: 2.1 | O57: No | P57: Yes
B58: -LREV- 58+50 MED
A59: 7 | B59: -LREV- 48+12 LT | C59: (1)Middle Creek | D59: 0 | E59: 3 | F59: 3 | G59: 0.92 | H59: =IF(G59="","",G59*100) -> 92 | I59: 103 | J59: 0.005 | K59: 1.57 | L59: 1.336 | M59: 2 | N59: 1.4 | O59: No | P59: Yes
B60: -LREV- 49+15 LT
E61: Additional Comments
E68: North Carolina Department of Transportation
E69: Highway Stormwater Program
A70: ='General Project Information'!$A$6 -> (Version 2.08; Released April 2018) | E70: STORMWATER MANAGEMENT PLAN FOR NCDOT PROJECTS
A71: WBS Element: | C71: ='General Project Information'!$C$7 -> 37673.3.GV3 | D71: TIP No.: | E71: ='General Project Information'!$E$7 -> R-2721 A | G71: County(ies): | H71: ='General Project Information'!$H$7 -> Wake | M71: Page | N71: =IF(A74<>"",MAX(N20)+1,"") -> 4 | O71: of | P71: ='General Project Information'!$O$7 -> 10
E72: Swales
A73: Sheet No. | B73: Station & Coordinates (Road and Non Road Projects) | C73: Surface Water Body | D73: Base Width (ft) | E73: Front Slope (H:1) | F73: Back Slope (H:1) | G73: Drainage Area (ac) | H73: Recommended Treatm't Length (ft) | I73: Actual Length (ft) | J73: Longitudinal Slope (%) | K73: Q2 (cfs) | L73: V2 (fps) | M73: Q10 (cfs) | N73: V10 (fps) | O73: Rock Checks Used | P73: BMP Associated w/ Buffer Rules?
A74: 8 | B74: -LREV- 66+50 MED | C74: (1)Middle Creek | D74: 0 | E74: 8 | F74: 4 | G74: 0.63 | H74: =IF(G74="","",G74*100) -> 63 | I74: 240 | J74: 0.0126 | K74: 2.24 | L74: 1.769 | M74: 2.9 | N74: 1.9 | O74: No | P74: Yes
B75: -LREV- 68+90 MED
A76: 8 | B76: -LREV- 68+90 MED | C76: (1)Middle Creek | D76: 0 | E76: 8 | F76: 4 | G76: 0.42 | H76: =IF(G76="","",G76*100) -> 42 | I76: 160 | J76: 0.0052 | K76: 1.49 | L76: 1.147 | M76: 1.9 | N76: 1.2 | O76: No | P76: Yes
B77: -LREV- 70+50 MED
A78: 9 | B78: -LREV- 70+50 MED | C78: (1)Middle Creek | D78: 0 | E78: 8 | F78: 4 | G78: 0.79 | H78: =IF(G78="","",G78*100) -> 79 | I78: 200 | J78: 0.0049 | K78: 2.8 | L78: 1.313 | M78: 3.6 | N78: 1.4 | O78: No | P78: Yes
B79: -LREV- 73+50 MED
A80: 9 | B80: -LREV- 73+50 MED | C80: (1)Middle Creek | D80: 0 | E80: 8 | F80: 4 | G80: 0.79 | H80: =IF(G80="","",G80*100) -> 79 | I80: 300 | J80: 0.0048 | K80: 2.84 | L80: 1.307 | M80: 3.6 | N80: 1.4 | O80: No | P80: Yes
B81: -LREV- 76+50 MED
A82: 9 | B82: -LREV- 76+50 MED | C82: (1)Middle Creek | D82: 0 | E82: 8 | F82: 4 | G82: 0.79 | H82: =IF(G82="","",G82*100) -> 79 | I82: 300 | J82: 0.0042 | K82: 2.8 | L82: 1.239 | M82: 3.6 | N82: 1.3 | O82: No | P82: Yes
B83: -LREV- 79+50 MED
A84: 9 | B84: -LREV- 79+50 MED | C84: (1)Middle Creek | D84: 0 | E84: 8 | F84: 4 | G84: 0.71 | H84: =IF(G84="","",G84*100) -> 71 | I84: 280 | J84: 0.0074 | K84: 2.55 | L84: 1.497 | M84: 3.3 | N84: 1.6 | O84: No | P84: Yes
B85: -LREV- 82+30 MED
A86: 10 | B86: -LREV- 82+30 MED | C86: (1)Middle Creek | D86: 0 | E86: 8 | F86: 4.93 | G86: 0.76 | H86: =IF(G86="","",G86*100) -> 76 | I86: 470 | J86: 0.011 | K86: 2.94 | L86: 1.77 | M86: 3.7 | N86: 1.9 | O86: No | P86: Yes
B87: -LREV- 87+00 MED
A88: 10 | B88: -LREV- 87+00 MED | C88: (1)Middle Creek | D88: 0 | E88: 8 | F88: 5.84 | G88: 0.5 | H88: =IF(G88="","",G88*100) -> 50 | I88: 230 | J88: 0.0115 | K88: 1.8 | L88: 1.567 | M88: 2.3 | N88: 1.7 | O88: No | P88: Yes
B89: -L- 89+30 MED
A90: 10 | B90: -L- 89+30 MED | C90: (1)Middle Creek | D90: 0 | E90: 8 | F90: 6.93 | G90: 0.6 | H90: =IF(G90="","",G90*100) -> 60 | I90: 270 | J90: 0.0097 | K90: 2.32 | L90: 1.538 | M90: 2.9 | N90: 1.6 | O90: No | P90: Yes
B91: -L- 92+00 MED
A92: 10 | B92: -L- 92+00 MED | C92: (1)Middle Creek | D92: 0 | E92: 8 | F92: 7 | G92: 0.63 | H92: =IF(G92="","",G92*100) -> 63 | I92: 150 | J92: 0.003 | K92: 2.24 | L92: 0.976 | M92: 2.9 | N92: 1 | O92: No | P92: Yes
B93: -L- 93+50 MED
A94: 10 | B94: -L- 93+50 MED | C94: (1)Middle Creek | D94: 0 | E94: 8 | F94: 7.19 | G94: 0.37 | H94: =IF(G94="","",G94*100) -> 37 | I94: 170 | J94: 0.003 | K94: 1.33 | L94: 0.858 | M94: 1.7 | N94: 0.9 | O94: No | P94: Yes
B95: -L- 95+20 MED
A96: 10 | B96: -L- 89+50 LT | C96: (1)Middle Creek | D96: 0 | E96: 4 | F96: 6 | G96: 0.62 | H96: =IF(G96="","",G96*100) -> 62 | I96: 250 | J96: 0.0124 | K96: 1.3 | L96: 1.603 | M96: 1.7 | N96: 1.7 | O96: No | P96: Yes
B97: -L- 92+00 LT
A98: 10 | B98: -L- 92+00 LT | C98: (1)Middle Creek | D98: 0 | E98: 4 | F98: 6 | G98: 0.6 | H98: =IF(G98="","",G98*100) -> 60 | I98: 150 | J98: 0.0098 | K98: 1.3 | L98: 1.467 | M98: 1.6 | N98: 1.6 | O98: No | P98: Yes
B99: -L- 93+50 LT
A100: 10 | B100: -L- 93+50 LT | C100: (1)Middle Creek | D100: 0 | E100: 4 | F100: 6 | G100: 0.92 | H100: =IF(G100="","",G100*100) -> 92 | I100: 170 | J100: 0.0112 | K100: 2 | L100: 1.718 | M100: 2.5 | N100: 1.8 | O100: No | P100: Yes
B101: -L- 95+20 LT
A102: 10 | B102: -L- 90+50 RT | C102: (1)Middle Creek | D102: 0 | E102: 6 | F102: 4 | G102: 0.91 | H102: =IF(G102="","",G102*100) -> 91 | I102: 220 | J102: 0.005 | K102: 2.18 | L102: 1.297 | M102: 2.8 | N102: 1.4 | O102: No | P102: Yes
B103: -L- 92+70 RT
A104: 10 | B104: -L- 92+70 RT | C104: (1)Middle Creek | D104: 0 | E104: 6 | F104: 4 | G104: 1.45 | H104: =IF(G104="","",G104*100) -> 145 | I104: 480 | J104: 0.005 | K104: 3.28 | L104: 1.437 | M104: 4.18 | N104: 1.526 | O104: No | P104: Yes
B105: -L- 97+50 RT
A106: 11 | B106: -L- 98+20 MED | C106: (1)Middle Creek | D106: 0 | E106: 7 | F106: 8 | G106: 0.55 | H106: =IF(G106="","",G106*100) -> 55 | I106: 230 | J106: 0.0033 | K106: 1.95 | L106: 0.981 | M106: 2.5 | N106: 1 | O106: No | P106: Yes
B107: -L- 100+50 MED
A108: 11 | B108: -L- 100+50 MED | C108: (1)Middle Creek | D108: 0 | E108: 6 | F108: 8 | G108: 0.43 | H108: =IF(G108="","",G108*100) -> 43 | I108: 175 | J108: 0.003 | K108: 1.5 | L108: 0.909 | M108: 2 | N108: 1 | O108: No | P108: Yes
B109: -L- 102+25 MED
...

Sheet Filter Strip
A1: Filter Strip Design Guidelines * | R1: # pages previous sheets: | S1: =Swales!T3 -> 8
A2: Filter Strip | C2: • Long. slope ≥ 2% and ≤ 5% is optimal | R2: # pages this sheet: | S2: =COUNT(J16,J67) -> 0
C3: • Minimum length = 50 ft when filter strip is adjacent to SA waters and 30 ft for other locations | R3: # pages total: | S3: =S2+S1 -> 8
C4: • Drainage area to filter strip surface area ratio ≤ 10:1 recommended
C5: • Slope of the upgrade overland flow path ≤ 5%
C6: • Seasonal high water table ≤ 1 ft lower than any point along the filter strip
C7: • Permissible velocity ≤ 4 fps or grass; ≤ 1 fps for native herbaceous vegetation
A9: * Design guidelines are outlined for various Best Management Practices (BMPs) as provided in the NCDOT BMP Toolbox (2014). The guidelines listed are intended to provide a general overview of key design elements, but do not include all design criteria, guidelines, or recommendations and are not intended to serve as the sole source of design criteria. The NCDOT BMP Toolbox, NCDOT Standard Details, the Federal Highway Administration (FHWA) Hydraulic Engineering Circular 14 (HEC-14) (July 2006), and any other applicable sources should be referenced for additional information.
A10: Please fill out all yellow cells as completely as possible. Use pick lists where provided. See swale design guidelines above. For more information on the NCDOT Stormwater Management Plan form, please refer to the document, NCDOT Stormwater Best Management Practices Toolbox (2014).
A11: Print area may be adjusted to include sheets as needed.
D13: North Carolina Department of Transportation
D14: Highway Stormwater Program
A15: ='General Project Information'!$A$6 -> (Version 2.08; Released April 2018) | D15: STORMWATER MANAGEMENT PLAN FOR NCDOT PROJECTS
A16: WBS Element: | C16: ='General Project Information'!$C$7 -> 37673.3.GV3 | D16: TIP No.: | E16: ='General Project Information'!$E$7 -> R-2721 A | F16: County(ies): | G16: ='General Project Information'!$H$7 -> Wake | I16: Page | J16: =IF(A19<>"",MAX(S1)+1,"") | K16: of | L16: ='General Project Information'!$O$7 -> 10
C17: Filter Strips
A18: Sheet No. | B18: Station & Coordinates (Road and Non Road Projects) | C18: Surface Water Body | D18: Drainage Area (ac) | E18: Surface Area (ac) | F18: Drainage Area: Surface Area Ratio | G18: Actual Length (ft) | H18: Longitudinal Slope (%) | I18: BMP Associated with Buffer Rules?
C19: =IF(AND(A19<>"",'General Project Information'!$D$27<>"",'General Project Information'!$D$39=""),Picklists!$AH$4,"") | F19: =IF(OR(E19="",D19=""),"",(D19/E19))
C21: =IF(AND(A21<>"",'General Project Information'!$D$27<>"",'General Project Information'!$D$39=""),Picklists!$AH$4,"") | F21: =IF(OR(E21="",D21=""),"",(D21/E21))
C23: =IF(AND(A23<>"",'General Project Information'!$D$27<>"",'General Project Information'!$D$39=""),Picklists!$AH$4,"") | F23: =IF(OR(E23="",D23=""),"",(D23/E23))
C25: =IF(AND(A25<>"",'General Project Information'!$D$27<>"",'General Project Information'!$D$39=""),Picklists!$AH$4,"") | F25: =IF(OR(E25="",D25=""),"",(D25/E25))
C27: =IF(AND(A27<>"",'General Project Information'!$D$27<>"",'General Project Information'!$D$39=""),Picklists!$AH$4,"") | F27: =IF(OR(E27="",D27=""),"",(D27/E27))
C29: =IF(AND(A29<>"",'General Project Information'!$D$27<>"",'General Project Information'!$D$39=""),Picklists!$AH$4,"") | F29: =IF(OR(E29="",D29=""),"",(D29/E29))
C31: =IF(AND(A31<>"",'General Project Information'!$D$27<>"",'General Project Information'!$D$39=""),Picklists!$AH$4,"") | F31: =IF(OR(E31="",D31=""),"",(D31/E31))
C33: =IF(AND(A33<>"",'General Project Information'!$D$27<>"",'General Project Information'!$D$39=""),Picklists!$AH$4,"") | F33: =IF(OR(E33="",D33=""),"",(D33/E33))
C35: =IF(AND(A35<>"",'General Project Information'!$D$27<>"",'General Project Information'!$D$39=""),Picklists!$AH$4,"") | F35: =IF(OR(E35="",D35=""),"",(D35/E35))
C37: =IF(AND(A37<>"",'General Project Information'!$D$27<>"",'General Project Information'!$D$39=""),Picklists!$AH$4,"") | F37: =IF(OR(E37="",D37=""),"",(D37/E37))
C39: =IF(AND(A39<>"",'General Project Information'!$D$27<>"",'General Project Information'!$D$39=""),Picklists!$AH$4,"") | F39: =IF(OR(E39="",D39=""),"",(D39/E39))
C41: =IF(AND(A41<>"",'General Project Information'!$D$27<>"",'General Project Information'!$D$39=""),Picklists!$AH$4,"") | F41: =IF(OR(E41="",D41=""),"",(D41/E41))
... C55: =IF(AND(A55<>"",'General Project Information'!$D$27<>"",'General Project Information'!$D$39=""),Picklists!$AH$4,"") | F55: =IF(OR(E55="",D55=""),"",(D55/E55))
D57: Additional Comments
D64: North Carolina Department of Transportation
D65: Highway Stormwater Program
A66: ='General Project Information'!$A$6 -> (Version 2.08; Released April 2018) | D66: STORMWATER MANAGEMENT PLAN FOR NCDOT PROJECTS
A67: WBS Element: | C67: ='General Project Information'!$C$7 -> 37673.3.GV3 | D67: TIP No.: | E67: ='General Project Information'!$E$7 -> R-2721 A | F67: County(ies): | G67: ='General Project Information'!$H$7 -> Wake | I67: Page | J67: =IF(A70<>"",MAX(J16)+1,"") | K67: of | L67: ='General Project Information'!$O$7 -> 10
C68: Filter Strips
A69: Sheet No. | B69: Station & Coordinates (Road and Non Road Projects) | C69: Surface Water Body | D69: Drainage Area (ac) | E69: Surface Area (ac) | F69: Drainage Area: Surface Area Ratio | G69: Actual Length (ft) | H69: Longitudinal Slope (%) | I69: BMP Associated with Buffer Rules?
C70: =IF(AND(A70<>"",'General Project Information'!$D$27<>"",'General Project Information'!$D$39=""),Picklists!$AH$4,"") | F70: =IF(OR(E70="",D70=""),"",(D70/E70))
C72: =IF(AND(A72<>"",'General Project Information'!$D$27<>"",'General Project Information'!$D$39=""),Picklists!$AH$4,"") | F72: =IF(OR(E72="",D72=""),"",(D72/E72))
C74: =IF(AND(A74<>"",'General Project Information'!$D$27<>"",'General Project Information'!$D$39=""),Picklists!$AH$4,"") | F74: =IF(OR(E74="",D74=""),"",(D74/E74))
C76: =IF(AND(A76<>"",'General Project Information'!$D$27<>"",'General Project Information'!$D$39=""),Picklists!$AH$4,"") | F76: =IF(OR(E76="",D76=""),"",(D76/E76))
C78: =IF(AND(A78<>"",'General Project Information'!$D$27<>"",'General Project Information'!$D$39=""),Picklists!$AH$4,"") | F78: =IF(OR(E78="",D78=""),"",(D78/E78))
C80: =IF(AND(A80<>"",'General Project Information'!$D$27<>"",'General Project Information'!$D$39=""),Picklists!$AH$4,"") | F80: =IF(OR(E80="",D80=""),"",(D80/E80))
C82: =IF(AND(A82<>"",'General Project Information'!$D$27<>"",'General Project Information'!$D$39=""),Picklists!$AH$4,"") | F82: =IF(OR(E82="",D82=""),"",(D82/E82))
C84: =IF(AND(A84<>"",'General Project Information'!$D$27<>"",'General Project Information'!$D$39=""),Picklists!$AH$4,"") | F84: =IF(OR(E84="",D84=""),"",(D84/E84))
C86: =IF(AND(A86<>"",'General Project Information'!$D$27<>"",'General Project Information'!$D$39=""),Picklists!$AH$4,"") | F86: =IF(OR(E86="",D86=""),"",(D86/E86))
C88: =IF(AND(A88<>"",'General Project Information'!$D$27<>"",'General Project Information'!$D$39=""),Picklists!$AH$4,"") | F88: =IF(OR(E88="",D88=""),"",(D88/E88))
C90: =IF(AND(A90<>"",'General Project Information'!$D$27<>"",'General Project Information'!$D$39=""),Picklists!$AH$4,"") | F90: =IF(OR(E90="",D90=""),"",(D90/E90))
C92: =IF(AND(A92<>"",'General Project Information'!$D$27<>"",'General Project Information'!$D$39=""),Picklists!$AH$4,"") | F92: =IF(OR(E92="",D92=""),"",(D92/E92))
... C106: =IF(AND(A106<>"",'General Project Information'!$D$27<>"",'General Project Information'!$D$39=""),Picklists!$AH$4,"") | F106: =IF(OR(E106="",D106=""),"",(D106/E106))
D108: Additional Comments

Sheet PSHs, Energy Diss.
A1: Preformed Scour Holes and Energy Dissipators Design Guidelines * | R1: # pages previous sheets: | S1: ='Filter Strip'!S3 -> 8
A2: Preformed Scour Hole (PSH) Design Guidelines* | C2: • 15” pipe, Q10 ≤ 6 cfs | R2: # pages this sheet: | S2: =COUNT(N19,N69,N119,N169) -> 0
C3: • 18” pipe, Q10 ≤ 10 cfs | R3: # pages total: | S3: =S2+S1 -> 8
C4: • PSHs to be used with 15” and 18” pipes and Class B riprap only
C5: • Permanent soil reinforcement matting (PSRM) lined apron and downgrade area must be flat
C6: • Base width and base length = 3 x pipe diam.
C7: • Side slope 2:1 or flatter
C8: • 1 ft ≤ depth ≤ 3 ft
C9: • Meet clear recovery zone requirements outlined in the NDCDOT Roadway Design Manual and locate outside of Zone 2 in buffer areas
A10: General | C10: • Velocities exiting energy dissipators should be ≤ 4 fps
A12: * Design guidelines are outlined for various Best Management Practices (BMPs) as provided in the NCDOT BMP Toolbox (2014). The guidelines listed are intended to provide a general overview of key design elements, but do not include all design criteria, guidelines, or recommendations and are not intended to serve as the sole source of design criteria. The NCDOT BMP Toolbox, NCDOT Standard Details, the Federal Highway Administration (FHWA) Hydraulic Engineering Circular 14 (HEC-14) (July 2006), and any other applicable sources should be referenced for additional information.
A13: Please fill out all yellow cells as completely as possible. Use pick lists where provided. See PSH design guidelines above. For more information on the NCDOT Stormwater Management Plan form, please refer to the document, NCDOT Stormwater Best Management Practices Toolbox (2014). If needed, additional pages are provided in this workbook.
A14: Print area may be adjusted to include sheets as needed.
D16: North Carolina Department of Transportation
D17: Highway Stormwater Program
A18: ='General Project Information'!$A$6 -> (Version 2.08; Released April 2018) | D18: STORMWATER MANAGEMENT PLAN FOR NCDOT PROJECTS
A19: WBS Element: | E19: TIP No.: | F19: ='General Project Information'!$E$7 -> R-2721 A | G19: County(ies): | H19: ='General Project Information'!$H$7 -> Wake | M19: Page | N19: =IF(A22<>"",MAX(S1)+1,"") | O19: of | P19: ='General Project Information'!$O$7 -> 10
D20: Preformed Scour Holes and Energy Dissipators
A21: Sheet No. | B21: Station & Coordinates (Road and Non Road Projects) | C21: Surface Water Body | D21: Energy Dissipator Type | F21: Riprap Type | G21: Drainage Area (ac) | H21: Conveyance Structure | I21: Pipe/Structure Dimensions (in) | K21: Q10 (cfs) | M21: V10 (fps) | O21: BMP Associated w/ Buffer Rules?
C22: =IF(AND(A22<>"",'General Project Information'!$D$27<>"",'General Project Information'!$D$39=""),Picklists!$AH$4,"") | O22: =IF(D22="","",IF(D22<>"PSH","N/A",""))
C24: =IF(AND(A24<>"",'General Project Information'!$D$27<>"",'General Project Information'!$D$39=""),Picklists!$AH$4,"") | O24: =IF(D24="","",IF(D24<>"PSH","N/A",""))
C26: =IF(AND(A26<>"",'General Project Information'!$D$27<>"",'General Project Information'!$D$39=""),Picklists!$AH$4,"") | O26: =IF(D26="","",IF(D26<>"PSH","N/A",""))
C28: =IF(AND(A28<>"",'General Project Information'!$D$27<>"",'General Project Information'!$D$39=""),Picklists!$AH$4,"") | O28: =IF(D28="","",IF(D28<>"PSH","N/A",""))
C30: =IF(AND(A30<>"",'General Project Information'!$D$27<>"",'General Project Information'!$D$39=""),Picklists!$AH$4,"") | O30: =IF(D30="","",IF(D30<>"PSH","N/A",""))
C32: =IF(AND(A32<>"",'General Project Information'!$D$27<>"",'General Project Information'!$D$39=""),Picklists!$AH$4,"") | O32: =IF(D32="","",IF(D32<>"PSH","N/A",""))
C34: =IF(AND(A34<>"",'General Project Information'!$D$27<>"",'General Project Information'!$D$39=""),Picklists!$AH$4,"") | O34: =IF(D34="","",IF(D34<>"PSH","N/A",""))
C36: =IF(AND(A36<>"",'General Project Information'!$D$27<>"",'General Project Information'!$D$39=""),Picklists!$AH$4,"") | O36: =IF(D36="","",IF(D36<>"PSH","N/A",""))
C38: =IF(AND(A38<>"",'General Project Information'!$D$27<>"",'General Project Information'!$D$39=""),Picklists!$AH$4,"") | O38: =IF(D38="","",IF(D38<>"PSH","N/A",""))
C40: =IF(AND(A40<>"",'General Project Information'!$D$27<>"",'General Project Information'!$D$39=""),Picklists!$AH$4,"") | O40: =IF(D40="","",IF(D40<>"PSH","N/A",""))
C42: =IF(AND(A42<>"",'General Project Information'!$D$27<>"",'General Project Information'!$D$39=""),Picklists!$AH$4,"") | O42: =IF(D42="","",IF(D42<>"PSH","N/A",""))
C44: =IF(AND(A44<>"",'General Project Information'!$D$27<>"",'General Project Information'!$D$39=""),Picklists!$AH$4,"") | O44: =IF(D44="","",IF(D44<>"PSH","N/A",""))
... C52: =IF(AND(A52<>"",'General Project Information'!$D$27<>"",'General Project Information'!$D$39=""),Picklists!$AH$4,"") | O52: =IF(D52="","",IF(D52<>"PSH","N/A",""))
D54: Additional Comments
A65: * Refer to the NCDOT Best Management Practices Toolbox (2014), NCDOT Standards, the Federal Highway Administration (FHWA) Hydraulic Engineering Circular No. 14 (HEC-14), Third Edition, Hydraulic Design of Energy Dissipators for Culverts and Channels (July 2006), as applicable, for design guidance and criteria.
D66: North Carolina Department of Transportation
D67: Highway Stormwater Program
A68: ='General Project Information'!$A$6 -> (Version 2.08; Released April 2018) | D68: STORMWATER MANAGEMENT PLAN FOR NCDOT PROJECTS
A69: WBS Element: | E69: TIP No.: | F69: ='General Project Information'!$E$7 -> R-2721 A | G69: County(ies): | H69: ='General Project Information'!$H$7 -> Wake | M69: Page | N69: =IF(A72<>"",MAX(N19)+1,"") | O69: of | P69: ='General Project Information'!$O$7 -> 10
D70: Preformed Scour Holes and Energy Dissipators
A71: Sheet No. | B71: Station & Coordinates (Road and Non Road Projects) | C71: Surface Water Body | D71: Energy Dissipator Type | F71: Riprap Type | G71: Drainage Area (ac) | H71: Conveyance Structure | I71: Pipe/Structure Dimensions (in) | K71: Q10 (cfs) | M71: V10 (fps) | O71: BMP Associated w/ Buffer Rules?
C72: =IF(AND(A72<>"",'General Project Information'!$D$27<>"",'General Project Information'!$D$39=""),Picklists!$AH$4,"") | O72: =IF(D72="","",IF(D72<>"PSH","N/A",""))
C74: =IF(AND(A74<>"",'General Project Information'!$D$27<>"",'General Project Information'!$D$39=""),Picklists!$AH$4,"") | O74: =IF(D74="","",IF(D74<>"PSH","N/A",""))
C76: =IF(AND(A76<>"",'General Project Information'!$D$27<>"",'General Project Information'!$D$39=""),Picklists!$AH$4,"") | O76: =IF(D76="","",IF(D76<>"PSH","N/A",""))
C78: =IF(AND(A78<>"",'General Project Information'!$D$27<>"",'General Project Information'!$D$39=""),Picklists!$AH$4,"") | O78: =IF(D78="","",IF(D78<>"PSH","N/A",""))
C80: =IF(AND(A80<>"",'General Project Information'!$D$27<>"",'General Project Information'!$D$39=""),Picklists!$AH$4,"") | O80: =IF(D80="","",IF(D80<>"PSH","N/A",""))
C82: =IF(AND(A82<>"",'General Project Information'!$D$27<>"",'General Project Information'!$D$39=""),Picklists!$AH$4,"") | O82: =IF(D82="","",IF(D82<>"PSH","N/A",""))
C84: =IF(AND(A84<>"",'General Project Information'!$D$27<>"",'General Project Information'!$D$39=""),Picklists!$AH$4,"") | O84: =IF(D84="","",IF(D84<>"PSH","N/A",""))
C86: =IF(AND(A86<>"",'General Project Information'!$D$27<>"",'General Project Information'!$D$39=""),Picklists!$AH$4,"") | O86: =IF(D86="","",IF(D86<>"PSH","N/A",""))
C88: =IF(AND(A88<>"",'General Project Information'!$D$27<>"",'General Project Information'!$D$39=""),Picklists!$AH$4,"") | O88: =IF(D88="","",IF(D88<>"PSH","N/A",""))
C90: =IF(AND(A90<>"",'General Project Information'!$D$27<>"",'General Project Information'!$D$39=""),Picklists!$AH$4,"") | O90: =IF(D90="","",IF(D90<>"PSH","N/A",""))
C92: =IF(AND(A92<>"",'General Project Information'!$D$27<>"",'General Project Information'!$D$39=""),Picklists!$AH$4,"") | O92: =IF(D92="","",IF(D92<>"PSH","N/A",""))
C94: =IF(AND(A94<>"",'General Project Information'!$D$27<>"",'General Project Information'!$D$39=""),Picklists!$AH$4,"") | O94: =IF(D94="","",IF(D94<>"PSH","N/A",""))
... C102: =IF(AND(A102<>"",'General Project Information'!$D$27<>"",'General Project Information'!$D$39=""),Picklists!$AH$4,"") | O102: =IF(D102="","",IF(D102<>"PSH","N/A",""))
D104: Additional Comments
A115: * Refer to the NCDOT Best Management Practices Toolbox (2014), NCDOT Standards, the Federal Highway Administration (FHWA) Hydraulic Engineering Circular No. 14 (HEC-14), Third Edition, Hydraulic Design of Energy Dissipators for Culverts and Channels (July 2006), as applicable, for design guidance and criteria.
D116: North Carolina Department of Transportation
D117: Highway Stormwater Program
A118: ='General Project Information'!$A$6 -> (Version 2.08; Released April 2018) | D118: STORMWATER MANAGEMENT PLAN FOR NCDOT PROJECTS
A119: WBS Element: | E119: TIP No.: | F119: ='General Project Information'!$E$7 -> R-2721 A | G119: County(ies): | H119: ='General Project Information'!$H$7 -> Wake | M119: Page | N119: =IF(A122<>"",MAX(N69)+1,"") | O119: of | P119: ='General Project Information'!$O$7 -> 10
D120: Preformed Scour Holes and Energy Dissipators
A121: Sheet No. | B121: Station & Coordinates (Road and Non Road Projects) | C121: Surface Water Body | D121: Energy Dissipator Type | F121: Riprap Type | G121: Drainage Area (ac) | H121: Conveyance Structure | I121: Pipe/Structure Dimensions (in) | K121: Q10 (cfs) | M121: V10 (fps) | O121: BMP Associated w/ Buffer Rules?
C122: =IF(AND(A122<>"",'General Project Information'!$D$27<>"",'General Project Information'!$D$39=""),Picklists!$AH$4,"") | O122: =IF(D122="","",IF(D122<>"PSH","N/A",""))
C124: =IF(AND(A124<>"",'General Project Information'!$D$27<>"",'General Project Information'!$D$39=""),Picklists!$AH$4,"") | O124: =IF(D124="","",IF(D124<>"PSH","N/A",""))
C126: =IF(AND(A126<>"",'General Project Information'!$D$27<>"",'General Project Information'!$D$39=""),Picklists!$AH$4,"") | O126: =IF(D126="","",IF(D126<>"PSH","N/A",""))
C128: =IF(AND(A128<>"",'General Project Information'!$D$27<>"",'General Project Information'!$D$39=""),Picklists!$AH$4,"") | O128: =IF(D128="","",IF(D128<>"PSH","N/A",""))
C130: =IF(AND(A130<>"",'General Project Information'!$D$27<>"",'General Project Information'!$D$39=""),Picklists!$AH$4,"") | O130: =IF(D130="","",IF(D130<>"PSH","N/A",""))
C132: =IF(AND(A132<>"",'General Project Information'!$D$27<>"",'General Project Information'!$D$39=""),Picklists!$AH$4,"") | O132: =IF(D132="","",IF(D132<>"PSH","N/A",""))
C134: =IF(AND(A134<>"",'General Project Information'!$D$27<>"",'General Project Information'!$D$39=""),Picklists!$AH$4,"") | O134: =IF(D134="","",IF(D134<>"PSH","N/A",""))
C136: =IF(AND(A136<>"",'General Project Information'!$D$27<>"",'General Project Information'!$D$39=""),Picklists!$AH$4,"") | O136: =IF(D136="","",IF(D136<>"PSH","N/A",""))
C138: =IF(AND(A138<>"",'General Project Information'!$D$27<>"",'General Project Information'!$D$39=""),Picklists!$AH$4,"") | O138: =IF(D138="","",IF(D138<>"PSH","N/A",""))
C140: =IF(AND(A140<>"",'General Project Information'!$D$27<>"",'General Project Information'!$D$39=""),Picklists!$AH$4,"") | O140: =IF(D140="","",IF(D140<>"PSH","N/A",""))
C142: =IF(AND(A142<>"",'General Project Information'!$D$27<>"",'General Project Information'!$D$39=""),Picklists!$AH$4,"") | O142: =IF(D142="","",IF(D142<>"PSH","N/A",""))
C144: =IF(AND(A144<>"",'General Project Information'!$D$27<>"",'General Project Information'!$D$39=""),Picklists!$AH$4,"") | O144: =IF(D144="","",IF(D144<>"PSH","N/A",""))
... C152: =IF(AND(A152<>"",'General Project Information'!$D$27<>"",'General Project Information'!$D$39=""),Picklists!$AH$4,"") | O152: =IF(D152="","",IF(D152<>"PSH","N/A",""))
D154: Additional Comments
A165: * Refer to the NCDOT Best Management Practices Toolbox (2014), NCDOT Standards, the Federal Highway Administration (FHWA) Hydraulic Engineering Circular No. 14 (HEC-14), Third Edition, Hydraulic Design of Energy Dissipators for Culverts and Channels (July 2006), as applicable, for design guidance and criteria.
D166: North Carolina Department of Transportation
D167: Highway Stormwater Program
A168: ='General Project Information'!$A$6 -> (Version 2.08; Released April 2018) | D168: STORMWATER MANAGEMENT PLAN FOR NCDOT PROJECTS
A169: WBS Element: | E169: TIP No.: | F169: ='General Project Information'!$E$7 -> R-2721 A | G169: County(ies): | H169: ='General Project Information'!$H$7 -> Wake | M169: Page | N169: =IF(A172<>"",MAX(N119)+1,"") | O169: of | P169: ='General Project Information'!$O$7 -> 10
D170: Preformed Scour Holes and Energy Dissipators
A171: Sheet No. | B171: Station & Coordinates (Road and Non Road Projects) | C171: Surface Water Body | D171: Energy Dissipator Type | F171: Riprap Type | G171: Drainage Area (ac) | H171: Conveyance Structure | I171: Pipe/Structure Dimensions (in) | K171: Q10 (cfs) | M171: V10 (fps) | O171: BMP Associated w/ Buffer Rules?
C172: =IF(AND(A172<>"",'General Project Information'!$D$27<>"",'General Project Information'!$D$39=""),Picklists!$AH$4,"") | O172: =IF(D172="","",IF(D172<>"PSH","N/A",""))
C174: =IF(AND(A174<>"",'General Project Information'!$D$27<>"",'General Project Information'!$D$39=""),Picklists!$AH$4,"") | O174: =IF(D174="","",IF(D174<>"PSH","N/A",""))
C176: =IF(AND(A176<>"",'General Project Information'!$D$27<>"",'General Project Information'!$D$39=""),Picklists!$AH$4,"") | O176: =IF(D176="","",IF(D176<>"PSH","N/A",""))
C178: =IF(AND(A178<>"",'General Project Information'!$D$27<>"",'General Project Information'!$D$39=""),Picklists!$AH$4,"") | O178: =IF(D178="","",IF(D178<>"PSH","N/A",""))
C180: =IF(AND(A180<>"",'General Project Information'!$D$27<>"",'General Project Information'!$D$39=""),Picklists!$AH$4,"") | O180: =IF(D180="","",IF(D180<>"PSH","N/A",""))
C182: =IF(AND(A182<>"",'General Project Information'!$D$27<>"",'General Project Information'!$D$39=""),Picklists!$AH$4,"") | O182: =IF(D182="","",IF(D182<>"PSH","N/A",""))
C184: =IF(AND(A184<>"",'General Project Information'!$D$27<>"",'General Project Information'!$D$39=""),Picklists!$AH$4,"") | O184: =IF(D184="","",IF(D184<>"PSH","N/A",""))
C186: =IF(AND(A186<>"",'General Project Information'!$D$27<>"",'General Project Information'!$D$39=""),Picklists!$AH$4,"") | O186: =IF(D186="","",IF(D186<>"PSH","N/A",""))
C188: =IF(AND(A188<>"",'General Project Information'!$D$27<>"",'General Project Information'!$D$39=""),Picklists!$AH$4,"") | O188: =IF(D188="","",IF(D188<>"PSH","N/A",""))
C190: =IF(AND(A190<>"",'General Project Information'!$D$27<>"",'General Project Information'!$D$39=""),Picklists!$AH$4,"") | O190: =IF(D190="","",IF(D190<>"PSH","N/A",""))
C192: =IF(AND(A192<>"",'General Project Information'!$D$27<>"",'General Project Information'!$D$39=""),Picklists!$AH$4,"") | O192: =IF(D192="","",IF(D192<>"PSH","N/A",""))
C194: =IF(AND(A194<>"",'General Project Information'!$D$27<>"",'General Project Information'!$D$39=""),Picklists!$AH$4,"") | O194: =IF(D194="","",IF(D194<>"PSH","N/A",""))
... C202: =IF(AND(A202<>"",'General Project Information'!$D$27<>"",'General Project Information'!$D$39=""),Picklists!$AH$4,"") | O202: =IF(D202="","",IF(D202<>"PSH","N/A",""))
D204: Additional Comments
A215: * Refer to the NCDOT Best Management Practices Toolbox (2014), NCDOT Standards, the Federal Highway Administration (FHWA) Hydraulic Engineering Circular No. 14 (HEC-14), Third Edition, Hydraulic Design of Energy Dissipators for Culverts and Channels (July 2006), as applicable, for design guidance and criteria.

Sheet Level Spreader, HSB, & Forebay
A1: BMP Design Guidelines * | S1: # pages previous sheets: | T1: ='PSHs, Energy Diss.'!S3 -> 8
A2: Forebay | C2: • Serves as pretreatment for other downgrade BMP, not a stand-alone BMP | S2: # pages this sheet: | T2: =COUNT(M33,M84,M135) -> 0
C3: • Sized to contain 0.1 in of runoff from the new built-upon area | S3: # pages total: | T3: =T2+T1 -> 8
C4: • Lining adequate to handle V10
C5: • 3 ft ≤ depth ≤ 5 ft
C6: • 2:1 ≤ L:W ratio ≤ 6:1
C7: Sideslopes 2:1 or flatter
C8: • Meet clear recovery zone requirements per NDCDOT Roadway Design Manual
A9: Hazardous Spill Basin | C9: • Meet clear recovery zone requirements outlined in the NDCDOT Roadway Design Manual
C10: • Applied at rural or urban arterials crossing ORWs or WS-I, or if the crossing is within ½ mile of critical area of a WS-II, WS-III, or WS-IV
C11: • Volume = 2-year storm, tc = 10 min., td = 5 min. + 1,550 cf with 1 ft freeboard
C12: • Sideslopes 2:1 or flatter
C13: • Convey 10-year storm without failure or downgrade erosion
C14: • Outlet structure able to stop outflow from basin
A15: Level Spreader | C15: • Meet clear recovery zone requirements outlined in the NDCDOT Roadway Design Manual and locate outside of buffer zones
C16: • Treat runoff from the 1 in/hr storm
C17: • Must pass Q10 without erosion or failure
C18: • Max down grade slope = 5% for forest and 8% for dense ground cover
C19: • Level Spreader length ≥ 10 ft and ≤ 100 ft
C20: • Trough depth ≥ 1.5 ft
C21: • Trough width ≥ 5.5 ft
C22: • Concrete lip extends 4 in. above ground with zero percent grade
C23: • First 3 ft down grade lined with PSRM
C24: • Level spreader length: o Grass or densely vegetated buffer = 10 ft per 1 cfs of flow o Forested buffer 50 ft wide = 50 ft per 1 cfs pf flow
A26: * Design guidelines are outlined for various Best Management Practices (BMPs) as provided in the NCDOT BMP Toolbox (2014). The guidelines listed are intended to provide a general overview of key design elements, but do not include all design criteria, guidelines, or recommendations and are not intended to serve as the sole source of design criteria. The NCDOT BMP Toolbox, NCDOT Standard Details, the Federal Highway Administration (FHWA) Hydraulic Engineering Circular 14 (HEC-14) (July 2006), and any other applicable sources should be referenced for additional information.
A27: Please fill out all yellow cells as completely as possible. Use pick lists where provided. See top of worksheet for design guidelines. For more information on the NCDOT Stormwater Management Plan form, please refer to the document, NCDOT Stormwater Best Management Practices Toolbox (2014). If needed, additional pages are provided in this workbook.
A28: Print area may be adjusted to include sheets as needed.
D30: North Carolina Department of Transportation
D31: Highway Stormwater Program
A32: ='General Project Information'!$A$6 -> (Version 2.08; Released April 2018) | D32: STORMWATER MANAGEMENT PLAN FOR NCDOT PROJECTS
A33: WBS Element: | D33: ='General Project Information'!$C$7 -> 37673.3.GV3 | E33: TIP No.: | F33: ='General Project Information'!$E$7 -> R-2721 A | G33: County(ies): | H33: ='General Project Information'!$H$7 -> Wake | L33: Page | M33: =IF(A36<>"",MAX(T1)+1,"") | N33: of | O33: ='General Project Information'!$O$7 -> 10
D34: Level Spreaders, Hazardous Spill Basins, and Forebays
A35: Sheet No. | B35: Station & Coordinates (Road and Non Road Projects) | C35: Surface Water Body | D35: Level Spreader, Hazardous Spill Basin, or Forebay? | E35: Drainage Area (ac) | F35: New Built-Upon Area (ac) | G35: Required / Minimum Treatment | L35: Treatment Achieved | N35: BMP Associated w/ Buffer Rules?
C36: =IF(AND(A36<>"",'General Project Information'!$D$27<>"",'General Project Information'!$D$39=""),Picklists!$AH$4,"") | G36: =IF(D36="Forebay","0.1 inches of runoff from NBUA",IF(D36="Hazardous Spill Basin","2yr, tc=10 min, td= 5 min storm runoff + 1,550 cf (cf)",IF(D36="Level Spreader","Level Spreader Length (ft)",IF(D36="Other","","")))) | K36: =IF(G36="","",IF(D36="Hazardous Spill Basin","cf",IF(D36="Level Spreader","ft",IF(D36="Dry Detention Basin","cf",IF(D36="Infiltration Basin","cf",IF(D36="Forebay","cf","")))))) | M36: =IF(K36="","",K36) | N36: =IF(D36="","",IF(D36="Level Spreader","","N/A"))
C38: =IF(AND(A38<>"",'General Project Information'!$D$27<>"",'General Project Information'!$D$39=""),Picklists!$AH$4,"") | G38: =IF(D38="Forebay","0.1 inches of runoff from NBUA",IF(D38="Hazardous Spill Basin","2yr, tc=10 min, td= 5 min storm runoff + 1,550 cf (cf)",IF(D38="Level Spreader","Level Spreader Length (ft)",IF(D38="Other","","")))) | K38: =IF(G38="","",IF(D38="Hazardous Spill Basin","cf",IF(D38="Level Spreader","ft",IF(D38="Dry Detention Basin","cf",IF(D38="Infiltration Basin","cf",IF(D38="Forebay","cf","")))))) | M38: =IF(K38="","",K38) | N38: =IF(D38="","",IF(D38="Level Spreader","","N/A"))
C40: =IF(AND(A40<>"",'General Project Information'!$D$27<>"",'General Project Information'!$D$39=""),Picklists!$AH$4,"") | G40: =IF(D40="Forebay","0.1 inches of runoff from NBUA",IF(D40="Hazardous Spill Basin","2yr, tc=10 min, td= 5 min storm runoff + 1,550 cf (cf)",IF(D40="Level Spreader","Level Spreader Length (ft)",IF(D40="Other","","")))) | K40: =IF(G40="","",IF(D40="Hazardous Spill Basin","cf",IF(D40="Level Spreader","ft",IF(D40="Dry Detention Basin","cf",IF(D40="Infiltration Basin","cf",IF(D40="Forebay","cf","")))))) | M40: =IF(K40="","",K40) | N40: =IF(D40="","",IF(D40="Level Spreader","","N/A"))
C42: =IF(AND(A42<>"",'General Project Information'!$D$27<>"",'General Project Information'!$D$39=""),Picklists!$AH$4,"") | G42: =IF(D42="Forebay","0.1 inches of runoff from NBUA",IF(D42="Hazardous Spill Basin","2yr, tc=10 min, td= 5 min storm runoff + 1,550 cf (cf)",IF(D42="Level Spreader","Level Spreader Length (ft)",IF(D42="Other","","")))) | K42: =IF(G42="","",IF(D42="Hazardous Spill Basin","cf",IF(D42="Level Spreader","ft",IF(D42="Dry Detention Basin","cf",IF(D42="Infiltration Basin","cf",IF(D42="Forebay","cf","")))))) | M42: =IF(K42="","",K42) | N42: =IF(D42="","",IF(D42="Level Spreader","","N/A"))
C44: =IF(AND(A44<>"",'General Project Information'!$D$27<>"",'General Project Information'!$D$39=""),Picklists!$AH$4,"") | G44: =IF(D44="Forebay","0.1 inches of runoff from NBUA",IF(D44="Hazardous Spill Basin","2yr, tc=10 min, td= 5 min storm runoff + 1,550 cf (cf)",IF(D44="Level Spreader","Level Spreader Length (ft)",IF(D44="Other","","")))) | K44: =IF(G44="","",IF(D44="Hazardous Spill Basin","cf",IF(D44="Level Spreader","ft",IF(D44="Dry Detention Basin","cf",IF(D44="Infiltration Basin","cf",IF(D44="Forebay","cf","")))))) | M44: =IF(K44="","",K44) | N44: =IF(D44="","",IF(D44="Level Spreader","","N/A"))
C46: =IF(AND(A46<>"",'General Project Information'!$D$27<>"",'General Project Information'!$D$39=""),Picklists!$AH$4,"") | G46: =IF(D46="Forebay","0.1 inches of runoff from NBUA",IF(D46="Hazardous Spill Basin","2yr, tc=10 min, td= 5 min storm runoff + 1,550 cf (cf)",IF(D46="Level Spreader","Level Spreader Length (ft)",IF(D46="Other","","")))) | K46: =IF(G46="","",IF(D46="Hazardous Spill Basin","cf",IF(D46="Level Spreader","ft",IF(D46="Dry Detention Basin","cf",IF(D46="Infiltration Basin","cf",IF(D46="Forebay","cf","")))))) | M46: =IF(K46="","",K46) | N46: =IF(D46="","",IF(D46="Level Spreader","","N/A"))
C48: =IF(AND(A48<>"",'General Project Information'!$D$27<>"",'General Project Information'!$D$39=""),Picklists!$AH$4,"") | G48: =IF(D48="Forebay","0.1 inches of runoff from NBUA",IF(D48="Hazardous Spill Basin","2yr, tc=10 min, td= 5 min storm runoff + 1,550 cf (cf)",IF(D48="Level Spreader","Level Spreader Length (ft)",IF(D48="Other","","")))) | K48: =IF(G48="","",IF(D48="Hazardous Spill Basin","cf",IF(D48="Level Spreader","ft",IF(D48="Dry Detention Basin","cf",IF(D48="Infiltration Basin","cf",IF(D48="Forebay","cf","")))))) | M48: =IF(K48="","",K48) | N48: =IF(D48="","",IF(D48="Level Spreader","","N/A"))
C50: =IF(AND(A50<>"",'General Project Information'!$D$27<>"",'General Project Information'!$D$39=""),Picklists!$AH$4,"") | G50: =IF(D50="Forebay","0.1 inches of runoff from NBUA",IF(D50="Hazardous Spill Basin","2yr, tc=10 min, td= 5 min storm runoff + 1,550 cf (cf)",IF(D50="Level Spreader","Level Spreader Length (ft)",IF(D50="Other","","")))) | K50: =IF(G50="","",IF(D50="Hazardous Spill Basin","cf",IF(D50="Level Spreader","ft",IF(D50="Dry Detention Basin","cf",IF(D50="Infiltration Basin","cf",IF(D50="Forebay","cf","")))))) | M50: =IF(K50="","",K50) | N50: =IF(D50="","",IF(D50="Level Spreader","","N/A"))
C52: =IF(AND(A52<>"",'General Project Information'!$D$27<>"",'General Project Information'!$D$39=""),Picklists!$AH$4,"") | G52: =IF(D52="Forebay","0.1 inches of runoff from NBUA",IF(D52="Hazardous Spill Basin","2yr, tc=10 min, td= 5 min storm runoff + 1,550 cf (cf)",IF(D52="Level Spreader","Level Spreader Length (ft)",IF(D52="Other","","")))) | K52: =IF(G52="","",IF(D52="Hazardous Spill Basin","cf",IF(D52="Level Spreader","ft",IF(D52="Dry Detention Basin","cf",IF(D52="Infiltration Basin","cf",IF(D52="Forebay","cf","")))))) | M52: =IF(K52="","",K52) | N52: =IF(D52="","",IF(D52="Level Spreader","","N/A"))
C54: =IF(AND(A54<>"",'General Project Information'!$D$27<>"",'General Project Information'!$D$39=""),Picklists!$AH$4,"") | G54: =IF(D54="Forebay","0.1 inches of runoff from NBUA",IF(D54="Hazardous Spill Basin","2yr, tc=10 min, td= 5 min storm runoff + 1,550 cf (cf)",IF(D54="Level Spreader","Level Spreader Length (ft)",IF(D54="Other","","")))) | K54: =IF(G54="","",IF(D54="Hazardous Spill Basin","cf",IF(D54="Level Spreader","ft",IF(D54="Dry Detention Basin","cf",IF(D54="Infiltration Basin","cf",IF(D54="Forebay","cf","")))))) | M54: =IF(K54="","",K54) | N54: =IF(D54="","",IF(D54="Level Spreader","","N/A"))
C56: =IF(AND(A56<>"",'General Project Information'!$D$27<>"",'General Project Information'!$D$39=""),Picklists!$AH$4,"") | G56: =IF(D56="Forebay","0.1 inches of runoff from NBUA",IF(D56="Hazardous Spill Basin","2yr, tc=10 min, td= 5 min storm runoff + 1,550 cf (cf)",IF(D56="Level Spreader","Level Spreader Length (ft)",IF(D56="Other","","")))) | K56: =IF(G56="","",IF(D56="Hazardous Spill Basin","cf",IF(D56="Level Spreader","ft",IF(D56="Dry Detention Basin","cf",IF(D56="Infiltration Basin","cf",IF(D56="Forebay","cf","")))))) | M56: =IF(K56="","",K56) | N56: =IF(D56="","",IF(D56="Level Spreader","","N/A"))
C58: =IF(AND(A58<>"",'General Project Information'!$D$27<>"",'General Project Information'!$D$39=""),Picklists!$AH$4,"") | G58: =IF(D58="Forebay","0.1 inches of runoff from NBUA",IF(D58="Hazardous Spill Basin","2yr, tc=10 min, td= 5 min storm runoff + 1,550 cf (cf)",IF(D58="Level Spreader","Level Spreader Length (ft)",IF(D58="Other","","")))) | K58: =IF(G58="","",IF(D58="Hazardous Spill Basin","cf",IF(D58="Level Spreader","ft",IF(D58="Dry Detention Basin","cf",IF(D58="Infiltration Basin","cf",IF(D58="Forebay","cf","")))))) | M58: =IF(K58="","",K58) | N58: =IF(D58="","",IF(D58="Level Spreader","","N/A"))
... C70: =IF(AND(A70<>"",'General Project Information'!$D$27<>"",'General Project Information'!$D$39=""),Picklists!$AH$4,"") | G70: =IF(D70="Forebay","0.1 inches of runoff from NBUA",IF(D70="Hazardous Spill Basin","2yr, tc=10 min, td= 5 min storm runoff + 1,550 cf (cf)",IF(D70="Level Spreader","Level Spreader Length (ft)",IF(D70="Other","","")))) | K70: =IF(G70="","",IF(D70="Hazardous Spill Basin","cf",IF(D70="Level Spreader","ft",IF(D70="Dry Detention Basin","cf",IF(D70="Infiltration Basin","cf",IF(D70="Forebay","cf","")))))) | M70: =IF(K70="","",K70) | N70: =IF(D70="","",IF(D70="Level Spreader","","N/A"))
A72: *Hazardous spill basins are pollution prevention measures designed for spill containment rather than stormwater treatment. Under Required / Minimum Treatment and Treatment Achieved, provide the minimum required volume and the actual HSB volume, respectively. Refer to the NCDOT Stormwater Best Management Practices Toolbox (2014) for design guidance.
D73: Additional Comments
D81: North Carolina Department of Transportation
D82: Highway Stormwater Program
A83: ='General Project Information'!$A$6 -> (Version 2.08; Released April 2018) | D83: STORMWATER MANAGEMENT PLAN FOR NCDOT PROJECTS
A84: WBS Element: | D84: ='General Project Information'!$C$7 -> 37673.3.GV3 | E84: TIP No.: | F84: ='General Project Information'!$E$7 -> R-2721 A | G84: County(ies): | H84: ='General Project Information'!$H$7 -> Wake | L84: Page | M84: =IF(A87<>"",MAX(M33)+1,"") | N84: of | O84: ='General Project Information'!$O$7 -> 10
D85: Level Spreaders, Hazardous Spill Basins, and Forebays
A86: Sheet No. | B86: Station & Coordinates (Road and Non Road Projects) | C86: Surface Water Body | D86: Level Spreader, Hazardous Spill Basin, or Forebay? | E86: Drainage Area (ac) | F86: New Built-Upon Area (ac) | G86: Required / Minimum Treatment | L86: Treatment Achieved | N86: BMP Associated w/ Buffer Rules?
C87: =IF(AND(A87<>"",'General Project Information'!$D$27<>"",'General Project Information'!$D$39=""),Picklists!$AH$4,"") | G87: =IF(D87="Forebay","0.1 inches of runoff from NBUA",IF(D87="Hazardous Spill Basin","2yr, tc=10 min, td= 5 min storm runoff + 1,550 cf (cf)",IF(D87="Level Spreader","Level Spreader Length (ft)",IF(D87="Other","","")))) | K87: =IF(G87="","",IF(D87="Hazardous Spill Basin","cf",IF(D87="Level Spreader","ft",IF(D87="Dry Detention Basin","cf",IF(D87="Infiltration Basin","cf",IF(D87="Forebay","cf","")))))) | M87: =IF(K87="","",K87) | N87: =IF(D87="","",IF(D87="Level Spreader","","N/A"))
C89: =IF(AND(A89<>"",'General Project Information'!$D$27<>"",'General Project Information'!$D$39=""),Picklists!$AH$4,"") | G89: =IF(D89="Forebay","0.1 inches of runoff from NBUA",IF(D89="Hazardous Spill Basin","2yr, tc=10 min, td= 5 min storm runoff + 1,550 cf (cf)",IF(D89="Level Spreader","Level Spreader Length (ft)",IF(D89="Other","","")))) | K89: =IF(G89="","",IF(D89="Hazardous Spill Basin","cf",IF(D89="Level Spreader","ft",IF(D89="Dry Detention Basin","cf",IF(D89="Infiltration Basin","cf",IF(D89="Forebay","cf","")))))) | M89: =IF(K89="","",K89) | N89: =IF(D89="","",IF(D89="Level Spreader","","N/A"))
C91: =IF(AND(A91<>"",'General Project Information'!$D$27<>"",'General Project Information'!$D$39=""),Picklists!$AH$4,"") | G91: =IF(D91="Forebay","0.1 inches of runoff from NBUA",IF(D91="Hazardous Spill Basin","2yr, tc=10 min, td= 5 min storm runoff + 1,550 cf (cf)",IF(D91="Level Spreader","Level Spreader Length (ft)",IF(D91="Other","","")))) | K91: =IF(G91="","",IF(D91="Hazardous Spill Basin","cf",IF(D91="Level Spreader","ft",IF(D91="Dry Detention Basin","cf",IF(D91="Infiltration Basin","cf",IF(D91="Forebay","cf","")))))) | M91: =IF(K91="","",K91) | N91: =IF(D91="","",IF(D91="Level Spreader","","N/A"))
C93: =IF(AND(A93<>"",'General Project Information'!$D$27<>"",'General Project Information'!$D$39=""),Picklists!$AH$4,"") | G93: =IF(D93="Forebay","0.1 inches of runoff from NBUA",IF(D93="Hazardous Spill Basin","2yr, tc=10 min, td= 5 min storm runoff + 1,550 cf (cf)",IF(D93="Level Spreader","Level Spreader Length (ft)",IF(D93="Other","","")))) | K93: =IF(G93="","",IF(D93="Hazardous Spill Basin","cf",IF(D93="Level Spreader","ft",IF(D93="Dry Detention Basin","cf",IF(D93="Infiltration Basin","cf",IF(D93="Forebay","cf","")))))) | M93: =IF(K93="","",K93) | N93: =IF(D93="","",IF(D93="Level Spreader","","N/A"))
C95: =IF(AND(A95<>"",'General Project Information'!$D$27<>"",'General Project Information'!$D$39=""),Picklists!$AH$4,"") | G95: =IF(D95="Forebay","0.1 inches of runoff from NBUA",IF(D95="Hazardous Spill Basin","2yr, tc=10 min, td= 5 min storm runoff + 1,550 cf (cf)",IF(D95="Level Spreader","Level Spreader Length (ft)",IF(D95="Other","","")))) | K95: =IF(G95="","",IF(D95="Hazardous Spill Basin","cf",IF(D95="Level Spreader","ft",IF(D95="Dry Detention Basin","cf",IF(D95="Infiltration Basin","cf",IF(D95="Forebay","cf","")))))) | M95: =IF(K95="","",K95) | N95: =IF(D95="","",IF(D95="Level Spreader","","N/A"))
C97: =IF(AND(A97<>"",'General Project Information'!$D$27<>"",'General Project Information'!$D$39=""),Picklists!$AH$4,"") | G97: =IF(D97="Forebay","0.1 inches of runoff from NBUA",IF(D97="Hazardous Spill Basin","2yr, tc=10 min, td= 5 min storm runoff + 1,550 cf (cf)",IF(D97="Level Spreader","Level Spreader Length (ft)",IF(D97="Other","","")))) | K97: =IF(G97="","",IF(D97="Hazardous Spill Basin","cf",IF(D97="Level Spreader","ft",IF(D97="Dry Detention Basin","cf",IF(D97="Infiltration Basin","cf",IF(D97="Forebay","cf","")))))) | M97: =IF(K97="","",K97) | N97: =IF(D97="","",IF(D97="Level Spreader","","N/A"))
C99: =IF(AND(A99<>"",'General Project Information'!$D$27<>"",'General Project Information'!$D$39=""),Picklists!$AH$4,"") | G99: =IF(D99="Forebay","0.1 inches of runoff from NBUA",IF(D99="Hazardous Spill Basin","2yr, tc=10 min, td= 5 min storm runoff + 1,550 cf (cf)",IF(D99="Level Spreader","Level Spreader Length (ft)",IF(D99="Other","","")))) | K99: =IF(G99="","",IF(D99="Hazardous Spill Basin","cf",IF(D99="Level Spreader","ft",IF(D99="Dry Detention Basin","cf",IF(D99="Infiltration Basin","cf",IF(D99="Forebay","cf","")))))) | M99: =IF(K99="","",K99) | N99: =IF(D99="","",IF(D99="Level Spreader","","N/A"))
C101: =IF(AND(A101<>"",'General Project Information'!$D$27<>"",'General Project Information'!$D$39=""),Picklists!$AH$4,"") | G101: =IF(D101="Forebay","0.1 inches of runoff from NBUA",IF(D101="Hazardous Spill Basin","2yr, tc=10 min, td= 5 min storm runoff + 1,550 cf (cf)",IF(D101="Level Spreader","Level Spreader Length (ft)",IF(D101="Other","","")))) | K101: =IF(G101="","",IF(D101="Hazardous Spill Basin","cf",IF(D101="Level Spreader","ft",IF(D101="Dry Detention Basin","cf",IF(D101="Infiltration Basin","cf",IF(D101="Forebay","cf","")))))) | M101: =IF(K101="","",K101) | N101: =IF(D101="","",IF(D101="Level Spreader","","N/A"))
C103: =IF(AND(A103<>"",'General Project Information'!$D$27<>"",'General Project Information'!$D$39=""),Picklists!$AH$4,"") | G103: =IF(D103="Forebay","0.1 inches of runoff from NBUA",IF(D103="Hazardous Spill Basin","2yr, tc=10 min, td= 5 min storm runoff + 1,550 cf (cf)",IF(D103="Level Spreader","Level Spreader Length (ft)",IF(D103="Other","","")))) | K103: =IF(G103="","",IF(D103="Hazardous Spill Basin","cf",IF(D103="Level Spreader","ft",IF(D103="Dry Detention Basin","cf",IF(D103="Infiltration Basin","cf",IF(D103="Forebay","cf","")))))) | M103: =IF(K103="","",K103) | N103: =IF(D103="","",IF(D103="Level Spreader","","N/A"))
C105: =IF(AND(A105<>"",'General Project Information'!$D$27<>"",'General Project Information'!$D$39=""),Picklists!$AH$4,"") | G105: =IF(D105="Forebay","0.1 inches of runoff from NBUA",IF(D105="Hazardous Spill Basin","2yr, tc=10 min, td= 5 min storm runoff + 1,550 cf (cf)",IF(D105="Level Spreader","Level Spreader Length (ft)",IF(D105="Other","","")))) | K105: =IF(G105="","",IF(D105="Hazardous Spill Basin","cf",IF(D105="Level Spreader","ft",IF(D105="Dry Detention Basin","cf",IF(D105="Infiltration Basin","cf",IF(D105="Forebay","cf","")))))) | M105: =IF(K105="","",K105) | N105: =IF(D105="","",IF(D105="Level Spreader","","N/A"))
C107: =IF(AND(A107<>"",'General Project Information'!$D$27<>"",'General Project Information'!$D$39=""),Picklists!$AH$4,"") | G107: =IF(D107="Forebay","0.1 inches of runoff from NBUA",IF(D107="Hazardous Spill Basin","2yr, tc=10 min, td= 5 min storm runoff + 1,550 cf (cf)",IF(D107="Level Spreader","Level Spreader Length (ft)",IF(D107="Other","","")))) | K107: =IF(G107="","",IF(D107="Hazardous Spill Basin","cf",IF(D107="Level Spreader","ft",IF(D107="Dry Detention Basin","cf",IF(D107="Infiltration Basin","cf",IF(D107="Forebay","cf","")))))) | M107: =IF(K107="","",K107) | N107: =IF(D107="","",IF(D107="Level Spreader","","N/A"))
C109: =IF(AND(A109<>"",'General Project Information'!$D$27<>"",'General Project Information'!$D$39=""),Picklists!$AH$4,"") | G109: =IF(D109="Forebay","0.1 inches of runoff from NBUA",IF(D109="Hazardous Spill Basin","2yr, tc=10 min, td= 5 min storm runoff + 1,550 cf (cf)",IF(D109="Level Spreader","Level Spreader Length (ft)",IF(D109="Other","","")))) | K109: =IF(G109="","",IF(D109="Hazardous Spill Basin","cf",IF(D109="Level Spreader","ft",IF(D109="Dry Detention Basin","cf",IF(D109="Infiltration Basin","cf",IF(D109="Forebay","cf","")))))) | M109: =IF(K109="","",K109) | N109: =IF(D109="","",IF(D109="Level Spreader","","N/A"))
... C121: =IF(AND(A121<>"",'General Project Information'!$D$27<>"",'General Project Information'!$D$39=""),Picklists!$AH$4,"") | G121: =IF(D121="Forebay","0.1 inches of runoff from NBUA",IF(D121="Hazardous Spill Basin","2yr, tc=10 min, td= 5 min storm runoff + 1,550 cf (cf)",IF(D121="Level Spreader","Level Spreader Length (ft)",IF(D121="Other","","")))) | K121: =IF(G121="","",IF(D121="Hazardous Spill Basin","cf",IF(D121="Level Spreader","ft",IF(D121="Dry Detention Basin","cf",IF(D121="Infiltration Basin","cf",IF(D121="Forebay","cf","")))))) | M121: =IF(K121="","",K121) | N121: =IF(D121="","",IF(D121="Level Spreader","","N/A"))
A123: *Hazardous spill basins are pollution prevention measures designed for spill containment rather than stormwater treatment. Under Required / Minimum Treatment and Treatment Achieved, provide the minimum required volume and the actual HSB volume, respectively. Refer to the NCDOT Stormwater Best Management Practices Toolbox (2014) for design guidance.
D124: Additional Comments
D132: North Carolina Department of Transportation
D133: Highway Stormwater Program
A134: ='General Project Information'!$A$6 -> (Version 2.08; Released April 2018) | D134: STORMWATER MANAGEMENT PLAN FOR NCDOT PROJECTS
A135: WBS Element: | D135: ='General Project Information'!$C$7 -> 37673.3.GV3 | E135: TIP No.: | F135: ='General Project Information'!$E$7 -> R-2721 A | G135: County(ies): | H135: ='General Project Information'!$H$7 -> Wake | L135: Page | M135: =IF(A138<>"",MAX(M84)+1,"") | N135: of | O135: ='General Project Information'!$O$7 -> 10
D136: Level Spreaders, Hazardous Spill Basins, and Forebays
A137: Sheet No. | B137: Station & Coordinates (Road and Non Road Projects) | C137: Surface Water Body | D137: Level Spreader, Hazardous Spill Basin, or Forebay? | E137: Drainage Area (ac) | F137: New Built-Upon Area (ac) | G137: Required / Minimum Treatment | L137: Treatment Achieved | N137: BMP Associated w/ Buffer Rules?
C138: =IF(AND(A138<>"",'General Project Information'!$D$27<>"",'General Project Information'!$D$39=""),Picklists!$AH$4,"") | G138: =IF(D138="Forebay","0.1 inches of runoff from NBUA",IF(D138="Hazardous Spill Basin","2yr, tc=10 min, td= 5 min storm runoff + 1,550 cf (cf)",IF(D138="Level Spreader","Level Spreader Length (ft)",IF(D138="Other","","")))) | K138: =IF(G138="","",IF(D138="Hazardous Spill Basin","cf",IF(D138="Level Spreader","ft",IF(D138="Dry Detention Basin","cf",IF(D138="Infiltration Basin","cf",IF(D138="Forebay","cf","")))))) | M138: =IF(K138="","",K138) | N138: =IF(D138="","",IF(D138="Level Spreader","","N/A"))
C140: =IF(AND(A140<>"",'General Project Information'!$D$27<>"",'General Project Information'!$D$39=""),Picklists!$AH$4,"") | G140: =IF(D140="Forebay","0.1 inches of runoff from NBUA",IF(D140="Hazardous Spill Basin","2yr, tc=10 min, td= 5 min storm runoff + 1,550 cf (cf)",IF(D140="Level Spreader","Level Spreader Length (ft)",IF(D140="Other","","")))) | K140: =IF(G140="","",IF(D140="Hazardous Spill Basin","cf",IF(D140="Level Spreader","ft",IF(D140="Dry Detention Basin","cf",IF(D140="Infiltration Basin","cf",IF(D140="Forebay","cf","")))))) | M140: =IF(K140="","",K140) | N140: =IF(D140="","",IF(D140="Level Spreader","","N/A"))
C142: =IF(AND(A142<>"",'General Project Information'!$D$27<>"",'General Project Information'!$D$39=""),Picklists!$AH$4,"") | G142: =IF(D142="Forebay","0.1 inches of runoff from NBUA",IF(D142="Hazardous Spill Basin","2yr, tc=10 min, td= 5 min storm runoff + 1,550 cf (cf)",IF(D142="Level Spreader","Level Spreader Length (ft)",IF(D142="Other","","")))) | K142: =IF(G142="","",IF(D142="Hazardous Spill Basin","cf",IF(D142="Level Spreader","ft",IF(D142="Dry Detention Basin","cf",IF(D142="Infiltration Basin","cf",IF(D142="Forebay","cf","")))))) | M142: =IF(K142="","",K142) | N142: =IF(D142="","",IF(D142="Level Spreader","","N/A"))
C144: =IF(AND(A144<>"",'General Project Information'!$D$27<>"",'General Project Information'!$D$39=""),Picklists!$AH$4,"") | G144: =IF(D144="Forebay","0.1 inches of runoff from NBUA",IF(D144="Hazardous Spill Basin","2yr, tc=10 min, td= 5 min storm runoff + 1,550 cf (cf)",IF(D144="Level Spreader","Level Spreader Length (ft)",IF(D144="Other","","")))) | K144: =IF(G144="","",IF(D144="Hazardous Spill Basin","cf",IF(D144="Level Spreader","ft",IF(D144="Dry Detention Basin","cf",IF(D144="Infiltration Basin","cf",IF(D144="Forebay","cf","")))))) | M144: =IF(K144="","",K144) | N144: =IF(D144="","",IF(D144="Level Spreader","","N/A"))
C146: =IF(AND(A146<>"",'General Project Information'!$D$27<>"",'General Project Information'!$D$39=""),Picklists!$AH$4,"") | G146: =IF(D146="Forebay","0.1 inches of runoff from NBUA",IF(D146="Hazardous Spill Basin","2yr, tc=10 min, td= 5 min storm runoff + 1,550 cf (cf)",IF(D146="Level Spreader","Level Spreader Length (ft)",IF(D146="Other","","")))) | K146: =IF(G146="","",IF(D146="Hazardous Spill Basin","cf",IF(D146="Level Spreader","ft",IF(D146="Dry Detention Basin","cf",IF(D146="Infiltration Basin","cf",IF(D146="Forebay","cf","")))))) | M146: =IF(K146="","",K146) | N146: =IF(D146="","",IF(D146="Level Spreader","","N/A"))
C148: =IF(AND(A148<>"",'General Project Information'!$D$27<>"",'General Project Information'!$D$39=""),Picklists!$AH$4,"") | G148: =IF(D148="Forebay","0.1 inches of runoff from NBUA",IF(D148="Hazardous Spill Basin","2yr, tc=10 min, td= 5 min storm runoff + 1,550 cf (cf)",IF(D148="Level Spreader","Level Spreader Length (ft)",IF(D148="Other","","")))) | K148: =IF(G148="","",IF(D148="Hazardous Spill Basin","cf",IF(D148="Level Spreader","ft",IF(D148="Dry Detention Basin","cf",IF(D148="Infiltration Basin","cf",IF(D148="Forebay","cf","")))))) | M148: =IF(K148="","",K148) | N148: =IF(D148="","",IF(D148="Level Spreader","","N/A"))
C150: =IF(AND(A150<>"",'General Project Information'!$D$27<>"",'General Project Information'!$D$39=""),Picklists!$AH$4,"") | G150: =IF(D150="Forebay","0.1 inches of runoff from NBUA",IF(D150="Hazardous Spill Basin","2yr, tc=10 min, td= 5 min storm runoff + 1,550 cf (cf)",IF(D150="Level Spreader","Level Spreader Length (ft)",IF(D150="Other","","")))) | K150: =IF(G150="","",IF(D150="Hazardous Spill Basin","cf",IF(D150="Level Spreader","ft",IF(D150="Dry Detention Basin","cf",IF(D150="Infiltration Basin","cf",IF(D150="Forebay","cf","")))))) | M150: =IF(K150="","",K150) | N150: =IF(D150="","",IF(D150="Level Spreader","","N/A"))
C152: =IF(AND(A152<>"",'General Project Information'!$D$27<>"",'General Project Information'!$D$39=""),Picklists!$AH$4,"") | G152: =IF(D152="Forebay","0.1 inches of runoff from NBUA",IF(D152="Hazardous Spill Basin","2yr, tc=10 min, td= 5 min storm runoff + 1,550 cf (cf)",IF(D152="Level Spreader","Level Spreader Length (ft)",IF(D152="Other","","")))) | K152: =IF(G152="","",IF(D152="Hazardous Spill Basin","cf",IF(D152="Level Spreader","ft",IF(D152="Dry Detention Basin","cf",IF(D152="Infiltration Basin","cf",IF(D152="Forebay","cf","")))))) | M152: =IF(K152="","",K152) | N152: =IF(D152="","",IF(D152="Level Spreader","","N/A"))
C154: =IF(AND(A154<>"",'General Project Information'!$D$27<>"",'General Project Information'!$D$39=""),Picklists!$AH$4,"") | G154: =IF(D154="Forebay","0.1 inches of runoff from NBUA",IF(D154="Hazardous Spill Basin","2yr, tc=10 min, td= 5 min storm runoff + 1,550 cf (cf)",IF(D154="Level Spreader","Level Spreader Length (ft)",IF(D154="Other","","")))) | K154: =IF(G154="","",IF(D154="Hazardous Spill Basin","cf",IF(D154="Level Spreader","ft",IF(D154="Dry Detention Basin","cf",IF(D154="Infiltration Basin","cf",IF(D154="Forebay","cf","")))))) | M154: =IF(K154="","",K154) | N154: =IF(D154="","",IF(D154="Level Spreader","","N/A"))
C156: =IF(AND(A156<>"",'General Project Information'!$D$27<>"",'General Project Information'!$D$39=""),Picklists!$AH$4,"") | G156: =IF(D156="Forebay","0.1 inches of runoff from NBUA",IF(D156="Hazardous Spill Basin","2yr, tc=10 min, td= 5 min storm runoff + 1,550 cf (cf)",IF(D156="Level Spreader","Level Spreader Length (ft)",IF(D156="Other","","")))) | K156: =IF(G156="","",IF(D156="Hazardous Spill Basin","cf",IF(D156="Level Spreader","ft",IF(D156="Dry Detention Basin","cf",IF(D156="Infiltration Basin","cf",IF(D156="Forebay","cf","")))))) | M156: =IF(K156="","",K156) | N156: =IF(D156="","",IF(D156="Level Spreader","","N/A"))
C158: =IF(AND(A158<>"",'General Project Information'!$D$27<>"",'General Project Information'!$D$39=""),Picklists!$AH$4,"") | G158: =IF(D158="Forebay","0.1 inches of runoff from NBUA",IF(D158="Hazardous Spill Basin","2yr, tc=10 min, td= 5 min storm runoff + 1,550 cf (cf)",IF(D158="Level Spreader","Level Spreader Length (ft)",IF(D158="Other","","")))) | K158: =IF(G158="","",IF(D158="Hazardous Spill Basin","cf",IF(D158="Level Spreader","ft",IF(D158="Dry Detention Basin","cf",IF(D158="Infiltration Basin","cf",IF(D158="Forebay","cf","")))))) | M158: =IF(K158="","",K158) | N158: =IF(D158="","",IF(D158="Level Spreader","","N/A"))
C160: =IF(AND(A160<>"",'General Project Information'!$D$27<>"",'General Project Information'!$D$39=""),Picklists!$AH$4,"") | G160: =IF(D160="Forebay","0.1 inches of runoff from NBUA",IF(D160="Hazardous Spill Basin","2yr, tc=10 min, td= 5 min storm runoff + 1,550 cf (cf)",IF(D160="Level Spreader","Level Spreader Length (ft)",IF(D160="Other","","")))) | K160: =IF(G160="","",IF(D160="Hazardous Spill Basin","cf",IF(D160="Level Spreader","ft",IF(D160="Dry Detention Basin","cf",IF(D160="Infiltration Basin","cf",IF(D160="Forebay","cf","")))))) | M160: =IF(K160="","",K160) | N160: =IF(D160="","",IF(D160="Level Spreader","","N/A"))
... C172: =IF(AND(A172<>"",'General Project Information'!$D$27<>"",'General Project Information'!$D$39=""),Picklists!$AH$4,"") | G172: =IF(D172="Forebay","0.1 inches of runoff from NBUA",IF(D172="Hazardous Spill Basin","2yr, tc=10 min, td= 5 min storm runoff + 1,550 cf (cf)",IF(D172="Level Spreader","Level Spreader Length (ft)",IF(D172="Other","","")))) | K172: =IF(G172="","",IF(D172="Hazardous Spill Basin","cf",IF(D172="Level Spreader","ft",IF(D172="Dry Detention Basin","cf",IF(D172="Infiltration Basin","cf",IF(D172="Forebay","cf","")))))) | M172: =IF(K172="","",K172) | N172: =IF(D172="","",IF(D172="Level Spreader","","N/A"))
A174: *Hazardous spill basins are pollution prevention measures designed for spill containment rather than stormwater treatment. Under Required / Minimum Treatment and Treatment Achieved, provide the minimum required volume and the actual HSB volume, respectively. Refer to the NCDOT Stormwater Best Management Practices Toolbox (2014) for design guidance.
D175: Additional Comments

Sheet Other BMPs
A1: BMP Design Guidelines * | S1: # pages previous sheets: | T1: ='Level Spreader, HSB, & Forebay'!T3 -> 8
A2: Dry Detention Basin | C2: • Meet clear recovery zone requirements outlined in the NDCDOT Roadway Design Manual | S2: # pages this sheet: | T2: =COUNT(K73,K125,K177) -> 0
C3: • Basin sized to safely convey the 50-year storm with 1ft of freeboard and to maximize treatment based on site constraints | S3: # pages total: | T3: =T2+T1 -> 8
C4: • WQv drawdown period = 2-5 days with 2 in. to 3 in. diameter per orifice(s) outlet
C5: • Outlet structure and/or emergency spillway sized and lined to safely convey the 50-year storm
C6: • L:W of basin ≥ 3:1
C7: • Sideslopes 3:1 or flatter (or else stabilization)
C8: • Embankment ≤ 12 ft high, ≥ 10 ft wide, and impounds ≤ 10 ac-ft
C9: • Basin Volume ≤ 10 acre-feet
C10: • Basin bottom ≥ 2 ft above high groundwater level
A11: Infiltration Basin | C11: • Meet clear recovery zone requirements outlined in the NDCDOT Roadway Design Manual
C12: • DA ≤ 5 acres (recommended)
C13: • Sized to maximize treatment based on site constraints and contain or convey the 50-year storm with 1ft freeboard
C14: • WQv drawdown period ≤ 5 days
C15: • Bypass structure passes 10-year storm to stable conveyance
C16: • 50 ft from tidal waters, SA waters, 30 ft from all other waters, 100 ft from water supply wells
C17: • Basin bottom 2 ft above high groundwater
C18: • Basin bottom 3 ft above bedrock or impervious soil layer
C19: • Hydraulic conductivity of soil ≥ 0.52 in/hr
C20: • Sideslopes 3:1 or flatter
C21: • Embankment ≤ 12 ft high, ≥ 10 ft wide
A22: Media Filter - Bioretention Basin | C22: • Meet clear recovery zone requirements outlined in the NDCDOT Roadway Design Manual
C23: • DA ≤ 5 acres, DA slopes should generall be < 20%
C24: • 50 ft from SA waters, 30 ft from all other waters, 100 ft from water supply wells
C25: • Basin bottom 2 ft above high groundwater
C26: • Sized to maximize treatment based on site constraints
C27: • Maximum ponding depth ≤ 12 in
C28: • Ponded water should infiltrate into media within 12 hours; top 24 in of media (entire media if <24 in) should drain within 48 hours
C29: • Hydraulic conductivity of media ≥ 0.52 in/hr and ≤ 6 in/hr, but 1-2 in/hr is ideal
C30: • Underdrain consisting of minimum 6-in peforated plastic pipe with filter sock; branches spaced 10 ft maximum
C31: • L:W of basin ≥ 2:1
C32: • Sideslopes 3:1 or flatter
C33: • Embankment ≤ 12 ft high, ≥ 10 ft wide
A34: Media Filter - Filtration Basin | C34: • Meet clear recovery zone requirements outlined in the NDCDOT Roadway Design Manual
C35: • DA ≤ 5 acres, DA slopes should generall be < 20%
C36: • 50 ft from tidal waters, SA waters, 30 ft from all other waters, 100 ft from water supply wells
C37: • Basin bottom 2 ft above high groundwater
C38: • Sized to maximize treatment based on site constraints
C39: • Maximum ponding depth ≥ 12 in and ≤ 36 in
C40: • Ponded water should infiltrate into media within 24 hours; top 24 in of media (entire media if <24 in) should drain within 48 hours
C41: • Hydraulic conductivity of media ≥ 0.52 in/hr and ≤ 6 in/hr, but 1-2 in/hr is ideal
C42: • Underdrain consisting of minimum 6-in peforated plastic pipe with filter sock; branches spaced 10 ft maximum
C43: • L:W of basin ≥ 2:1
C44: • Sideslopes 3:1 or flatter
C45: • Embankment ≤ 12 ft high, ≥ 10 ft wide
A46: Stormwater Wetland | C46: • Meet clear recovery zone requirements outlined in the NDCDOT Roadway Design Manual
C47: • DA should typically be ≥ 5 acres (recommended)
C48: • Will be sized to handle all runoff at ultimate build-out including off site drainage; WQv size ≥ 2,630 cubic ft; WQv elevation ≤ 1 ft above permanent pool elevation.
C49: • L:W of basin ≥ 1.5:1, 3:1 recommended
C50: • WQv drawdown period = 2-5 days with 2 to 3 in. diameter orifice(s)
C51: • Minimum 1 ft of freebooard above the 50-year storm elevation
C52: • Sideslopes 3:1 or flatter for vegetaed and submerged areas
C53: • Embankment ≤ 12 ft high, ≥ 10 ft wide, and ≤ 10 ac-ft of impoundment capacity
C54: • Forebay depth 3-5 ft; shallow water depth 3-6 in; shallow land zone = permanent pool elevation; deep pool depth 1.5-3 ft
C55: • Outlet control structure should be designed to convey the 10-year storm or 50-year storm if an emergency spillway not included in the design
A56: Wet Detention Basin | C56: • Meet clear recovery zone requirements outlined in the NDCDOT Roadway Design Manual
C57: • Permanent pool average depth ≥ 3 ft and ≤ 8 ft
C58: • Sized to maximize treatment based on site constraints and to contain or convey the 50-year storm with 1ft freeboard
C59: • WQv drawdown period = 2-5 days with 2 in. minimum diameter orifice(s) outlet
C60: • Permanent pool should be between 1 and 3 times the WQv
C61: • L:W of basin ≥ 2:1
C62: • 10 ft wide vegetated shelf with 10:1 slope are perimeter
C63: • Sideslopes 3:1 or flatter
C64: • Embankment ≤ 12 ft high, ≥ 10 ft wide, and impounds ≤ 10 ac-ft
A66: * Design guidelines are outlined for various Best Management Practices (BMPs) as provided in the NCDOT BMP Toolbox (2014). The guidelines listed are intended to provide a general overview of key design elements, but do not include all design criteria, guidelines, or recommendations and are not intended to serve as the sole source of design criteria. The NCDOT BMP Toolbox, NCDOT Standard Details, the Federal Highway Administration (FHWA) Hydraulic Engineering Circular 14 (HEC-14) (July 2006), and any other applicable sources should be referenced for additional information.
A67: Please fill out all yellow cells as completely as possible. Use pick lists where provided. See top of worksheet for design guidelines. For more information on the NCDOT Stormwater Management Plan form, please refer to the document, NCDOT Stormwater Best Management Practices Toolbox (2014). If needed, additional pages are provided in this workbook.
A68: Print area may be adjusted to include sheets as needed.
D70: North Carolina Department of Transportation
D71: Highway Stormwater Program
A72: ='General Project Information'!$A$6 -> (Version 2.08; Released April 2018) | D72: STORMWATER MANAGEMENT PLAN FOR NCDOT PROJECTS
A73: WBS Element: | C73: ='General Project Information'!$C$7 -> 37673.3.GV3 | E73: TIP No.: | F73: ='General Project Information'!$E$7 -> R-2721 A | H73: County(ies): | I73: ='General Project Information'!$H$7 -> Wake | J73: Page | K73: =IF(A76<>"",MAX(T1)+1,"") | L73: of | M73: ='General Project Information'!$O$7 -> 10
D74: Other Best Management Practices
A75: Sheet No. | B75: Station & Coordinates (Road and Non Road Projects) | D75: Surface Water Body | E75: BMP Type | G75: Drainage Area (ac) | H75: New Built-Upon Area (ac) | I75: Volume Treated (ac-ft) | J75: Precipitation Depth Treated over NBUA (in) | L75: BMP Associated w/ Buffer Rules?
D76: =IF(AND(A76<>"",'General Project Information'!$D$27<>"",'General Project Information'!$D$39=""),Picklists!$AH$4,"") | J76: =IF(H76="","",IF(H76=0,"N/A",I76/(H76*3450)*43560))
D78: =IF(AND(A78<>"",'General Project Information'!$D$27<>"",'General Project Information'!$D$39=""),Picklists!$AH$4,"") | J78: =IF(H78="","",IF(H78=0,"N/A",I78/(H78*3450)*43560))
D80: =IF(AND(A80<>"",'General Project Information'!$D$27<>"",'General Project Information'!$D$39=""),Picklists!$AH$4,"") | J80: =IF(H80="","",IF(H80=0,"N/A",I80/(H80*3450)*43560))
D82: =IF(AND(A82<>"",'General Project Information'!$D$27<>"",'General Project Information'!$D$39=""),Picklists!$AH$4,"") | J82: =IF(H82="","",IF(H82=0,"N/A",I82/(H82*3450)*43560))
D84: =IF(AND(A84<>"",'General Project Information'!$D$27<>"",'General Project Information'!$D$39=""),Picklists!$AH$4,"") | J84: =IF(H84="","",IF(H84=0,"N/A",I84/(H84*3450)*43560))
D86: =IF(AND(A86<>"",'General Project Information'!$D$27<>"",'General Project Information'!$D$39=""),Picklists!$AH$4,"") | J86: =IF(H86="","",IF(H86=0,"N/A",I86/(H86*3450)*43560))
D88: =IF(AND(A88<>"",'General Project Information'!$D$27<>"",'General Project Information'!$D$39=""),Picklists!$AH$4,"") | J88: =IF(H88="","",IF(H88=0,"N/A",I88/(H88*3450)*43560))
D90: =IF(AND(A90<>"",'General Project Information'!$D$27<>"",'General Project Information'!$D$39=""),Picklists!$AH$4,"") | J90: =IF(H90="","",IF(H90=0,"N/A",I90/(H90*3450)*43560))
D92: =IF(AND(A92<>"",'General Project Information'!$D$27<>"",'General Project Information'!$D$39=""),Picklists!$AH$4,"") | J92: =IF(H92="","",IF(H92=0,"N/A",I92/(H92*3450)*43560))
D94: =IF(AND(A94<>"",'General Project Information'!$D$27<>"",'General Project Information'!$D$39=""),Picklists!$AH$4,"") | J94: =IF(H94="","",IF(H94=0,"N/A",I94/(H94*3450)*43560))
D96: =IF(AND(A96<>"",'General Project Information'!$D$27<>"",'General Project Information'!$D$39=""),Picklists!$AH$4,"") | J96: =IF(H96="","",IF(H96=0,"N/A",I96/(H96*3450)*43560))
D98: =IF(AND(A98<>"",'General Project Information'!$D$27<>"",'General Project Information'!$D$39=""),Picklists!$AH$4,"") | J98: =IF(H98="","",IF(H98=0,"N/A",I98/(H98*3450)*43560))
... D112: =IF(AND(A112<>"",'General Project Information'!$D$27<>"",'General Project Information'!$D$39=""),Picklists!$AH$4,"") | J112: =IF(H112="","",IF(H112=0,"N/A",I112/(H112*3450)*43560))
D114: Additional Comments
D122: North Carolina Department of Transportation
D123: Highway Stormwater Program
A124: ='General Project Information'!$A$6 -> (Version 2.08; Released April 2018) | D124: STORMWATER MANAGEMENT PLAN FOR NCDOT PROJECTS
A125: WBS Element: | C125: ='General Project Information'!$C$7 -> 37673.3.GV3 | E125: TIP No.: | F125: ='General Project Information'!$E$7 -> R-2721 A | H125: County(ies): | I125: ='General Project Information'!$H$7 -> Wake | J125: Page | K125: =IF(A128<>"",MAX(K73)+1,"") | L125: of | M125: ='General Project Information'!$O$7 -> 10
D126: Other Best Management Practices
A127: Sheet No. | B127: Station & Coordinates (Road and Non Road Projects) | D127: Surface Water Body | E127: BMP Type | G127: Drainage Area (ac) | H127: New Built-Upon Area (ac) | I127: Volume Treated (ac-ft) | J127: Precipitation Depth Treated over NBUA (in) | L127: BMP Associated w/ Buffer Rules?
D128: =IF(AND(A128<>"",'General Project Information'!$D$27<>"",'General Project Information'!$D$39=""),Picklists!$AH$4,"") | J128: =IF(H128="","",IF(H128=0,"N/A",I128/(H128*3450)*43560))
D130: =IF(AND(A130<>"",'General Project Information'!$D$27<>"",'General Project Information'!$D$39=""),Picklists!$AH$4,"") | J130: =IF(H130="","",IF(H130=0,"N/A",I130/(H130*3450)*43560))
D132: =IF(AND(A132<>"",'General Project Information'!$D$27<>"",'General Project Information'!$D$39=""),Picklists!$AH$4,"") | J132: =IF(H132="","",IF(H132=0,"N/A",I132/(H132*3450)*43560))
D134: =IF(AND(A134<>"",'General Project Information'!$D$27<>"",'General Project Information'!$D$39=""),Picklists!$AH$4,"") | J134: =IF(H134="","",IF(H134=0,"N/A",I134/(H134*3450)*43560))
D136: =IF(AND(A136<>"",'General Project Information'!$D$27<>"",'General Project Information'!$D$39=""),Picklists!$AH$4,"") | J136: =IF(H136="","",IF(H136=0,"N/A",I136/(H136*3450)*43560))
D138: =IF(AND(A138<>"",'General Project Information'!$D$27<>"",'General Project Information'!$D$39=""),Picklists!$AH$4,"") | J138: =IF(H138="","",IF(H138=0,"N/A",I138/(H138*3450)*43560))
D140: =IF(AND(A140<>"",'General Project Information'!$D$27<>"",'General Project Information'!$D$39=""),Picklists!$AH$4,"") | J140: =IF(H140="","",IF(H140=0,"N/A",I140/(H140*3450)*43560))
...

Sheet Bridge to Culvert
A1: Please fill out all yellow cells as completely as possible. Use pick lists where provided. For more information on the NCDOT Stormwater Management Plan form, please refer to the document, NCDOT Stormwater Best Management Practices Toolbox (2014). | Z1: # pages previous sheets: | AA1: ='Other BMPs'!T3 -> 8
D2: North Carolina Department of Transportation | Z2: # pages this sheet: | AA2: =COUNT(J5) -> 0
D3: Highway Stormwater Program | Z3: # pages total: | AA3: =AA2+AA1 -> 8
A4: ='General Project Information'!$A$6 -> (Version 2.08; Released April 2018) | D4: STORMWATER MANAGEMENT PLAN FOR NCDOT PROJECTS
A5: WBS Element: | C5: ='General Project Information'!$C$7 -> 37673.3.GV3 | D5: TIP No.: | E5: ='General Project Information'!$E$7 -> R-2721 A | F5: County(ies): | G5: ='General Project Information'!$H$7 -> Wake | I5: Page | J5: =IF(D8<>"",MAX(AA1)+1,"") | K5: of | L5: ='General Project Information'!$O$7 -> 10
A6: Bridge to Culvert Avoidance and Minimization
A7: Proposed Structure Summary
A8: Sheet No. & Station | C8: Sheet No.: | E8: Station: | G8: Number of Barrels:
A9: Drainage Area (ac or sq mi): | G9: Barrel Width/Diameter (ft):
A10: Surface Water Body: | D10: =IF(AND('General Project Information'!$D$27<>"",'General Project Information'!$D$39=""),Picklists!$AH$4,"") | G10: Barrel Height (ft):
A11: Culvert Type: | G11: Culvert Length (ft)
A12: Avoidance and Minimization Efforts: (Bridge to Culvert)
A13: Stream Slope | G13: Fish and/or Aquatic Life Passage
A14: Existing Average Stream Slope (%): | F14: % | G14: Existing Low Flow Channel Dimensions in the Stream:
A15: Proposed Culvert Slope (%): | F15: %
A16: Culvert Burial
A17: Proposed Culvert Burial Depth (ft):
A18: Existing Streambed Material: | G18: Proposed Low Flow Dimensions Through the Culvert:
A20: Proposed Sills/Baffles:
G21: Existing Low Flow Velocities in the Stream (ft/s):
G23: Proposed Low Flow Velocities Through the Culvert (ft/s):
G25: Alternating Low Flow Sills/Baffles:
A29: Culvert/Stream Alignment
A30: Stream Patterns Upstream and Downstream of the Culvert that Could Affect Fish Passage and Bank Stability:
A33: Bed Forms Impacted by Culvert (riffles, pools, glides, etc.):
A35: Low Flow Floodplain Bench Required? (provide justification)
A37: Bends at Inlet/Outlet? (describe culvert alignment with stream)
A39: Stream Realignment Necessary? (provide justification)
A41: Bank Stabilization:
A43: Outlet Velocities
A44: Natural Stream Channel 2-yr Velocity (ft/s): | G44: Natural Stream Channel 10-yr Velocity (ft/s):
A45: Proposed Culvert 2-yr Outlet Velocity (ft/s): | G45: Proposed Culvert 10-yr Outlet Velocity (ft/s):
A46: Roadway Geometric Considerations
A47: Evaluate/Describe Roadway Geometric Constraints:

Sheet CAMA Map
A1: Map A. North Carolina Coastal Counties subject to the Coastal Area Management Act (CAMA)
A2: Note: Map prepared using NCDOT's Environmental Sensitivity Maps (ESM).

Sheet Picklists
A1: Picklists
A2: Project Type | B2: NC Counties | C2: NC River Basins | D2: NC River Basins | E2: Primary Surface Water Classifications | F2: DWR Supplemental Classifications | G2: Additional Surface Water Designations Determined By Other Agencies | H2: 303(d) Impairments | I2: Jurisdictional Stream Classifications | J2: NCDOT BMP Type 1 of 3 | K2: NCDOT BMP Type 2 of 3 | L2: NCDOT BMP Type 3 of 3 | M2: Minimum Treatment Volume | N2: Energy Dissipator | O2: Yes/No | P2: Terminus South or East | Q2: State SW Permit Required b/c | R2: Water Type | S2: Wetland Type | T2: OpenWater | U2: Buffer Rules | V2: Buffer Impact - Allowable or Mitigable? | W2: Road Impact Type | X2: Hydraulic Structures | Y2: Hydraulic Structures for BMPs | Z2: Riprap | AA2: Impact Type | AB2: Median Type | AC2: Ditch Geometry | AD2: Design Requirement | AE2: Drainage Area Units | AF2: All Surface Water Classifications | AG2: Yes/No | AH2: Surface Water Body | AI2: Yes, No, N/A
A3: Project Type | B3: NC Counties | C3: River_Basins | D3: NC_CAMA_Counties | E3: PrimSurWatClass | F3: SuppClass | G3: AddSurWaterDes | H3: Imp303d | I3: StreamClass | J3: BMP | K3: BMP4 | L3: BMP5 | M3: MinTreatmentVolume | N3: Dissipator | O3: Stream | P3: TermSE | Q3: StateSW | R3: WaterType | S3: WetlandType | T3: OpenWater | U3: BufferRules | V3: AllMit | W3: ImpactType | X3: HydStruc | Y3: HydStrucBMP | Z3: Riprap | AA3: Impact Type | AB3: Median | AC3: DitchGeometry | AD3: DesignRequirement | AE3: DAUnits | AF3: AllClass | AG3: YesNo | AH3: SurfaceWater | AI3: YesNoNA
A4: Roadway Widening | B4: Alamance | C4: Broad | D4: Beaufort | E4: None | F4: None | G4: None | H4: None | I4: None | J4: Dry Detention Basin | K4: Forebay | L4: Bioretention Basin | M4: WQv | N4: PSH | O4: Intermittent | P4: South | Q4: Project requires an Erosion and Sediment Control Plan and is in a coastal county | R4: Buffer | S4: Bottomland Hardwood | T4: Bay | U4: N/A | V4: Allowable | W4: Bridge | X4: 2 Grated Inlet | Y4: 2 Grated Inlet | Z4: N/A | AA4: Clearing | AB4: Concrete Barrier | AC4: V | AD4: WQv (ac-ft) | AE4: Acres | AF4: Class C | AG4: Yes | AH4: =IF('General Project Information'!D27="","","(1)"&'General Project Information'!D27) -> (1)Middle Creek | AI4: Yes
A5: Roadway Relocation | B5: Alexander | C5: Cape Fear | D5: Bertie | E5: Class C | F5: Future Water Supply (FWS) | G5: NC Natural and Scenic Rivers | H5: ammonia (NH3) | I5: TNW | J5: Forebay | K5: Hazardous Spill Basin | L5: Dry Detention Basin | M5: 10% of WQv | N5: Riprap Energy Dissipator Basin | O5: Perennial | P5: East | Q5: Project requires an Erosion and Sediment Control Plan and drains to an ORW or HQW | R5: Stream | S5: Floodplain Pool | T5: Estuary | U5: Neuse | V5: Mitigable | W5: Parallel Impact | X5: Berm Drainage Outlet Structure | Y5: Berm Drainage Outlet Structure | Z5: Class 'A' | AA5: Culvert | AB5: Grass | AC5: Trapezoidal | AD5: 10% of WQv (ac-ft) | AE5: Sq. Miles | AF5: Class B | AG5: No | AH5: =IF('General Project Information'!D39="","","(2)"&'General Project Information'!D39) -> (2)Rocky Branch | AI5: No
A6: New Location | B6: Alleghany | C6: Catawba | D6: Brunswick | E6: Class B | F6: High Quality Waters (HQW) | G6: Federal Wild and Scenic Rivers | H6: aquatic weeds | I6: RPW | J6: Hazardous Spill Basin | K6: Level Spreader | L6: Filtration Basin | M6: 2-year, 5 min. design storm + 10,000 gal (~1337 cf) | Q6: Project disturbs less than 1 acre but requires a CAMA Major Permit | R6: Wetland | S6: Hardwood Flat | T6: Lake | U6: Tar-Pamlico | W6: Road Crossing | X6: Catch Basin | Y6: Catch Basin | Z6: Class 'B' | AA6: Dam Construction | AB6: Raised | AD6: 2yr, 5min storm runoff + 10,000 gal (cf) | AF6: Water Supply I (WS-I) | AH6: =IF('General Project Information'!D50="","","(3)"&'General Project Information'!D50) | AI6: N/A
A7: Bridge Replacement | B7: Anson | C7: Chowan | D7: Camden | E7: Water Supply I (WS-I) | F7: Outstanding Resource Waters (ORW) | G7: Designated Public Mountain Trout Waters | H7: biological impairment | I7: NON-RPW | J7: Infiltration Basin | L7: Infiltration Basin | M7: Level Spreader Length | R7: Open Water | S7: Headwater Wetland | T7: Ocean | U7: Catawba | W7: Other | X7: Culvert | Y7: Culvert | Z7: Class I | AA7: Excavation | AB7: Swale | AD7: WQv (ac-ft) | AF7: Water Supply II (WS-II) | AH7: =IF('General Project Information'!D61="","","(4)"&'General Project Information'!D61)
A8: Non-Road Facility | B8: Ashe | C8: French Broad | D8: Carteret | E8: Water Supply II (WS-II) | F8: Nutrient Sensitive Waters (NSW) | G8: Areas of Environmental Concern | H8: chlorides | J8: Level Spreader | L8: Stormwater Wetland | S8: Mountain Bog | T8: Pond | U8: Randleman Lake | X8: Drop Inlet | Y8: Diffuse (Sheet) Flow | Z8: Class II | AA8: Fill | AD8: Lever Spreader Length (ft) | AF8: Water Supply III (WS-III) | AH8: =IF('General Project Information'!D72="","","(5)"&'General Project Information'!D72)
A9: Other | B9: Avery | C9: Hiwassee | D9: Chowan | E9: Water Supply III (WS-III) | F9: Swamp Waters (Sw) | G9: Designated Shellfish Harvesting Areas | H9: chlorophyll a | J9: PFSH | L9: Wet Detention Basin | S9: Non-Riverine Swamp Forest | T9: Sound | U9: Jordan Lake | X9: Endwall | Y9: Ditch | AA9: Flooding | AF9: Water Supply IV (WS-IV) | AH9: =IF('General Project Information'!D84="","","(6)"&'General Project Information'!D84)
B10: Beaufort | C10: Little Tennessee | D10: Craven | E10: Water Supply IV (WS-IV) | F10: Trout Waters (Tr) | G10: Primary Nursery Areas | H10: copper (Cu) | J10: Swale | S10: Non-Tidal Freshwater Marsh | T10: Other | U10: Goose Creek | X10: Equalizer Pipe | Y10: Drop Inlet | AA10: Stabilization | AF10: Water Supply V (WS-V) | AH10: =IF('General Project Information'!D95="","","(7)"&'General Project Information'!D95)
B11: Bertie | C11: Lumber | D11: Currituck | E11: Water Supply V (WS-V) | F11: Unique Wetland (UWL) | H11: dissolved oxygen (DO) | J11: N/A | S11: Pine Flat | U11: Other | X11: Grated Drop Inlet | Y11: Endwall | AF11: Class WL | AH11: =IF('General Project Information'!D106="","","(8)"&'General Project Information'!D106)
B12: Bladen | C12: Neuse | D12: Dare | E12: Class WL | H12: fecal coliform | S12: Pine Savanna | X12: Grated Drop Inlet (Narrow Slot) | Y12: Equalizer Pipe | AF12: Class SC | AH12: =IF('General Project Information'!D117="","","(9)"&'General Project Information'!D117)
B13: Brunswick | C13: New | D13: Gates | E13: Class SC | H13: iron (Fe) | S13: Pocosin | X13: Junction Box | Y13: Grated Drop Inlet | AF13: Class SB | AH13: =IF('General Project Information'!D129="","","(10)"&'General Project Information'!D129)
B14: Buncombe | C14: Pasquotank | D14: Hertford | E14: Class SB | H14: lead (Pb) | S14: Riverine Swamp Forest | X14: Manhole | Y14: Grated Drop Inlet (Narrow Slot) | AF14: Class SA | AH14: =IF('General Project Information'!D140="","","(11)"&'General Project Information'!D140)
B15: Burke | C15: Roanoke | D15: Hyde | E15: Class SA | H15: mercury (Hg) | S15: Seep | X15: Narrow Drop Inlet | Y15: Junction Box | AF15: Class SWL | AH15: =IF('General Project Information'!D151="","","(12)"&'General Project Information'!D151)
B16: Cabarrus | C16: Savannah | D16: New Hanover | E16: Class SWL | H16: nutrients | S16: Small-Basin Wetland | X16: Open End Pipe | Y16: Manhole | AF16: Other | AH16: =IF('General Project Information'!D162="","","(13)"&'General Project Information'!D162)
B17: Caldwell | C17: Tar-Pamlico | D17: Onslow | E17: Other | H17: pH | S17: Tidal Freshwater Marsh | X17: Open Throat Catch Basin | Y17: Narrow Drop Inlet | AF17: Future Water Supply (FWS) | AH17: =IF('General Project Information'!D174="","","(14)"&'General Project Information'!D174)
B18: Camden | C18: Watauga | D18: Pamlico | H18: sediment | S18: Unknown | X18: Preformed Scour Hole | Y18: Open End Pipe | AF18: High Quality Waters (HQW) | AH18: =IF('General Project Information'!D185="","","(15)"&'General Project Information'!D185)
B19: Carteret | C19: White Oak | D19: Pasquotank | H19: toxicity | X19: Reinforced Concrete Box Culvert | Y19: Open Throat Catch Basin | AF19: Outstanding Resource Waters (ORW) | AH19: =IF('General Project Information'!D196="","","(16)"&'General Project Information'!D196)
B20: Caswell | C20: Yadkin-Pee Dee | D20: Pender | H20: turbidity | X20: Reinforced Concrete Pipe | Y20: Preformed Scour Hole | AF20: Nutrient Sensitive Waters (NSW) | AH20: =IF('General Project Information'!D207="","","(17)"&'General Project Information'!D207)
B21: Catawba | D21: Perquimans | H21: unknown causes | X21: Shoulder Berm Gutter | Y21: Reinforced Concrete Box Culvert | AF21: Swamp Waters (Sw) | AH21: =IF('General Project Information'!D219="","","(18)"&'General Project Information'!D219)
B22: Chatham | D22: Tyrrell | H22: zinc (Zn) | X22: Traffic Bearing Drop Inlet | Y22: Reinforced Concrete Pipe | AF22: Trout Waters (Tr) | AH22: =IF('General Project Information'!D230="","","(19)"&'General Project Information'!D230)
B23: Cherokee | D23: Washington | H23: other | X23: Traffic Bearing Junction Box | Y23: Shoulder Berm Gutter | AF23: Unique Wetland (UWL) | AH23: =IF('General Project Information'!D241="","","(20)"&'General Project Information'!D241)
B24: Chowan | X24: Other | Y24: Swale | AH24: =IF('General Project Information'!D252="","","(21)"&'General Project Information'!D252)
B25: Clay | Y25: Traffic Bearing Drop Inlet | AH25: =IF('General Project Information'!D264="","","(22)"&'General Project Information'!D264)
B26: Cleveland | Y26: Traffic Bearing Junction Box | AH26: =IF('General Project Information'!D275="","","(23)"&'General Project Information'!D275)
B27: Columbus | Y27: Other | AH27: =IF('General Project Information'!D286="","","(24)"&'General Project Information'!D286)
B28: Craven | AH28: =IF('General Project Information'!D297="","","(25)"&'General Project Information'!D297)
B29: Cumberland | AH29: =IF('General Project Information'!D309="","","(26)"&'General Project Information'!D309)
B30: Currituck | AH30: =IF('General Project Information'!D320="","","(27)"&'General Project Information'!D320)
B31: Dare | AH31: =IF('General Project Information'!D331="","","(28)"&'General Project Information'!D331)
B32: Davidson | AH32: =IF('General Project Information'!D342="","","(29)"&'General Project Information'!D342)
B33: Davie | AH33: =IF('General Project Information'!D354="","","(30)"&'General Project Information'!D354)
B34: Duplin | AH34: =IF('General Project Information'!D365="","","(31)"&'General Project Information'!D365)
B35: Durham | AH35: =IF('General Project Information'!D376="","","(32)"&'General Project Information'!D376)
B36: Edgecombe | AH36: =IF('General Project Information'!D387="","","(33)"&'General Project Information'!D387)
B37: Forsyth | AH37: =IF('General Project Information'!D399="","","(34)"&'General Project Information'!D399)
B38: Franklin | AH38: =IF('General Project Information'!D410="","","(35)"&'General Project Information'!D410)
B39: Gaston | AH39: =IF('General Project Information'!D421="","","(36)"&'General Project Information'!D421)
B40: Gates | AH40: =IF('General Project Information'!D432="","","(37)"&'General Project Information'!D432)
B41: Graham | AH41: =IF('General Project Information'!D444="","","(38)"&'General Project Information'!D444)
B42: Granville | AH42: =IF('General Project Information'!D455="","","(39)"&'General Project Information'!D455)
B43: Greene | AH43: =IF('General Project Information'!D466="","","(40)"&'General Project Information'!D466)
B44: Guilford | AH44: =IF('General Project Information'!D477="","","(41)"&'General Project Information'!D477)
B45: Halifax | AH45: =IF('General Project Information'!D489="","","(42)"&'General Project Information'!D489)
B46: Harnett | AH46: =IF('General Project Information'!D500="","","(43)"&'General Project Information'!D500)
B47: Haywood | AH47: =IF('General Project Information'!D511="","","(44)"&'General Project Information'!D511)
B48: Henderson | AH48: =IF('General Project Information'!D522="","","(45)"&'General Project Information'!D522)
B49: Hertford | AH49: =IF('General Project Information'!D534="","","(46)"&'General Project Information'!D534)
B50: Hoke | AH50: =IF('General Project Information'!D545="","","(47)"&'General Project Information'!D545)
B51: Hyde | AH51: =IF('General Project Information'!D556="","","(48)"&'General Project Information'!D556)
B52: Iredell | AH52: =IF('General Project Information'!D567="","","(49)"&'General Project Information'!D567)
B53: Jackson
B54: Johnston
B55: Jones
B56: Lee
B57: Lenoir
B58: Lincoln
B59: Martin
B60: Macon
B61: Madison
B62: Mcdowell
B63: Mecklenburg
B64: Mitchell
... B103: Yancey
