Workbook
Name _BMP2: Picklists!$J$4:$J$10
Name _BMP3: Picklists!$J$4:$J$11
Name _BMP4: [1]Picklists!$K$4:$K$6
Name _BMP4: Picklists!$K$4:$K$6
Name _BMP5: [1]Picklists!$L$4:$L$8
Name _BMP5: Picklists!$L$4:$L$9
Name AddSurWaterDes: [1]Picklists!$G$4:$G$10
Name AddSurWaterDes: Picklists!$G$4:$G$10
Name AEnvConcerns: Picklists!$G$4:$G$11
Name AllClass: Picklists!$AF$4:$AF$23
Name BMP: Picklists!$J$4:$J$8
Name BufferRules: [1]Picklists!$U$4:$U$11
Name BufferRules: Picklists!$U$4:$U$11
Name CAMA: Picklists!$D$4:$D$23
Name DAUnits: Picklists!$AE$4:$AE$5
Name Dissipator: [1]Picklists!$N$4:$N$6
Name Dissipator: Picklists!$N$4:$N$6
Name DitchGeometry: Picklists!$AC$4:$AC$5
Name HydStruc: Picklists!$X$4:$X$23
Name HydStrucBMP: Picklists!$Y$4:$Y$26
Name Imp303d: [1]Picklists!$H$4:$H$23
Name Imp303d: Picklists!$H$4:$H$22
Name Impact_Type: [1]Picklists!$AA$4:$AA$10
Name Impact_Type: Picklists!$AA$4:$AA$10
Name Median: Picklists!$AB$4:$AB$7
Name NC_CAMA_Counties: [1]Picklists!$D$4:$D$23
Name NC_CAMA_Counties: Picklists!$D$4:$D$23
Name NC_Counties: [1]Picklists!$B$4:$B$103
Name NC_Counties: Picklists!$B$4:$B$103
Name OpenWater: [1]Picklists!$T$4:$T$10
Name OpenWater: Picklists!$T$4:$T$10
Name PrimSurWatClass: [1]Picklists!$E$4:$E$16
Name PrimSurWatClass: Picklists!$E$4:$E$16
Name Project_Type: [1]Picklists!$A$4:$A$7
Name Project_Type: Picklists!$A$4:$A$9
Name Riprap: [1]Picklists!$Z$4:$Z$8
Name Riprap: Picklists!$Z$4:$Z$8
Name River_Basins: [1]Picklists!$C$4:$C$20
Name River_Basins: Picklists!$C$4:$C$20
Name RoadImpactType: Picklists!$W$4:$W$6
Name StateSW: Picklists!$Q$4:$Q$6
Name Stream: [1]Picklists!$O$4:$O$5
Name Stream: Picklists!$O$4:$O$5
Name StreamClass: Picklists!$I$4:$I$7
Name SuppClass: [1]Picklists!$F$4:$F$11
Name SuppClass: Picklists!$F$4:$F$11
Name SurfaceWater: Picklists!$AH$4:$AH$52
Name WaterType: Picklists!$R$4:$R$7
Name WetlandType: [1]Picklists!$S$4:$S$18
Name WetlandType: Picklists!$S$4:$S$18
Name YesNo: Picklists!$AG$4:$AG$5
Name YesNoNA: Picklists!$AI$4:$AI$6

Sheet Overview
A1: North Carolina Department of Transportation
A2: Highway Stormwater Program
A3: STORMWATER MANAGEMENT PLAN FOR NCDOT PROJECTS
A5: Overview
A6: Introduction The Stormwater Management Plan (SMP), is used to evaluate and present mitigation efforts for potential stormwater runoff impacts to surface waters. The SMP summarizes project stormwater management information including post-construction stormwater best management practices (BMPs) selected to mitigate stormwater impacts. This information is used to support compliance with the department’s NPDES permit as well as other federal and state environmental permit applications during the design stage of a project. This SMP form was developed for use on NCDOT roadway and bridge replacement projects and is being made available for non-road projects; however, some fields and sheets may not apply.
A7: Instructions Some general guidelines for filling out the SMP follow: The workbook has been distributed with some cells protected in order to preserve formatting and formulas. Cell protection may be removed from each tab by selecting "Unprotect Sheet" under the Excel "Review" ribbon or by clicking "File" on the Excel ribbon and deactivating the "Protect Current Sheet" button under the "Protect Workbook" dropdown. Fill out the applicable worksheets (not all sheets are required for all projects) with yellow tabs as completely as possible. The yellow cells within each worksheet should be filled in by the user. Some fields contain a pull-down list of options, but allow unique values to be entered. Further explanation of terms is provided in one of two ways: (1) click on the yellow cell of interest to display a message that describes what should be entered, or (2) click on the Guidance tab and scroll to the term and corresponding definition of interest for a more complete explanation.
A8: Space is provided at the bottom of each worksheet or at the end of each row to include any additional comments that apply to a given section of the SMP. If needed, additional space can be created by unprotecting the sheet as described above, or by simply attaching additional documentation to the SMP. The SMP should be saved using the following convention: [Project/TIP No.]_HYD_SMP_[YYYYMMDD]. Submittal of SMP To Hydraulics Unit The SMP should be completed and uploaded to the Project’s ‘Hydraulics’ discipline folder on the Preconstruction website: https://connect.ncdot.gov/site/preconstruction/SitePages/Home.aspx prior to the project being LET or awarded. Alternatively, in the event a project is not on the Preconstruction website, the Hydraulics Unit has set up an email service account for submissions and to answer SMP related questions. Please send SMP questions to the service account email: NCDOT_Hydraulics_SMP@ncdot.gov Submission of the SMP in the Microsoft Excel file format is preferred. *** Note that submittal of the SMP to the Hydraulics Unit is not part of any permit approval process.***
A9: Version Number | B9: Revision Date | C9: Revision Summary
A10: 2.0 | B10: 41911 | C10: Released for use.
A11: 2.01 | B11: 41974 | C11: Minor typographic corrections.
A12: 2.02 | B12: 42095 | C12: Clarified Swale and Filter Strip measurement instructions
A13: 2.03 | B13: 42284 | C13: Addition of Submittal Instructions on Overview Tab
A14: 2.04 | B14: 42331 | C14: Clarified fields and instructions on Bridge to Culvert Tab
A15: 2.05 | B15: 42464 | C15: Modified Dissipator Types on PSHs, Energy Diss. Tab
A16: 2.06 | B16: 42530 | C16: Updated Reference Website Links
A17: 2.07 | B17: 42648 | C17: Minor clarifications on Overview & Guidance Tabs, corrected conditional formatting for Forebay volumes
A18: 2.08 | B18: 43206 | C18: Updated Submittal Instructions to the Preconstruction website.
A20: ='General Project Information'!A6 -> (Version 2.08; Released April 2018)

Sheet Guidance
A1: Note: For more information or guidance on the definitions provided below, reference the NCDOT Hydraulics Unit website,
A2: https://connect.ncdot.gov/resources/hydro/Pages/default.aspx
A4: General Guidance
A5: Referenced Documents
A6: North Carolina Department of Transportation (NCDOT) Stormwater Best Management Practices (BMP) Toolbox (2014)
A7: https://connect.ncdot.gov/resources/hydro/Pages/HSPProgramPages.aspx?PGM=BMPT
A8: Federal Highway Administration (FHWA) Hydraulic Engineering Circular No. 14 (HEC-14), Third Edition, July 2006
A9: http://www.fhwa.dot.gov/engineering/hydraulics/pubs/06086/hec14.pdf
A10: General Project Information
A11: WBS Element: | B11: The Work Breakdown Structure (WBS) Element is a unique project identifying number used by NCDOT's SAP management system. All projects have a WBS element.
A12: TIP No.: | B12: If the project is a Transportation Improvement Program (TIP) project, provide the TIP Project Number. If the project is not part of a TIP project, leave the cell blank.
A13: Project Type: | B13: Provide type of project activity.
A14: NCDOT Contact: | B14: Provide contact information for the project NCDOT representative.
A15: Contractor/Designer: | B15: Provide contact information for the project contractor or designer.
A16: City/Town: | B16: Provide either the municipality where the project takes place, or the nearest municipality to the project.
A17: County(ies): | B17: Provide the county where the project takes place. Include more than one county if necessary.
A18: River Basin(s): | B18: Provide the river basin in which the project takes place, from the 17 major river basins identified in North Carolina. Provide more than one river basin if necessary. More information on river basins, including interactive mapping tools, can be found on the North Carolina Department of Environment and Natural Resources (NCDENR) website,
B19: http://www.ncwater.org/?page=4
A20: CAMA County: | B20: Indicates whether the project occurs in a county subject to the Coastal Area Management Act (CAMA), administered by the Coastal Resources Commission. Cell populates based on selection in "County(ies)" cell. The "CAMA Map" tab illustrates these counties. A list of CAMA counties is provided on the North Carolina Division of Coastal Management website,
B21: http://deq.nc.gov/about/divisions/coastal-management/about-coastal-management/cama-counties
A22: Wetlands within Project Limits? | B22: Using the dropdown menu, indicate whether wetlands are present within the project limits.
A23: Project Length: | B23: Provide linear length of entire project. Enter "N/A" for non-road projects.
A24: Surrounding Land Use: | B24: Provide general information on the project area surrounding land uses.
A25: Project Built-Upon Area (BUA): | B25: The portion of a project that is covered by impervious or partially impervious surface including, but not limited to buildings; pavement and gravel areas such as roads, parking lots and paths; and recreation facilities such as tennis courts. Refer to NC Session Law 2006-246 for full definition.
A26: Typical Cross Section: | B26: Provide a brief description of the design or existing typical cross section, including median types and dimensions, if applicable. Enter "N/A" for non-road projects.
A27: Annual Average Daily Traffic (design/future): | B27: Provide the estimated design Annual Average Daily Traffic (AADT) within the project area (20-yr projection, typ.). Provide the year for which this estimation was made. The proposed AADT may be found as part of preliminary roadway design documents. Enter "N/A" for non-road projects.
A28: General Project Information (Continued)
A29: Annual Average Daily Traffic (existing): | B29: Provide the existing Annual Average Daily Traffic (AADT) for the project area and the year in which the estimate was performed. Enter "N/A" for non-road projects. AADT for a roadway may be obtained from NCDOT's Traffic Survey Unit website,
B30: http://www.ncdot.gov/projects/trafficsurvey/
A31: General Project Narrative: (Description of Minimization of Water Quality Impacts) | B31: Provide a summary of the current project area, including reference to NCDOT and non-NCDOT roadways in the project area, and facility type. Describe proposed improvements. Provide a brief description of any stormwater and water quality impacts as well as minimization efforts or mitigation measures utilized as part of the project design. Such efforts may include maximizing vegetative conveyance, minimizing directly connected impervious area (DCIA), minimizing diversion of stormwater, etc. Pressing 'alt + enter' will create a carriage return within the cell and advance the cursor to the next line.
A32: Surface Water Body: | B32: Provide the first named surface water to which runoff from the project area drains. If runoff from the project area drains to an unnamed tributary, provide the first named stream downstream of the unnamed tributary. Surface waters within the project area can be found from 7.5-minute USGS Topographic Maps, among other resources. If there are multiple water bodies, they should each be documented in the additional spaces provided in order according to station.
A33: NCDWR Stream Index: | B33: Provide the North Carolina Division of Water Resources' (NCDWR) stream index number for the water body (previously identified). The stream index can be found in the NCDWR Waterbody Reports. To download Waterbody Reports, refer to the NCDWR Classifications and Standards Unit (CSU) website,
B34: https://deq.nc.gov/river-basin-classification-schedule
A35: NCDWR Surface Water Classification: | B35: Designations applied to surface water bodies by NCDWR which define the best uses to be protected within these waters and carry with them an associated set of water quality standards to protect those uses. Surface water classifications can be found through the environmental documents for the project, as well as from NCDWR's Classifications and Standards Unit (CSU) website,
B36: https://deq.nc.gov/about/divisions/water-resources/planning/classification-standards/classifications
A37: Primary (Surface Water Body Classification): | B37: Provide primary classifications for the water body (previously defined). For example, water bodies classified as WS-I are also protected as Class C. All classifications should be listed in the spaces provided. For more information on primary surface water classifications, refer to,
B38: https://deq.nc.gov/about/divisions/water-resources/planning/classification-standards/classifications
A39: Supplemental (Surface Water Body Classification): | B39: Provide any supplemental classifications for the water body (previously identified) per NCDWR's Classifications and Standards Unit (CSU). For more information on supplemental surface water classifications, refer to,
B40: https://deq.nc.gov/about/divisions/water-resources/planning/classification-standards/classifications
A41: Other Stream Classification: | B41: Provide any surface water classifications as determined by agencies other than NCDWR, including The NC Division of Parks and Recreation, NC Wildlife Resources Commission, the NC Division of Coastal Management, the NC Division of Environmental Health, and the Marine Fisheries Commission. Other surface water classifications are generally listed in the project's environmental documents.
...

Sheet General Project Information
A1: Please fill out all yellow cells as completely as possible. Use pick lists where provided. For more information on the NCDOT Stormwater Management Plan form, please refer to the document, NCDOT Stormwater Best Management Practices Toolbox (2014). | Z1: # pages previous sheets: | AA1: 0
A2: If the project drains to multiple water bodies, please drag the print area down such that Water Bodies 2 through 6 print on Page 2 | Z2: # pages this sheet: | AA2: =COUNT(M7,M37,M82,M127,M172,M217,M262,M307,M352,M397,M442,M487,M532) -> 2
Z3: # pages total: | AA3: =AA2+0 -> 2
A4: North Carolina Department of Transportation
A5: Highway Stormwater Program
A6: (Version 2.08; Released April 2018) | D6: STORMWATER MANAGEMENT PLAN FOR NCDOT PROJECTS
A7: WBS Element: | C7: =D9 -> 37673.3.GV3 | D7: TIP No.: | E7: R-2721 A | G7: County(ies): | H7: =$I$16&" "&$K$16&" "&$M$16&" " -> Wake | L7: Page | M7: 1 | N7: of | O7: 10
D8: General Project Information
A9: WBS Element: | D9: 37673.3.GV3 | F9: TIP Number: | G9: R-2721 A | I9: Project Type: | K9: New Location | M9: Date: | N9: 43803
A10: NCDOT Contact: | D10: Deanna Riffey | H10: Contractor / Designer: | J10: Jeffrey L. Reck, PE
C11: Address: | D11: NCDOT Hydraulics Unit | I11: Address: | J11: Moffatt & Nichol
D12: 1590 Mail Service Center | J12: 4700 Falls of Neuse Rd., Suite 300
D13: Raleigh, NC 27699-1590 | J13: Raleigh, NC 27609
C14: Phone: | D14: (919)707-6151 | I14: Phone: | J14: (919) 781-4626
C15: Email: | D15: driffey@ncdot.gov | I15: Email: | J15: jreck@moffattnichol.com
A16: City/Town: | D16: Holly Springs | H16: County(ies): | I16: Wake
A17: River Basin(s): | D17: Neuse | H17: CAMA County? | I17: =IF(I16="","",IF(ISNA(VLOOKUP(I16,NC_CAMA_Counties,1,FALSE)),"No","Yes")) -> No | K17: =IF(K16="","",IF(ISNA(VLOOKUP(K16,NC_CAMA_Counties,1,FALSE)),"No","Yes")) | M17: =IF(M16="","",IF(ISNA(VLOOKUP(M16,NC_CAMA_Counties,1,FALSE)),"No","Yes"))
A18: Wetlands within Project Limits? | D18: Yes
D19: Project Description
A20: Project Length (lin. miles or feet): | D20: 4.6 | F20: Surrounding Land Use: | H20: Residential
D21: Proposed Project | I21: Existing Site
A22: Project Built-Upon Area (ac.) | D22: 231.7 | G22: ac. | I22: 43.7 | L22: ac.
A23: Typical Cross Section Description: | D23: -L- (I-540) will have grassed median ditch with 8:1 sides slopes, 3 paved lanes with 12' paved shoulders (total width of pavement is 124 feet), outside grass roadway diches with 6:1 sides, and cut and fill slopes have a maximum 2:1 slope. -Y1- (NC 55 Bypass) will have and additional 18' lane and 12' paved shoulder added to the northbound side. Along -Y2- East Williams St. a 10' paved shoulder will be added on the southbound side. Along -Y3- and -Y4- (Sunset Lake Rd) there will be two lanes (11' and 14') in each direction with a center turn lane (16') with 2'-6" curb and gutter. -Y5- (Holly Springs Rd) will have three travel lanes (12', 12', and 11' ) in each direction with a bike lane (5') and 2'-6" curb and gutter. -Y6- (Pierce Olive Rd) will have a 12' lane in each direction with 4' paved shoulders. -Y1- (NC 55 Bypass) will have and additional 18' lane and 12' paved shoulder added to the northbound side. At the instersection of Holly Springs Rd and I-540 there will be a diverging diamond interchange. | I23: Along the existing -Y1- (NC 55 Bypass) there are two lanes witth an 11' and a 12' lane in each direction and paved shoulders. Along the exsiting -Y2- (E Williams St.) there is a lane in each direction each being 11.5' lanes and paved shoulders. -Y3- and -Y4- have a lane in each direction that are 11' with paved shoulders at some locations and curb and gutter at other locations. -Y5- (Holly Springs Rd.) has a 10.5' lane in each direction along with a paved median that varies in width. The proposed I-540 is new location.
A24: Annual Avg Daily Traffic (veh/hr/day): | D24: Design/Future: | E24: 66,400 | G24: Year: | H24: 2040 | I24: Existing: | J24: 20200 | M24: Year: | N24: 2018
A25: General Project Narrative: (Description of Minimization of Water Quality Impacts) | D25: The North Carolina Department of Transportation (NCDOT) has proposed to construct an extension of I-540 from NC 55 (Holly Springs) to US 401 (Fuquay-Varina). Below are a list of minimization efforts associated with water quality impacts. The interchange at NC 55 Bypass and I-540 will feature two additional ramps and relocate an exit loop. There will be a new diverging diamond interchange located at Holly Springs Rd and the new I-540 roadway. At East Williams St. the proposed I-540 will cross above grade. Sunset Lake Road, Holly Springs Rd, and Pierce-Olive road will cross the proposed I-540 above grade. Steps were taken to reduce wetland and stream impacts where possible. Within wetland areas 2:1 slopes are proposed where practical. For any fill slopes located in wetlands toe protection is being installed. Rip rap pads are being used near wetland and jurisdictional areas to minimize the potential for erosion. During the construction process, there will be no staging of construction equipment or storage of construction supplies in jurisdictional wetlands or streams. In addition, any borrow or waste sites will be located outside of jurisdictional areas. Any sediment and erosion control devices will follow the NCDOT procedure for Environmentally Sensitive Areas where required and will be installed as needed throughout the site to promote stability and minimize sedimentation. Grass swales and rip rap dissipate treatments have been designed and utilzed where practical to minimize the impacts to jurisdictional and wetland areas. NCDOT is proposing to bridge the stream at Middle Creek along the proposed I-540 to avoid and minimze impacts to jurisdictional features in the area.
D26: Waterbody Information
A27: Surface Water Body (1): | D27: Middle Creek | H27: NCDWR Stream Index No.: | J27: 27-43-15-(1)
A28: NCDWR Surface Water Classification for Water Body | F28: Primary Classification: | H28: Class C
F29: Supplemental Classification: | H29: Nutrient Sensitive Waters (NSW)
A30: Other Stream Classification:
A31: Impairments:
A32: Aquatic T&E Species? | E32: Comments:
A33: NRTR Stream ID: | D33: SPX | J33: Buffer Rules in Effect: | M33: Neuse
A34: Project Includes Bridge Spanning Water Body? | E34: Yes | F34: Deck Drains Discharge Over Buffer? | I34: No | J34: Dissipator Pads Provided in Buffer? | N34: No
A35: Deck Drains Discharge Over Water Body? | E35: No | F35: (If yes, provide justification in the General Project Narrative) | J35: (If yes, describe in the General Project Narrative; if no, justify in the General Project Narrative)
A36: (If yes, provide justification in the General Project Narrative)
A37: WBS Element: | C37: =$D$9&"" -> 37673.3.GV3 | D37: TIP No.: | E37: =$G$9&"" -> R-2721 A | G37: County(ies): | H37: =$I$16&" "&$K$16&" "&$M$16&" " -> Wake | L37: Page | M37: =IF(D39<>"",MAX('General Project Information'!$M$7)+1,"") -> 2 | N37: of | O37: ='General Project Information'!$O$7 -> 10
D38: Additional Waterbody Information
A39: Surface Water Body (2): | D39: Rocky Branch | H39: NCDWR Stream Index No.: | J39: 27-43-15-4.5
A40: NCDWR Surface Water Classification for Water Body | F40: Primary Classification: | H40: Class C
...

Sheet Swales
A1: Swale Design Guidelines * | S1: # pages previous sheets: | T1: ='General Project Information'!AA3 -> 2
A2: Swale | C2: • Designed to treat Q2 and convey Q10 without erosion and with 6” freeboard | S2: # pages this sheet: | T2: =COUNT(N20,N71,N122,N173,N224,N275) -> 6
C3: • Side slopes 3:1 or flatter | S3: # pages total: | T3: =T2+T1 -> 8
C4: • Long. slope ≥ 0.3% and ≤ 4%
C5: • Q2 veloc ≤ 2 fps
C6: • Q10 veloc ≤ 4 fps
C7: • Base Width ≤ 6 ft
C8: • 100 ft of swale length per acre of DA
A9: Check Dams (Optional) | C9: • 1 ft high along wetted perimeter
C10: • 4.5 ft wide in the direction of flow
C11: • Toe of upstream = top elev. of downstream check
A13: * Design guidelines are outlined for various Best Management Practices (BMPs) as provided in the NCDOT BMP Toolbox (2014). The guidelines listed are intended to provide a general overview of key design elements, but do not include all design criteria, guidelines, or recommendations and are not intended to serve as the sole source of design criteria. The NCDOT BMP Toolbox, NCDOT Standard Details, the Federal Highway Administration (FHWA) Hydraulic Engineering Circular 14 (HEC-14) (July 2006), and any other applicable sources should be referenced for additional information.
A15: Print area may be adjusted to include sheets as needed.
E17: North Carolina Department of Transportation
E18: Highway Stormwater Program
A19: ='General Project Information'!$A$6 -> (Version 2.08; Released April 2018) | E19: STORMWATER MANAGEMENT PLAN FOR NCDOT PROJECTS
A20: WBS Element: | C20: ='General Project Information'!$C$7 -> 37673.3.GV3 | D20: TIP No.: | E20: ='General Project Information'!$E$7 -> R-2721 A | G20: County(ies): | H20: ='General Project Information'!$H$7 -> Wake | M20: Page | N20: 3 | O20: of | P20: ='General Project Information'!$O$7 -> 10
E21: Swales
A22: Sheet No. | B22: Station & Coordinates (Road and Non Road Projects) | C22: Surface Water Body | D22: Base Width (ft) | E22: Front Slope (H:1) | F22: Back Slope (H:1) | G22: Drainage Area (ac) | H22: Recommended Treatm't Length (ft) | I22: Actual Length (ft) | J22: Longitudinal Slope (%) | K22: Q2 (cfs) | L22: V2 (fps) | M22: Q10 (cfs) | N22: V10 (fps) | O22: Rock Checks Used | P22: BMP Associated w/ Buffer Rules?
A23: 5 | B23: -LREV- 18+50 MED | C23: (1)Middle Creek | D23: 0 | E23: 6.03 | F23: 6 | G23: 0.35 | H23: =IF(G23="","",G23*100) -> 35 | I23: 150 | J23: 0.0073 | K23: 1.16 | L23: 1.224 | M23: 1.5 | N23: 1.3 | O23: No | P23: Yes
B24: -LREV- 20+00 MED
A25: 5 | B25: -LREV- 12+00 - LT | C25: (1)Middle Creek | D25: 0 | E25: 4 | F25: 6 | G25: 0.16 | H25: =IF(G25="","",G25*100) -> 16 | I25: 150 | J25: 0.0359 | K25: 0.22 | L25: 1.531 | M25: 0.28 | N25: 1.6 | O25: No | P25: Yes
B26: -LREV- 13+50 - LT
A27: 6 | B27: -LREV- 33+50 MED | C27: (1)Middle Creek | D27: 0 | E27: 6.88 | F27: 4 | G27: 0.35 | H27: =IF(G27="","",G27*100) -> 35 | I27: 150 | J27: 0.0147 | K27: 1.16 | L27: 1.627 | M27: 1.5 | N27: 1.7 | O27: No | P27: Yes
B28: -LREV- 35+00 MED
A29: 6 | B29: -LREV- 38+00 MED | C29: (1)Middle Creek | D29: 0 | E29: 8 | F29: 6.83 | G29: 1.06 | H29: =IF(G29="","",G29*100) -> 106 | I29: 450 | J29: 0.0132 | K29: 3.52 | L29: 1.919 | M29: 4.5 | N29: 2.1 | O29: No | P29: Yes
B30: -LREV- 42+50 MED
A31: 6 | B31: -LREV- 42+50 MED | C31: (1)Middle Creek | D31: 0 | E31: 8 | F31: 7.49 | G31: 1.67 | H31: =IF(G31="","",G31*100) -> 167 | I31: 650 | J31: 0.0106 | K31: 5.62 | L31: 1.964 | M31: 7.1 | N31: 2.1 | O31: No | P31: Yes
B32: -LREV- 49+00 MED
A33: 6 | B33: -LREV- 38+50 RT | C33: (1)Middle Creek | D33: 0 | E33: 6 | F33: 4 | G33: 0.26 | H33: =IF(G33="","",G33*100) -> 26 | I33: 100 | J33: 0.0131 | K33: 0.69 | L33: 1.401 | M33: 0.88 | N33: 1.5 | O33: No | P33: Yes
B34: -LREV- 39+50 RT
A35: 6 | B35: -Y1- 39+00 MED | C35: (1)Middle Creek | D35: 0 | E35: 5 | F35: 3.5 | G35: 0.14 | H35: =IF(G35="","",G35*100) -> 14 | I35: 50 | J35: 0.0033 | K35: 0.51 | L35: 0.801 | M35: 0.6 | N35: 0.8 | O35: No | P35: Yes
B36: -Y1- 39+50 MED
A37: 6 | B37: -Y1- 39+50 MED | C37: (1)Middle Creek | D37: 0 | E37: 5 | F37: 3.6 | G37: 0.17 | H37: =IF(G37="","",G37*100) -> 17 | I37: 100 | J37: 0.0033 | K37: 0.6 | L37: 0.832 | M37: 0.74 | N37: 0.9 | O37: No | P37: Yes
B38: -Y1- 40+50 MED
A39: 6 | B39: -Y1- 40+50 MED | C39: (1)Middle Creek | D39: 0 | E39: 5 | F39: 4.5 | G39: 0.23 | H39: =IF(G39="","",G39*100) -> 23 | I39: 132 | J39: 0.0033 | K39: 0.81 | L39: 0.877 | M39: 1 | N39: 0.9 | O39: No | P39: Yes
B40: -Y1- 41+82 MED
A41: 6 | B41: -Y1- 41+82 MED | C41: (1)Middle Creek | D41: 0 | E41: 5 | F41: 3 | G41: 0.03 | H41: =IF(G41="","",G41*100) -> 3 | I41: 18 | J41: 0.0033 | K41: 0.11 | L41: 0.553 | M41: 0.16 | N41: 0.6 | O41: No | P41: Yes
B42: -Y1- 42+00 MED
A43: 6 | B43: -Y1- 42+00 M | C43: (1)Middle Creek | D43: 0 | E43: 5 | F43: 5 | G43: 0.53 | H43: =IF(G43="","",G43*100) -> 53 | I43: 150 | J43: 0.0047 | K43: 1.9 | L43: 1.225 | M43: 2.4 | N43: 1.3 | O43: No | P43: Yes
...

Sheet Filter Strip
A1: Filter Strip Design Guidelines * | R1: # pages previous sheets: | S1: =Swales!T3 -> 8
A2: Filter Strip | C2: • Long. slope ≥ 2% and ≤ 5% is optimal | R2: # pages this sheet: | S2: =COUNT(J16,J67) -> 0
C3: • Minimum length = 50 ft when filter strip is adjacent to SA waters and 30 ft for other locations | R3: # pages total: | S3: =S2+S1 -> 8
C4: • Drainage area to filter strip surface area ratio ≤ 10:1 recommended
C5: • Slope of the upgrade overland flow path ≤ 5%
C6: • Seasonal high water table ≤ 1 ft lower than any point along the filter strip
C7: • Permissible velocity ≤ 4 fps or grass; ≤ 1 fps for native herbaceous vegetation
A9: * Design guidelines are outlined for various Best Management Practices (BMPs) as provided in the NCDOT BMP Toolbox (2014). The guidelines listed are intended to provide a general overview of key design elements, but do not include all design criteria, guidelines, or recommendations and are not intended to serve as the sole source of design criteria. The NCDOT BMP Toolbox, NCDOT Standard Details, the Federal Highway Administration (FHWA) Hydraulic Engineering Circular 14 (HEC-14) (July 2006), and any other applicable sources should be referenced for additional information.
A10: Please fill out all yellow cells as completely as possible. Use pick lists where provided. See swale design guidelines above. For more information on the NCDOT Stormwater Management Plan form, please refer to the document, NCDOT Stormwater Best Management Practices Toolbox (2014).
A11: Print area may be adjusted to include sheets as needed.
D13: North Carolina Department of Transportation
D14: Highway Stormwater Program
A15: ='General Project Information'!$A$6 -> (Version 2.08; Released April 2018) | D15: STORMWATER MANAGEMENT PLAN FOR NCDOT PROJECTS
A16: WBS Element: | C16: ='General Project Information'!$C$7 -> 37673.3.GV3 | D16: TIP No.: | E16: ='General Project Information'!$E$7 -> R-2721 A | F16: County(ies): | G16: ='General Project Information'!$H$7 -> Wake | I16: Page | J16: =IF(A19<>"",MAX(S1)+1,"") | K16: of | L16: ='General Project Information'!$O$7 -> 10
C17: Filter Strips
A18: Sheet No. | B18: Station & Coordinates (Road and Non Road Projects) | C18: Surface Water Body | D18: Drainage Area (ac) | E18: Surface Area (ac) | F18: Drainage Area: Surface Area Ratio | G18: Actual Length (ft) | H18: Longitudinal Slope (%) | I18: BMP Associated with Buffer Rules?
C19: =IF(AND(A19<>"",'General Project Information'!$D$27<>"",'General Project Information'!$D$39=""),Picklists!$AH$4,"") | F19: =IF(OR(E19="",D19=""),"",(D19/E19))
C21: =IF(AND(A21<>"",'General Project Information'!$D$27<>"",'General Project Information'!$D$39=""),Picklists!$AH$4,"") | F21: =IF(OR(E21="",D21=""),"",(D21/E21))
C23: =IF(AND(A23<>"",'General Project Information'!$D$27<>"",'General Project Information'!$D$39=""),Picklists!$AH$4,"") | F23: =IF(OR(E23="",D23=""),"",(D23/E23))
C25: =IF(AND(A25<>"",'General Project Information'!$D$27<>"",'General Project Information'!$D$39=""),Picklists!$AH$4,"") | F25: =IF(OR(E25="",D25=""),"",(D25/E25))
C27: =IF(AND(A27<>"",'General Project Information'!$D$27<>"",'General Project Information'!$D$39=""),Picklists!$AH$4,"") | F27: =IF(OR(E27="",D27=""),"",(D27/E27))
C29: =IF(AND(A29<>"",'General Project Information'!$D$27<>"",'General Project Information'!$D$39=""),Picklists!$AH$4,"") | F29: =IF(OR(E29="",D29=""),"",(D29/E29))
C31: =IF(AND(A31<>"",'General Project Information'!$D$27<>"",'General Project Information'!$D$39=""),Picklists!$AH$4,"") | F31: =IF(OR(E31="",D31=""),"",(D31/E31))
C33: =IF(AND(A33<>"",'General Project Information'!$D$27<>"",'General Project Information'!$D$39=""),Picklists!$AH$4,"") | F33: =IF(OR(E33="",D33=""),"",(D33/E33))
C35: =IF(AND(A35<>"",'General Project Information'!$D$27<>"",'General Project Information'!$D$39=""),Picklists!$AH$4,"") | F35: =IF(OR(E35="",D35=""),"",(D35/E35))
C37: =IF(AND(A37<>"",'General Project Information'!$D$27<>"",'General Project Information'!$D$39=""),Picklists!$AH$4,"") | F37: =IF(OR(E37="",D37=""),"",(D37/E37))
C39: =IF(AND(A39<>"",'General Project Information'!$D$27<>"",'General Project Information'!$D$39=""),Picklists!$AH$4,"") | F39: =IF(OR(E39="",D39=""),"",(D39/E39))
C41: =IF(AND(A41<>"",'General Project Information'!$D$27<>"",'General Project Information'!$D$39=""),Picklists!$AH$4,"") | F41: =IF(OR(E41="",D41=""),"",(D41/E41))
... C55: =IF(AND(A55<>"",'General Project Information'!$D$27<>"",'General Project Information'!$D$39=""),Picklists!$AH$4,"") | F55: =IF(OR(E55="",D55=""),"",(D55/E55))
D57: Additional Comments
D64: North Carolina Department of Transportation
D65: Highway Stormwater Program
A66: ='General Project Information'!$A$6 -> (Version 2.08; Released April 2018) | D66: STORMWATER MANAGEMENT PLAN FOR NCDOT PROJECTS
A67: WBS Element: | C67: ='General Project Information'!$C$7 -> 37673.3.GV3 | D67: TIP No.: | E67: ='General Project Information'!$E$7 -> R-2721 A | F67: County(ies): | G67: ='General Project Information'!$H$7 -> Wake | I67: Page | J67: =IF(A70<>"",MAX(J16)+1,"") | K67: of | L67: ='General Project Information'!$O$7 -> 10
C68: Filter Strips
A69: Sheet No. | B69: Station & Coordinates (Road and Non Road Projects) | C69: Surface Water Body | D69: Drainage Area (ac) | E69: Surface Area (ac) | F69: Drainage Area: Surface Area Ratio | G69: Actual Length (ft) | H69: Longitudinal Slope (%) | I69: BMP Associated with Buffer Rules?
C70: =IF(AND(A70<>"",'General Project Information'!$D$27<>"",'General Project Information'!$D$39=""),Picklists!$AH$4,"") | F70: =IF(OR(E70="",D70=""),"",(D70/E70))
C72: =IF(AND(A72<>"",'General Project Information'!$D$27<>"",'General Project Information'!$D$39=""),Picklists!$AH$4,"") | F72: =IF(OR(E72="",D72=""),"",(D72/E72))
C74: =IF(AND(A74<>"",'General Project Information'!$D$27<>"",'General Project Information'!$D$39=""),Picklists!$AH$4,"") | F74: =IF(OR(E74="",D74=""),"",(D74/E74))
C76: =IF(AND(A76<>"",'General Project Information'!$D$27<>"",'General Project Information'!$D$39=""),Picklists!$AH$4,"") | F76: =IF(OR(E76="",D76=""),"",(D76/E76))
...

Sheet PSHs, Energy Diss.
A1: Preformed Scour Holes and Energy Dissipators Design Guidelines * | R1: # pages previous sheets: | S1: ='Filter Strip'!S3 -> 8
A2: Preformed Scour Hole (PSH) Design Guidelines* | C2: • 15” pipe, Q10 ≤ 6 cfs | R2: # pages this sheet: | S2: =COUNT(N19,N69,N119,N169) -> 0
C3: • 18” pipe, Q10 ≤ 10 cfs | R3: # pages total: | S3: =S2+S1 -> 8
C4: • PSHs to be used with 15” and 18” pipes and Class B riprap only
C5: • Permanent soil reinforcement matting (PSRM) lined apron and downgrade area must be flat
C6: • Base width and base length = 3 x pipe diam.
C7: • Side slope 2:1 or flatter
C8: • 1 ft ≤ depth ≤ 3 ft
C9: • Meet clear recovery zone requirements outlined in the NDCDOT Roadway Design Manual and locate outside of Zone 2 in buffer areas
A10: General | C10: • Velocities exiting energy dissipators should be ≤ 4 fps
A12: * Design guidelines are outlined for various Best Management Practices (BMPs) as provided in the NCDOT BMP Toolbox (2014). The guidelines listed are intended to provide a general overview of key design elements, but do not include all design criteria, guidelines, or recommendations and are not intended to serve as the sole source of design criteria. The NCDOT BMP Toolbox, NCDOT Standard Details, the Federal Highway Administration (FHWA) Hydraulic Engineering Circular 14 (HEC-14) (July 2006), and any other applicable sources should be referenced for additional information.
A13: Please fill out all yellow cells as completely as possible. Use pick lists where provided. See PSH design guidelines above. For more information on the NCDOT Stormwater Management Plan form, please refer to the document, NCDOT Stormwater Best Management Practices Toolbox (2014). If needed, additional pages are provided in this workbook.
A14: Print area may be adjusted to include sheets as needed.
D16: North Carolina Department of Transportation
D17: Highway Stormwater Program
A18: ='General Project Information'!$A$6 -> (Version 2.08; Released April 2018) | D18: STORMWATER MANAGEMENT PLAN FOR NCDOT PROJECTS
A19: WBS Element: | E19: TIP No.: | F19: ='General Project Information'!$E$7 -> R-2721 A | G19: County(ies): | H19: ='General Project Information'!$H$7 -> Wake | M19: Page | N19: =IF(A22<>"",MAX(S1)+1,"") | O19: of | P19: ='General Project Information'!$O$7 -> 10
D20: Preformed Scour Holes and Energy Dissipators
A21: Sheet No. | B21: Station & Coordinates (Road and Non Road Projects) | C21: Surface Water Body | D21: Energy Dissipator Type | F21: Riprap Type | G21: Drainage Area (ac) | H21: Conveyance Structure | I21: Pipe/Structure Dimensions (in) | K21: Q10 (cfs) | M21: V10 (fps) | O21: BMP Associated w/ Buffer Rules?
C22: =IF(AND(A22<>"",'General Project Information'!$D$27<>"",'General Project Information'!$D$39=""),Picklists!$AH$4,"") | O22: =IF(D22="","",IF(D22<>"PSH","N/A",""))
C24: =IF(AND(A24<>"",'General Project Information'!$D$27<>"",'General Project Information'!$D$39=""),Picklists!$AH$4,"") | O24: =IF(D24="","",IF(D24<>"PSH","N/A",""))
C26: =IF(AND(A26<>"",'General Project Information'!$D$27<>"",'General Project Information'!$D$39=""),Picklists!$AH$4,"") | O26: =IF(D26="","",IF(D26<>"PSH","N/A",""))
C28: =IF(AND(A28<>"",'General Project Information'!$D$27<>"",'General Project Information'!$D$39=""),Picklists!$AH$4,"") | O28: =IF(D28="","",IF(D28<>"PSH","N/A",""))
C30: =IF(AND(A30<>"",'General Project Information'!$D$27<>"",'General Project Information'!$D$39=""),Picklists!$AH$4,"") | O30: =IF(D30="","",IF(D30<>"PSH","N/A",""))
C32: =IF(AND(A32<>"",'General Project Information'!$D$27<>"",'General Project Information'!$D$39=""),Picklists!$AH$4,"") | O32: =IF(D32="","",IF(D32<>"PSH","N/A",""))
C34: =IF(AND(A34<>"",'General Project Information'!$D$27<>"",'General Project Information'!$D$39=""),Picklists!$AH$4,"") | O34: =IF(D34="","",IF(D34<>"PSH","N/A",""))
C36: =IF(AND(A36<>"",'General Project Information'!$D$27<>"",'General Project Information'!$D$39=""),Picklists!$AH$4,"") | O36: =IF(D36="","",IF(D36<>"PSH","N/A",""))
C38: =IF(AND(A38<>"",'General Project Information'!$D$27<>"",'General Project Information'!$D$39=""),Picklists!$AH$4,"") | O38: =IF(D38="","",IF(D38<>"PSH","N/A",""))
C40: =IF(AND(A40<>"",'General Project Information'!$D$27<>"",'General Project Information'!$D$39=""),Picklists!$AH$4,"") | O40: =IF(D40="","",IF(D40<>"PSH","N/A",""))
C42: =IF(AND(A42<>"",'General Project Information'!$D$27<>"",'General Project Information'!$D$39=""),Picklists!$AH$4,"") | O42: =IF(D42="","",IF(D42<>"PSH","N/A",""))
C44: =IF(AND(A44<>"",'General Project Information'!$D$27<>"",'General Project Information'!$D$39=""),Picklists!$AH$4,"") | O44: =IF(D44="","",IF(D44<>"PSH","N/A",""))
... C52: =IF(AND(A52<>"",'General Project Information'!$D$27<>"",'General Project Information'!$D$39=""),Picklists!$AH$4,"") | O52: =IF(D52="","",IF(D52<>"PSH","N/A",""))
D54: Additional Comments
A65: * Refer to the NCDOT Best Management Practices Toolbox (2014), NCDOT Standards, the Federal Highway Administration (FHWA) Hydraulic Engineering Circular No. 14 (HEC-14), Third Edition, Hydraulic Design of Energy Dissipators for Culverts and Channels (July 2006), as applicable, for design guidance and criteria.
D66: North Carolina Department of Transportation
D67: Highway Stormwater Program
A68: ='General Project Information'!$A$6 -> (Version 2.08; Released April 2018) | D68: STORMWATER MANAGEMENT PLAN FOR NCDOT PROJECTS
A69: WBS Element: | E69: TIP No.: | F69: ='General Project Information'!$E$7 -> R-2721 A | G69: County(ies): | H69: ='General Project Information'!$H$7 -> Wake | M69: Page | N69: =IF(A72<>"",MAX(N19)+1,"") | O69: of | P69: ='General Project Information'!$O$7 -> 10
D70: Preformed Scour Holes and Energy Dissipators
A71: Sheet No. | B71: Station & Coordinates (Road and Non Road Projects) | C71: Surface Water Body | D71: Energy Dissipator Type | F71: Riprap Type | G71: Drainage Area (ac) | H71: Conveyance Structure | I71: Pipe/Structure Dimensions (in) | K71: Q10 (cfs) | M71: V10 (fps) | O71: BMP Associated w/ Buffer Rules?
...

Sheet Level Spreader, HSB, & Forebay
A1: BMP Design Guidelines * | S1: # pages previous sheets: | T1: ='PSHs, Energy Diss.'!S3 -> 8
A2: Forebay | C2: • Serves as pretreatment for other downgrade BMP, not a stand-alone BMP | S2: # pages this sheet: | T2: =COUNT(M33,M84,M135) -> 0
C3: • Sized to contain 0.1 in of runoff from the new built-upon area | S3: # pages total: | T3: =T2+T1 -> 8
C4: • Lining adequate to handle V10
C5: • 3 ft ≤ depth ≤ 5 ft
C6: • 2:1 ≤ L:W ratio ≤ 6:1
C7: Sideslopes 2:1 or flatter
C8: • Meet clear recovery zone requirements per NDCDOT Roadway Design Manual
A9: Hazardous Spill Basin | C9: • Meet clear recovery zone requirements outlined in the NDCDOT Roadway Design Manual
C10: • Applied at rural or urban arterials crossing ORWs or WS-I, or if the crossing is within ½ mile of critical area of a WS-II, WS-III, or WS-IV
C11: • Volume = 2-year storm, tc = 10 min., td = 5 min. + 1,550 cf with 1 ft freeboard
C12: • Sideslopes 2:1 or flatter
C13: • Convey 10-year storm without failure or downgrade erosion
C14: • Outlet structure able to stop outflow from basin
A15: Level Spreader | C15: • Meet clear recovery zone requirements outlined in the NDCDOT Roadway Design Manual and locate outside of buffer zones
C16: • Treat runoff from the 1 in/hr storm
C17: • Must pass Q10 without erosion or failure
C18: • Max down grade slope = 5% for forest and 8% for dense ground cover
C19: • Level Spreader length ≥ 10 ft and ≤ 100 ft
C20: • Trough depth ≥ 1.5 ft
C21: • Trough width ≥ 5.5 ft
C22: • Concrete lip extends 4 in. above ground with zero percent grade
C23: • First 3 ft down grade lined with PSRM
C24: • Level spreader length: o Grass or densely vegetated buffer = 10 ft per 1 cfs of flow o Forested buffer 50 ft wide = 50 ft per 1 cfs pf flow
A26: * Design guidelines are outlined for various Best Management Practices (BMPs) as provided in the NCDOT BMP Toolbox (2014). The guidelines listed are intended to provide a general overview of key design elements, but do not include all design criteria, guidelines, or recommendations and are not intended to serve as the sole source of design criteria. The NCDOT BMP Toolbox, NCDOT Standard Details, the Federal Highway Administration (FHWA) Hydraulic Engineering Circular 14 (HEC-14) (July 2006), and any other applicable sources should be referenced for additional information.
A27: Please fill out all yellow cells as completely as possible. Use pick lists where provided. See top of worksheet for design guidelines. For more information on the NCDOT Stormwater Management Plan form, please refer to the document, NCDOT Stormwater Best Management Practices Toolbox (2014). If needed, additional pages are provided in this workbook.
A28: Print area may be adjusted to include sheets as needed.
D30: North Carolina Department of Transportation
D31: Highway Stormwater Program
A32: ='General Project Information'!$A$6 -> (Version 2.08; Released April 2018) | D32: STORMWATER MANAGEMENT PLAN FOR NCDOT PROJECTS
A33: WBS Element: | D33: ='General Project Information'!$C$7 -> 37673.3.GV3 | E33: TIP No.: | F33: ='General Project Information'!$E$7 -> R-2721 A | G33: County(ies): | H33: ='General Project Information'!$H$7 -> Wake | L33: Page | M33: =IF(A36<>"",MAX(T1)+1,"") | N33: of | O33: ='General Project Information'!$O$7 -> 10
D34: Level Spreaders, Hazardous Spill Basins, and Forebays
A35: Sheet No. | B35: Station & Coordinates (Road and Non Road Projects) | C35: Surface Water Body | D35: Level Spreader, Hazardous Spill Basin, or Forebay? | E35: Drainage Area (ac) | F35: New Built-Upon Area (ac) | G35: Required / Minimum Treatment | L35: Treatment Achieved | N35: BMP Associated w/ Buffer Rules?
C36: =IF(AND(A36<>"",'General Project Information'!$D$27<>"",'General Project Information'!$D$39=""),Picklists!$AH$4,"") | G36: =IF(D36="Forebay","0.1 inches of runoff from NBUA",IF(D36="Hazardous Spill Basin","2yr, tc=10 min, td= 5 min storm runoff + 1,550 cf (cf)",IF(D36="Level Spreader","Level Spreader Length (ft)",IF(D36="Other","","")))) | K36: =IF(G36="","",IF(D36="Hazardous Spill Basin","cf",IF(D36="Level Spreader","ft",IF(D36="Dry Detention Basin","cf",IF(D36="Infiltration Basin","cf",IF(D36="Forebay","cf","")))))) | M36: =IF(K36="","",K36) | N36: =IF(D36="","",IF(D36="Level Spreader","","N/A"))
C38: =IF(AND(A38<>"",'General Project Information'!$D$27<>"",'General Project Information'!$D$39=""),Picklists!$AH$4,"") | G38: =IF(D38="Forebay","0.1 inches of runoff from NBUA",IF(D38="Hazardous Spill Basin","2yr, tc=10 min, td= 5 min storm runoff + 1,550 cf (cf)",IF(D38="Level Spreader","Level Spreader Length (ft)",IF(D38="Other","","")))) | K38: =IF(G38="","",IF(D38="Hazardous Spill Basin","cf",IF(D38="Level Spreader","ft",IF(D38="Dry Detention Basin","cf",IF(D38="Infiltration Basin","cf",IF(D38="Forebay","cf","")))))) | M38: =IF(K38="","",K38) | N38: =IF(D38="","",IF(D38="Level Spreader","","N/A"))
C40: =IF(AND(A40<>"",'General Project Information'!$D$27<>"",'General Project Information'!$D$39=""),Picklists!$AH$4,"") | G40: =IF(D40="Forebay","0.1 inches of runoff from NBUA",IF(D40="Hazardous Spill Basin","2yr, tc=10 min, td= 5 min storm runoff + 1,550 cf (cf)",IF(D40="Level Spreader","Level Spreader Length (ft)",IF(D40="Other","","")))) | K40: =IF(G40="","",IF(D40="Hazardous Spill Basin","cf",IF(D40="Level Spreader","ft",IF(D40="Dry Detention Basin","cf",IF(D40="Infiltration Basin","cf",IF(D40="Forebay","cf","")))))) | M40: =IF(K40="","",K40) | N40: =IF(D40="","",IF(D40="Level Spreader","","N/A"))
C42: =IF(AND(A42<>"",'General Project Information'!$D$27<>"",'General Project Information'!$D$39=""),Picklists!$AH$4,"") | G42: =IF(D42="Forebay","0.1 inches of runoff from NBUA",IF(D42="Hazardous Spill Basin","2yr, tc=10 min, td= 5 min storm runoff + 1,550 cf (cf)",IF(D42="Level Spreader","Level Spreader Length (ft)",IF(D42="Other","","")))) | K42: =IF(G42="","",IF(D42="Hazardous Spill Basin","cf",IF(D42="Level Spreader","ft",IF(D42="Dry Detention Basin","cf",IF(D42="Infiltration Basin","cf",IF(D42="Forebay","cf","")))))) | M42: =IF(K42="","",K42) | N42: =IF(D42="","",IF(D42="Level Spreader","","N/A"))
C44: =IF(AND(A44<>"",'General Project Information'!$D$27<>"",'General Project Information'!$D$39=""),Picklists!$AH$4,"") | G44: =IF(D44="Forebay","0.1 inches of runoff from NBUA",IF(D44="Hazardous Spill Basin","2yr, tc=10 min, td= 5 min storm runoff + 1,550 cf (cf)",IF(D44="Level Spreader","Level Spreader Length (ft)",IF(D44="Other","","")))) | K44: =IF(G44="","",IF(D44="Hazardous Spill Basin","cf",IF(D44="Level Spreader","ft",IF(D44="Dry Detention Basin","cf",IF(D44="Infiltration Basin","cf",IF(D44="Forebay","cf","")))))) | M44: =IF(K44="","",K44) | N44: =IF(D44="","",IF(D44="Level Spreader","","N/A"))
C46: =IF(AND(A46<>"",'General Project Information'!$D$27<>"",'General Project Information'!$D$39=""),Picklists!$AH$4,"") | G46: =IF(D46="Forebay","0.1 inches of runoff from NBUA",IF(D46="Hazardous Spill Basin","2yr, tc=10 min, td= 5 min storm runoff + 1,550 cf (cf)",IF(D46="Level Spreader","Level Spreader Length (ft)",IF(D46="Other","","")))) | K46: =IF(G46="","",IF(D46="Hazardous Spill Basin","cf",IF(D46="Level Spreader","ft",IF(D46="Dry Detention Basin","cf",IF(D46="Infiltration Basin","cf",IF(D46="Forebay","cf","")))))) | M46: =IF(K46="","",K46) | N46: =IF(D46="","",IF(D46="Level Spreader","","N/A"))
C48: =IF(AND(A48<>"",'General Project Information'!$D$27<>"",'General Project Information'!$D$39=""),Picklists!$AH$4,"") | G48: =IF(D48="Forebay","0.1 inches of runoff from NBUA",IF(D48="Hazardous Spill Basin","2yr, tc=10 min, td= 5 min storm runoff + 1,550 cf (cf)",IF(D48="Level Spreader","Level Spreader Length (ft)",IF(D48="Other","","")))) | K48: =IF(G48="","",IF(D48="Hazardous Spill Basin","cf",IF(D48="Level Spreader","ft",IF(D48="Dry Detention Basin","cf",IF(D48="Infiltration Basin","cf",IF(D48="Forebay","cf","")))))) | M48: =IF(K48="","",K48) | N48: =IF(D48="","",IF(D48="Level Spreader","","N/A"))
...

Sheet Other BMPs
A1: BMP Design Guidelines * | S1: # pages previous sheets: | T1: ='Level Spreader, HSB, & Forebay'!T3 -> 8
A2: Dry Detention Basin | C2: • Meet clear recovery zone requirements outlined in the NDCDOT Roadway Design Manual | S2: # pages this sheet: | T2: =COUNT(K73,K125,K177) -> 0
C3: • Basin sized to safely convey the 50-year storm with 1ft of freeboard and to maximize treatment based on site constraints | S3: # pages total: | T3: =T2+T1 -> 8
C4: • WQv drawdown period = 2-5 days with 2 in. to 3 in. diameter per orifice(s) outlet
C5: • Outlet structure and/or emergency spillway sized and lined to safely convey the 50-year storm
C6: • L:W of basin ≥ 3:1
C7: • Sideslopes 3:1 or flatter (or else stabilization)
C8: • Embankment ≤ 12 ft high, ≥ 10 ft wide, and impounds ≤ 10 ac-ft
C9: • Basin Volume ≤ 10 acre-feet
C10: • Basin bottom ≥ 2 ft above high groundwater level
A11: Infiltration Basin | C11: • Meet clear recovery zone requirements outlined in the NDCDOT Roadway Design Manual
C12: • DA ≤ 5 acres (recommended)
C13: • Sized to maximize treatment based on site constraints and contain or convey the 50-year storm with 1ft freeboard
C14: • WQv drawdown period ≤ 5 days
C15: • Bypass structure passes 10-year storm to stable conveyance
C16: • 50 ft from tidal waters, SA waters, 30 ft from all other waters, 100 ft from water supply wells
C17: • Basin bottom 2 ft above high groundwater
C18: • Basin bottom 3 ft above bedrock or impervious soil layer
C19: • Hydraulic conductivity of soil ≥ 0.52 in/hr
C20: • Sideslopes 3:1 or flatter
C21: • Embankment ≤ 12 ft high, ≥ 10 ft wide
A22: Media Filter - Bioretention Basin | C22: • Meet clear recovery zone requirements outlined in the NDCDOT Roadway Design Manual
C23: • DA ≤ 5 acres, DA slopes should generall be < 20%
C24: • 50 ft from SA waters, 30 ft from all other waters, 100 ft from water supply wells
C25: • Basin bottom 2 ft above high groundwater
C26: • Sized to maximize treatment based on site constraints
C27: • Maximum ponding depth ≤ 12 in
C28: • Ponded water should infiltrate into media within 12 hours; top 24 in of media (entire media if <24 in) should drain within 48 hours
C29: • Hydraulic conductivity of media ≥ 0.52 in/hr and ≤ 6 in/hr, but 1-2 in/hr is ideal
C30: • Underdrain consisting of minimum 6-in peforated plastic pipe with filter sock; branches spaced 10 ft maximum
C31: • L:W of basin ≥ 2:1
C32: • Sideslopes 3:1 or flatter
C33: • Embankment ≤ 12 ft high, ≥ 10 ft wide
A34: Media Filter - Filtration Basin | C34: • Meet clear recovery zone requirements outlined in the NDCDOT Roadway Design Manual
C35: • DA ≤ 5 acres, DA slopes should generall be < 20%
C36: • 50 ft from tidal waters, SA waters, 30 ft from all other waters, 100 ft from water supply wells
C37: • Basin bottom 2 ft above high groundwater
C38: • Sized to maximize treatment based on site constraints
C39: • Maximum ponding depth ≥ 12 in and ≤ 36 in
C40: • Ponded water should infiltrate into media within 24 hours; top 24 in of media (entire media if <24 in) should drain within 48 hours
...

Sheet Bridge to Culvert
A1: Please fill out all yellow cells as completely as possible. Use pick lists where provided. For more information on the NCDOT Stormwater Management Plan form, please refer to the document, NCDOT Stormwater Best Management Practices Toolbox (2014). | Z1: # pages previous sheets: | AA1: ='Other BMPs'!T3 -> 8
D2: North Carolina Department of Transportation | Z2: # pages this sheet: | AA2: =COUNT(J5) -> 0
D3: Highway Stormwater Program | Z3: # pages total: | AA3: =AA2+AA1 -> 8
A4: ='General Project Information'!$A$6 -> (Version 2.08; Released April 2018) | D4: STORMWATER MANAGEMENT PLAN FOR NCDOT PROJECTS
A5: WBS Element: | C5: ='General Project Information'!$C$7 -> 37673.3.GV3 | D5: TIP No.: | E5: ='General Project Information'!$E$7 -> R-2721 A | F5: County(ies): | G5: ='General Project Information'!$H$7 -> Wake | I5: Page | J5: =IF(D8<>"",MAX(AA1)+1,"") | K5: of | L5: ='General Project Information'!$O$7 -> 10
A6: Bridge to Culvert Avoidance and Minimization
A7: Proposed Structure Summary
A8: Sheet No. & Station | C8: Sheet No.: | E8: Station: | G8: Number of Barrels:
A9: Drainage Area (ac or sq mi): | G9: Barrel Width/Diameter (ft):
A10: Surface Water Body: | D10: =IF(AND('General Project Information'!$D$27<>"",'General Project Information'!$D$39=""),Picklists!$AH$4,"") | G10: Barrel Height (ft):
A11: Culvert Type: | G11: Culvert Length (ft)
A12: Avoidance and Minimization Efforts: (Bridge to Culvert)
A13: Stream Slope | G13: Fish and/or Aquatic Life Passage
A14: Existing Average Stream Slope (%): | F14: % | G14: Existing Low Flow Channel Dimensions in the Stream:
A15: Proposed Culvert Slope (%): | F15: %
A16: Culvert Burial
A17: Proposed Culvert Burial Depth (ft):
A18: Existing Streambed Material: | G18: Proposed Low Flow Dimensions Through the Culvert:
A20: Proposed Sills/Baffles:
G21: Existing Low Flow Velocities in the Stream (ft/s):
G23: Proposed Low Flow Velocities Through the Culvert (ft/s):
G25: Alternating Low Flow Sills/Baffles:
A29: Culvert/Stream Alignment
A30: Stream Patterns Upstream and Downstream of the Culvert that Could Affect Fish Passage and Bank Stability:
A33: Bed Forms Impacted by Culvert (riffles, pools, glides, etc.):
A35: Low Flow Floodplain Bench Required? (provide justification)
A37: Bends at Inlet/Outlet? (describe culvert alignment with stream)
A39: Stream Realignment Necessary? (provide justification)
A41: Bank Stabilization:
A43: Outlet Velocities
A44: Natural Stream Channel 2-yr Velocity (ft/s): | G44: Natural Stream Channel 10-yr Velocity (ft/s):
A45: Proposed Culvert 2-yr Outlet Velocity (ft/s): | G45: Proposed Culvert 10-yr Outlet Velocity (ft/s):
A46: Roadway Geometric Considerations
A47: Evaluate/Describe Roadway Geometric Constraints:

Sheet CAMA Map
A1: Map A. North Carolina Coastal Counties subject to the Coastal Area Management Act (CAMA)
A2: Note: Map prepared using NCDOT's Environmental Sensitivity Maps (ESM).

Sheet Picklists
A1: Picklists
A2: Project Type | B2: NC Counties | C2: NC River Basins | D2: NC River Basins | E2: Primary Surface Water Classifications | F2: DWR Supplemental Classifications | G2: Additional Surface Water Designations Determined By Other Agencies | H2: 303(d) Impairments | I2: Jurisdictional Stream Classifications | J2: NCDOT BMP Type 1 of 3 | K2: NCDOT BMP Type 2 of 3 | L2: NCDOT BMP Type 3 of 3 | M2: Minimum Treatment Volume | N2: Energy Dissipator | O2: Yes/No | P2: Terminus South or East | Q2: State SW Permit Required b/c | R2: Water Type | S2: Wetland Type | T2: OpenWater | U2: Buffer Rules | V2: Buffer Impact - Allowable or Mitigable? | W2: Road Impact Type | X2: Hydraulic Structures | Y2: Hydraulic Structures for BMPs | Z2: Riprap | AA2: Impact Type | AB2: Median Type | AC2: Ditch Geometry | AD2: Design Requirement | AE2: Drainage Area Units | AF2: All Surface Water Classifications | AG2: Yes/No | AH2: Surface Water Body | AI2: Yes, No, N/A
A3: Project Type | B3: NC Counties | C3: River_Basins | D3: NC_CAMA_Counties | E3: PrimSurWatClass | F3: SuppClass | G3: AddSurWaterDes | H3: Imp303d | I3: StreamClass | J3: BMP | K3: BMP4 | L3: BMP5 | M3: MinTreatmentVolume | N3: Dissipator | O3: Stream | P3: TermSE | Q3: StateSW | R3: WaterType | S3: WetlandType | T3: OpenWater | U3: BufferRules | V3: AllMit | W3: ImpactType | X3: HydStruc | Y3: HydStrucBMP | Z3: Riprap | AA3: Impact Type | AB3: Median | AC3: DitchGeometry | AD3: DesignRequirement | AE3: DAUnits | AF3: AllClass | AG3: YesNo | AH3: SurfaceWater | AI3: YesNoNA
A4: Roadway Widening | B4: Alamance | C4: Broad | D4: Beaufort | E4: None | F4: None | G4: None | H4: None | I4: None | J4: Dry Detention Basin | K4: Forebay | L4: Bioretention Basin | M4: WQv | N4: PSH | O4: Intermittent | P4: South | Q4: Project requires an Erosion and Sediment Control Plan and is in a coastal county | R4: Buffer | S4: Bottomland Hardwood | T4: Bay | U4: N/A | V4: Allowable | W4: Bridge | X4: 2 Grated Inlet | Y4: 2 Grated Inlet | Z4: N/A | AA4: Clearing | AB4: Concrete Barrier | AC4: V | AD4: WQv (ac-ft) | AE4: Acres | AF4: Class C | AG4: Yes | AH4: =IF('General Project Information'!D27="","","(1)"&'General Project Information'!D27) -> (1)Middle Creek | AI4: Yes
A5: Roadway Relocation | B5: Alexander | C5: Cape Fear | D5: Bertie | E5: Class C | F5: Future Water Supply (FWS) | G5: NC Natural and Scenic Rivers | H5: ammonia (NH3) | I5: TNW | J5: Forebay | K5: Hazardous Spill Basin | L5: Dry Detention Basin | M5: 10% of WQv | N5: Riprap Energy Dissipator Basin | O5: Perennial | P5: East | Q5: Project requires an Erosion and Sediment Control Plan and drains to an ORW or HQW | R5: Stream | S5: Floodplain Pool | T5: Estuary | U5: Neuse | V5: Mitigable | W5: Parallel Impact | X5: Berm Drainage Outlet Structure | Y5: Berm Drainage Outlet Structure | Z5: Class 'A' | AA5: Culvert | AB5: Grass | AC5: Trapezoidal | AD5: 10% of WQv (ac-ft) | AE5: Sq. Miles | AF5: Class B | AG5: No | AH5: =IF('General Project Information'!D39="","","(2)"&'General Project Information'!D39) -> (2)Rocky Branch | AI5: No
A6: New Location | B6: Alleghany | C6: Catawba | D6: Brunswick | E6: Class B | F6: High Quality Waters (HQW) | G6: Federal Wild and Scenic Rivers | H6: aquatic weeds | I6: RPW | J6: Hazardous Spill Basin | K6: Level Spreader | L6: Filtration Basin | M6: 2-year, 5 min. design storm + 10,000 gal (~1337 cf) | Q6: Project disturbs less than 1 acre but requires a CAMA Major Permit | R6: Wetland | S6: Hardwood Flat | T6: Lake | U6: Tar-Pamlico | W6: Road Crossing | X6: Catch Basin | Y6: Catch Basin | Z6: Class 'B' | AA6: Dam Construction | AB6: Raised | AD6: 2yr, 5min storm runoff + 10,000 gal (cf) | AF6: Water Supply I (WS-I) | AH6: =IF('General Project Information'!D50="","","(3)"&'General Project Information'!D50) | AI6: N/A
A7: Bridge Replacement | B7: Anson | C7: Chowan | D7: Camden | E7: Water Supply I (WS-I) | F7: Outstanding Resource Waters (ORW) | G7: Designated Public Mountain Trout Waters | H7: biological impairment | I7: NON-RPW | J7: Infiltration Basin | L7: Infiltration Basin | M7: Level Spreader Length | R7: Open Water | S7: Headwater Wetland | T7: Ocean | U7: Catawba | W7: Other | X7: Culvert | Y7: Culvert | Z7: Class I | AA7: Excavation | AB7: Swale | AD7: WQv (ac-ft) | AF7: Water Supply II (WS-II) | AH7: =IF('General Project Information'!D61="","","(4)"&'General Project Information'!D61)
A8: Non-Road Facility | B8: Ashe | C8: French Broad | D8: Carteret | E8: Water Supply II (WS-II) | F8: Nutrient Sensitive Waters (NSW) | G8: Areas of Environmental Concern | H8: chlorides | J8: Level Spreader | L8: Stormwater Wetland | S8: Mountain Bog | T8: Pond | U8: Randleman Lake | X8: Drop Inlet | Y8: Diffuse (Sheet) Flow | Z8: Class II | AA8: Fill | AD8: Lever Spreader Length (ft) | AF8: Water Supply III (WS-III) | AH8: =IF('General Project Information'!D72="","","(5)"&'General Project Information'!D72)
A9: Other | B9: Avery | C9: Hiwassee | D9: Chowan | E9: Water Supply III (WS-III) | F9: Swamp Waters (Sw) | G9: Designated Shellfish Harvesting Areas | H9: chlorophyll a | J9: PFSH | L9: Wet Detention Basin | S9: Non-Riverine Swamp Forest | T9: Sound | U9: Jordan Lake | X9: Endwall | Y9: Ditch | AA9: Flooding | AF9: Water Supply IV (WS-IV) | AH9: =IF('General Project Information'!D84="","","(6)"&'General Project Information'!D84)
B10: Beaufort | C10: Little Tennessee | D10: Craven | E10: Water Supply IV (WS-IV) | F10: Trout Waters (Tr) | G10: Primary Nursery Areas | H10: copper (Cu) | J10: Swale | S10: Non-Tidal Freshwater Marsh | T10: Other | U10: Goose Creek | X10: Equalizer Pipe | Y10: Drop Inlet | AA10: Stabilization | AF10: Water Supply V (WS-V) | AH10: =IF('General Project Information'!D95="","","(7)"&'General Project Information'!D95)
B11: Bertie | C11: Lumber | D11: Currituck | E11: Water Supply V (WS-V) | F11: Unique Wetland (UWL) | H11: dissolved oxygen (DO) | J11: N/A | S11: Pine Flat | U11: Other | X11: Grated Drop Inlet | Y11: Endwall | AF11: Class WL | AH11: =IF('General Project Information'!D106="","","(8)"&'General Project Information'!D106)
B12: Bladen | C12: Neuse | D12: Dare | E12: Class WL | H12: fecal coliform | S12: Pine Savanna | X12: Grated Drop Inlet (Narrow Slot) | Y12: Equalizer Pipe | AF12: Class SC | AH12: =IF('General Project Information'!D117="","","(9)"&'General Project Information'!D117)
B13: Brunswick | C13: New | D13: Gates | E13: Class SC | H13: iron (Fe) | S13: Pocosin | X13: Junction Box | Y13: Grated Drop Inlet | AF13: Class SB | AH13: =IF('General Project Information'!D129="","","(10)"&'General Project Information'!D129)
B14: Buncombe | C14: Pasquotank | D14: Hertford | E14: Class SB | H14: lead (Pb) | S14: Riverine Swamp Forest | X14: Manhole | Y14: Grated Drop Inlet (Narrow Slot) | AF14: Class SA | AH14: =IF('General Project Information'!D140="","","(11)"&'General Project Information'!D140)
B15: Burke | C15: Roanoke | D15: Hyde | E15: Class SA | H15: mercury (Hg) | S15: Seep | X15: Narrow Drop Inlet | Y15: Junction Box | AF15: Class SWL | AH15: =IF('General Project Information'!D151="","","(12)"&'General Project Information'!D151)
B16: Cabarrus | C16: Savannah | D16: New Hanover | E16: Class SWL | H16: nutrients | S16: Small-Basin Wetland | X16: Open End Pipe | Y16: Manhole | AF16: Other | AH16: =IF('General Project Information'!D162="","","(13)"&'General Project Information'!D162)
B17: Caldwell | C17: Tar-Pamlico | D17: Onslow | E17: Other | H17: pH | S17: Tidal Freshwater Marsh | X17: Open Throat Catch Basin | Y17: Narrow Drop Inlet | AF17: Future Water Supply (FWS) | AH17: =IF('General Project Information'!D174="","","(14)"&'General Project Information'!D174)
B18: Camden | C18: Watauga | D18: Pamlico | H18: sediment | S18: Unknown | X18: Preformed Scour Hole | Y18: Open End Pipe | AF18: High Quality Waters (HQW) | AH18: =IF('General Project Information'!D185="","","(15)"&'General Project Information'!D185)
B19: Carteret | C19: White Oak | D19: Pasquotank | H19: toxicity | X19: Reinforced Concrete Box Culvert | Y19: Open Throat Catch Basin | AF19: Outstanding Resource Waters (ORW) | AH19: =IF('General Project Information'!D196="","","(16)"&'General Project Information'!D196)
